{
 "currentVersion": 11.4,
 "serviceDescription": "Hosted/20020828_CMR_0m64_QB02_Kolofata",
 "name": "Hosted/20020828_CMR_0m64_QB02_Kolofata",
 "description": "",
 "extent": {
  "xmin": 1547735.2157000005,
  "ymin": 1246773.9833128967,
  "xmax": 1563022.4319400836,
  "ymax": 1253768.0756000017,
  "spatialReference": {
   "wkid": 102100,
   "latestWkid": 3857
  }
 },
 "initialExtent": {
  "xmin": 1547735.2157000005,
  "ymin": 1246773.9833128967,
  "xmax": 1563022.4319400836,
  "ymax": 1253768.0756000017,
  "spatialReference": {
   "wkid": 102100,
   "latestWkid": 3857
  }
 },
 "fullExtent": {
  "xmin": 1547735.2157000005,
  "ymin": 1246773.9833128967,
  "xmax": 1563022.4319400836,
  "ymax": 1253768.0756000017,
  "spatialReference": {
   "wkid": 102100,
   "latestWkid": 3857
  }
 },
 "sortableFields": "",
 "bandCount": 3,
 "pixelType": "U8",
 "minValues": [
  1,
  1,
  1
 ],
 "maxValues": [
  255,
  255,
  255
 ],
 "meanValues": [
  126.44292132387099,
  127.22145505680614,
  106.58589329330638
 ],
 "stdvValues": [
  34.9387515194154,
  23.564833565638324,
  21.371532527134534
 ],
 "hasMultidimensions": false,
 "pixelSizeX": 0.6011252502883528,
 "pixelSizeY": 0.6011252502883577,
 "meanPixelSize": 0.6011252502883553,
 "datasetFormat": "Cache/LERC2D",
 "uncompressedSize": 887669055,
 "blockWidth": 256,
 "blockHeight": 256,
 "compressionType": "LERC2D",
 "bandNames": [
  "Band_1",
  "Band_2",
  "Band_3"
 ],
 "allowCopy": true,
 "allowAnalysis": true,
 "itemAccess": false,
 "inspectionCapabilities": "",
 "minPixelSize": 0,
 "maxPixelSize": 0,
 "copyrightText": "",
 "serviceDataType": "esriImageServiceDataTypeRGB",
 "serviceSourceType": "esriImageServiceSourceTypeDataset",
 "objectIdField": "",
 "fields": [],
 "capabilities": "Image, Metadata",
 "defaultMosaicMethod": "Center",
 "allowedMosaicMethods": "",
 "sortField": "",
 "sortValue": null,
 "sortAscending": true,
 "mosaicOperator": "First",
 "defaultCompressionQuality": 75,
 "defaultResamplingMethod": "Bilinear",
 "maxImageHeight": 4100,
 "maxImageWidth": 15000,
 "singleFusedMapCache": true,
 "tileInfo": {
  "rows": 256,
  "cols": 256,
  "dpi": 96,
  "format": "LERC2D",
  "compressionQuality": 100000,
  "lercError": 0.1,
  "origin": {
   "x": 1547735.2157000005,
   "y": 1253768.0756000017
  },
  "spatialReference": {
   "wkid": 102100,
   "latestWkid": 3857
  },
  "lods": [
   {
    "level": 0,
    "resolution": 38.47201601845458,
    "scale": 145405.75398206947
   },
   {
    "level": 1,
    "resolution": 19.23600800922729,
    "scale": 72702.87699103473
   },
   {
    "level": 2,
    "resolution": 9.618004004613645,
    "scale": 36351.43849551737
   },
   {
    "level": 3,
    "resolution": 4.809002002306823,
    "scale": 18175.719247758683
   },
   {
    "level": 4,
    "resolution": 2.4045010011534114,
    "scale": 9087.859623879342
   },
   {
    "level": 5,
    "resolution": 1.2022505005767057,
    "scale": 4543.929811939671
   },
   {
    "level": 6,
    "resolution": 0.6011252502883528,
    "scale": 2271.9649059698354
   }
  ]
 },
 "storageInfo": {
  "storageFormat": "esriMapCacheStorageModeCompactV2",
  "packetSize": 16
 },
 "cacheType": "Raster",
 "allowRasterFunction": true,
 "rasterFunctionInfos": [
  {
   "name": "None",
   "description": "",
   "help": ""
  }
 ],
 "rasterTypeInfos": [
  {
   "name": "Raster Dataset",
   "description": "Supports all ArcGIS Raster Datasets",
   "help": ""
  }
 ],
 "mensurationCapabilities": "Basic",
 "hasHistograms": true,
 "hasColormap": false,
 "hasRasterAttributeTable": false,
 "minScale": 0,
 "maxScale": 0,
 "exportTilesAllowed": false,
 "supportsStatistics": false,
 "supportsAdvancedQueries": false,
 "editFieldsInfo": null,
 "ownershipBasedAccessControlForRasters": null,
 "allowComputeTiePoints": false,
 "useStandardizedQueries": true,
 "advancedQueryCapabilities": {
  "useStandardizedQueries": true,
  "supportsStatistics": false,
  "supportsOrderBy": false,
  "supportsDistinct": false,
  "supportsPagination": false
 },
 "spatialReference": {
  "wkid": 102100,
  "latestWkid": 3857
 }
}
