{
 "currentVersion": 11.5,
 "serviceDescription": "Hosted/20030119_CMR_0m64_QB02_Moskota",
 "serviceItemId": "16ce6d3d9d37408490ec45608ef01c05",
 "name": "Hosted/20030119_CMR_0m64_QB02_Moskota",
 "description": "",
 "extent": {
  "xmin": 1539680.738434342,
  "ymin": 1224243.9786136157,
  "xmax": 1547324.1657060501,
  "ymax": 1227740.8208069743,
  "spatialReference": {
   "wkid": 102100,
   "latestWkid": 3857
  }
 },
 "initialExtent": {
  "xmin": 1539680.738434342,
  "ymin": 1224243.9786136157,
  "xmax": 1547324.1657060501,
  "ymax": 1227740.8208069743,
  "spatialReference": {
   "wkid": 102100,
   "latestWkid": 3857
  }
 },
 "fullExtent": {
  "xmin": 1539680.738434342,
  "ymin": 1224243.9786136157,
  "xmax": 1547324.1657060501,
  "ymax": 1227740.8208069743,
  "spatialReference": {
   "wkid": 102100,
   "latestWkid": 3857
  }
 },
 "sortableFields": "",
 "bandCount": 3,
 "pixelType": "U8",
 "minValues": [
  1,
  1,
  1
 ],
 "maxValues": [
  255,
  255,
  255
 ],
 "meanValues": [
  142.12664016051878,
  135.65982116983932,
  131.95623277108137
 ],
 "stdvValues": [
  20.01425069295634,
  18.69114719498737,
  18.76501160579258
 ],
 "serviceProperties": "Center<\/MosaicMethod>First<\/MosaicOperator>true<\/SortAscending><\/LockImageID><\/TileOrderField>0<\/TileOrderBase>0.000000<\/AvgImageSpacingX>0.000000<\/AvgImageSpacingY>0.0<\/ViewPointX>0.0<\/ViewPointY>0.0<\/ViewPointDefShiftX>0.0<\/ViewPointDefShiftY>None<\/CompressionMethod>75<\/CompressionQuality>0.010000<\/CompressionTolerance>Bilinear<\/SamplingMethod><\/ImageServiceProperties><\/ImageServer>",
 "allowedFields": "",
 "hasMultidimensions": false,
 "pixelSizeX": 0.6066693604022658,
 "pixelSizeY": 0.6066693604022515,
 "meanPixelSize": 0.6066693604022586,
 "datasetFormat": "Cache/LERC2D",
 "uncompressedSize": 217861908,
 "blockWidth": 256,
 "blockHeight": 256,
 "compressionType": "LERC2D",
 "bandNames": [
  "Band_1",
  "Band_2",
  "Band_3"
 ],
 "allowCopy": true,
 "allowAnalysis": true,
 "itemAccess": false,
 "inspectionCapabilities": "",
 "minPixelSize": 0,
 "maxPixelSize": 0,
 "copyrightText": "",
 "serviceDataType": "esriImageServiceDataTypeRGB",
 "serviceSourceType": "esriImageServiceSourceTypeDataset",
 "objectIdField": "",
 "fields": [],
 "capabilities": "Image, Metadata",
 "defaultMosaicMethod": "Center",
 "allowedMosaicMethods": "",
 "sortField": "",
 "sortValue": null,
 "sortAscending": true,
 "mosaicOperator": "First",
 "defaultCompressionQuality": 75,
 "defaultResamplingMethod": "Bilinear",
 "maxImageHeight": 4100,
 "maxImageWidth": 15000,
 "singleFusedMapCache": true,
 "tileInfo": {
  "rows": 256,
  "cols": 256,
  "dpi": 96,
  "format": "LERC2D",
  "compressionQuality": 100000,
  "lercError": 0.1,
  "origin": {
   "x": 1539680.738434342,
   "y": 1227740.8208069743
  },
  "spatialReference": {
   "wkid": 102100,
   "latestWkid": 3857
  },
  "lods": [
   {
    "level": 0,
    "resolution": 19.413419532872506,
    "scale": 73373.40739288229
   },
   {
    "level": 1,
    "resolution": 9.706709766436253,
    "scale": 36686.703696441145
   },
   {
    "level": 2,
    "resolution": 4.853354883218127,
    "scale": 18343.351848220573
   },
   {
    "level": 3,
    "resolution": 2.4266774416090633,
    "scale": 9171.675924110286
   },
   {
    "level": 4,
    "resolution": 1.2133387208045316,
    "scale": 4585.837962055143
   },
   {
    "level": 5,
    "resolution": 0.6066693604022658,
    "scale": 2292.9189810275716
   }
  ]
 },
 "storageInfo": {
  "storageFormat": "esriMapCacheStorageModeCompactV2",
  "packetSize": 16
 },
 "cacheType": "Raster",
 "allowRasterFunction": true,
 "rasterFunctionInfos": [
  {
   "name": "None",
   "description": "",
   "help": ""
  }
 ],
 "rasterTypeInfos": [
  {
   "name": "Raster Dataset",
   "description": "Supports all ArcGIS Raster Datasets",
   "help": ""
  }
 ],
 "mensurationCapabilities": "Basic",
 "hasHistograms": true,
 "hasColormap": false,
 "hasRasterAttributeTable": false,
 "minScale": 0,
 "maxScale": 0,
 "exportTilesAllowed": false,
 "supportsStatistics": false,
 "supportsAdvancedQueries": false,
 "editFieldsInfo": null,
 "ownershipBasedAccessControlForRasters": null,
 "allowComputeTiePoints": false,
 "useStandardizedQueries": true,
 "advancedQueryCapabilities": {
  "useStandardizedQueries": true,
  "supportsStatistics": false,
  "supportsOrderBy": false,
  "supportsDistinct": false,
  "supportsPagination": false
 },
 "spatialReference": {
  "wkid": 102100,
  "latestWkid": 3857
 }
}
