{
 "currentVersion": 11.5,
 "serviceDescription": "Hosted/20050609_NER_0m62_QB02_GarinDogo_Clip",
 "serviceItemId": "eead313b677f4b1fba4e9ba89176dcd5",
 "name": "Hosted/20050609_NER_0m62_QB02_GarinDogo_Clip",
 "description": "",
 "extent": {
  "xmin": 1423302.8899794219,
  "ymin": 1510326.1590953462,
  "xmax": 1426921.1333615438,
  "ymax": 1512074.936093882,
  "spatialReference": {
   "wkid": 102100,
   "latestWkid": 3857
  }
 },
 "initialExtent": {
  "xmin": 1423302.8899794219,
  "ymin": 1510326.1590953462,
  "xmax": 1426921.1333615438,
  "ymax": 1512074.936093882,
  "spatialReference": {
   "wkid": 102100,
   "latestWkid": 3857
  }
 },
 "fullExtent": {
  "xmin": 1423302.8899794219,
  "ymin": 1510326.1590953462,
  "xmax": 1426921.1333615438,
  "ymax": 1512074.936093882,
  "spatialReference": {
   "wkid": 102100,
   "latestWkid": 3857
  }
 },
 "sortableFields": "",
 "bandCount": 3,
 "pixelType": "U8",
 "minValues": [
  1,
  1,
  1
 ],
 "maxValues": [
  255,
  255,
  255
 ],
 "meanValues": [
  214.91819481784734,
  205.46300118178556,
  201.28169209068358
 ],
 "stdvValues": [
  22.56192810707987,
  22.86329305235611,
  22.142806332777138
 ],
 "serviceProperties": "Center<\/MosaicMethod>First<\/MosaicOperator>true<\/SortAscending><\/LockImageID><\/TileOrderField>0<\/TileOrderBase>0.000000<\/AvgImageSpacingX>0.000000<\/AvgImageSpacingY>0.0<\/ViewPointX>0.0<\/ViewPointY>0.0<\/ViewPointDefShiftX>0.0<\/ViewPointDefShiftY>None<\/CompressionMethod>75<\/CompressionQuality>0.010000<\/CompressionTolerance>Bilinear<\/SamplingMethod><\/ImageServiceProperties><\/ImageServer>",
 "allowedFields": "",
 "hasMultidimensions": false,
 "pixelSizeX": 0.6095423487402126,
 "pixelSizeY": 0.6095423487402335,
 "meanPixelSize": 0.6095423487402231,
 "datasetFormat": "Cache/LERC2D",
 "uncompressedSize": 51091152,
 "blockWidth": 256,
 "blockHeight": 256,
 "compressionType": "LERC2D",
 "bandNames": [
  "Band_1",
  "Band_2",
  "Band_3"
 ],
 "allowCopy": true,
 "allowAnalysis": true,
 "itemAccess": false,
 "inspectionCapabilities": "",
 "minPixelSize": 0,
 "maxPixelSize": 0,
 "copyrightText": "",
 "serviceDataType": "esriImageServiceDataTypeRGB",
 "serviceSourceType": "esriImageServiceSourceTypeDataset",
 "objectIdField": "",
 "fields": [],
 "capabilities": "Image, Metadata",
 "defaultMosaicMethod": "Center",
 "allowedMosaicMethods": "",
 "sortField": "",
 "sortValue": null,
 "sortAscending": true,
 "mosaicOperator": "First",
 "defaultCompressionQuality": 75,
 "defaultResamplingMethod": "Bilinear",
 "maxImageHeight": 4100,
 "maxImageWidth": 15000,
 "singleFusedMapCache": true,
 "tileInfo": {
  "rows": 256,
  "cols": 256,
  "dpi": 96,
  "format": "LERC2D",
  "compressionQuality": 100000,
  "lercError": 0.1,
  "origin": {
   "x": 1423302.8899794219,
   "y": 1512074.936093882
  },
  "spatialReference": {
   "wkid": 102100,
   "latestWkid": 3857
  },
  "lods": [
   {
    "level": 0,
    "resolution": 9.752677579843402,
    "scale": 36860.439966569735
   },
   {
    "level": 1,
    "resolution": 4.876338789921701,
    "scale": 18430.219983284867
   },
   {
    "level": 2,
    "resolution": 2.4381693949608505,
    "scale": 9215.109991642434
   },
   {
    "level": 3,
    "resolution": 1.2190846974804253,
    "scale": 4607.554995821217
   },
   {
    "level": 4,
    "resolution": 0.6095423487402126,
    "scale": 2303.7774979106084
   }
  ]
 },
 "storageInfo": {
  "storageFormat": "esriMapCacheStorageModeCompactV2",
  "packetSize": 16
 },
 "cacheType": "Raster",
 "allowRasterFunction": true,
 "rasterFunctionInfos": [
  {
   "name": "None",
   "description": "",
   "help": ""
  }
 ],
 "rasterTypeInfos": [
  {
   "name": "Raster Dataset",
   "description": "Supports all ArcGIS Raster Datasets",
   "help": ""
  }
 ],
 "mensurationCapabilities": "Basic",
 "hasHistograms": true,
 "hasColormap": false,
 "hasRasterAttributeTable": false,
 "minScale": 0,
 "maxScale": 0,
 "exportTilesAllowed": false,
 "supportsStatistics": false,
 "supportsAdvancedQueries": false,
 "editFieldsInfo": null,
 "ownershipBasedAccessControlForRasters": null,
 "allowComputeTiePoints": false,
 "useStandardizedQueries": true,
 "advancedQueryCapabilities": {
  "useStandardizedQueries": true,
  "supportsStatistics": false,
  "supportsOrderBy": false,
  "supportsDistinct": false,
  "supportsPagination": false
 },
 "spatialReference": {
  "wkid": 102100,
  "latestWkid": 3857
 }
}
