{
 "currentVersion": 11.5,
 "serviceDescription": "Hosted/20080128_MLI_0m62_QB02_PignariBana_Clip",
 "serviceItemId": "36949ac93a154129b62dcabacac97133",
 "name": "Hosted/20080128_MLI_0m62_QB02_PignariBana_Clip",
 "description": "",
 "extent": {
  "xmin": -443292.00119344424,
  "ymin": 1629259.7227687233,
  "xmax": -435648.0923005795,
  "ymax": 1632757.275391138,
  "spatialReference": {
   "wkid": 102100,
   "latestWkid": 3857
  }
 },
 "initialExtent": {
  "xmin": -443292.00119344424,
  "ymin": 1629259.7227687233,
  "xmax": -435648.0923005795,
  "ymax": 1632757.275391138,
  "spatialReference": {
   "wkid": 102100,
   "latestWkid": 3857
  }
 },
 "fullExtent": {
  "xmin": -443292.00119344424,
  "ymin": 1629259.7227687233,
  "xmax": -435648.0923005795,
  "ymax": 1632757.275391138,
  "spatialReference": {
   "wkid": 102100,
   "latestWkid": 3857
  }
 },
 "sortableFields": "",
 "bandCount": 3,
 "pixelType": "U8",
 "minValues": [
  1,
  1,
  1
 ],
 "maxValues": [
  255,
  255,
  249
 ],
 "meanValues": [
  179.81837732719853,
  152.3966597795369,
  113.98992910910331
 ],
 "stdvValues": [
  43.02105991964748,
  31.327291727585997,
  23.243275673077942
 ],
 "serviceProperties": "Center<\/MosaicMethod>First<\/MosaicOperator>true<\/SortAscending><\/LockImageID><\/TileOrderField>0<\/TileOrderBase>0.000000<\/AvgImageSpacingX>0.000000<\/AvgImageSpacingY>0.0<\/ViewPointX>0.0<\/ViewPointY>0.0<\/ViewPointDefShiftX>0.0<\/ViewPointDefShiftY>None<\/CompressionMethod>75<\/CompressionQuality>0.010000<\/CompressionTolerance>Bilinear<\/SamplingMethod><\/ImageServiceProperties><\/ImageServer>",
 "allowedFields": "",
 "hasMultidimensions": false,
 "pixelSizeX": 0.6109262222558159,
 "pixelSizeY": 0.6109262222558357,
 "meanPixelSize": 0.6109262222558258,
 "datasetFormat": "Cache/LERC2D",
 "uncompressedSize": 214893600,
 "blockWidth": 256,
 "blockHeight": 256,
 "compressionType": "LERC2D",
 "bandNames": [
  "Band_1",
  "Band_2",
  "Band_3"
 ],
 "allowCopy": true,
 "allowAnalysis": true,
 "itemAccess": false,
 "inspectionCapabilities": "",
 "minPixelSize": 0,
 "maxPixelSize": 0,
 "copyrightText": "",
 "serviceDataType": "esriImageServiceDataTypeRGB",
 "serviceSourceType": "esriImageServiceSourceTypeDataset",
 "objectIdField": "",
 "fields": [],
 "capabilities": "Image, Metadata",
 "defaultMosaicMethod": "Center",
 "allowedMosaicMethods": "",
 "sortField": "",
 "sortValue": null,
 "sortAscending": true,
 "mosaicOperator": "First",
 "defaultCompressionQuality": 75,
 "defaultResamplingMethod": "Bilinear",
 "maxImageHeight": 4100,
 "maxImageWidth": 15000,
 "singleFusedMapCache": true,
 "tileInfo": {
  "rows": 256,
  "cols": 256,
  "dpi": 96,
  "format": "LERC2D",
  "compressionQuality": 100000,
  "lercError": 0.1,
  "origin": {
   "x": -443292.00119344424,
   "y": 1632757.275391138
  },
  "spatialReference": {
   "wkid": 102100,
   "latestWkid": 3857
  },
  "lods": [
   {
    "level": 0,
    "resolution": 19.54963911218611,
    "scale": 73888.25201728965
   },
   {
    "level": 1,
    "resolution": 9.774819556093055,
    "scale": 36944.126008644824
   },
   {
    "level": 2,
    "resolution": 4.8874097780465275,
    "scale": 18472.063004322412
   },
   {
    "level": 3,
    "resolution": 2.4437048890232638,
    "scale": 9236.031502161206
   },
   {
    "level": 4,
    "resolution": 1.2218524445116319,
    "scale": 4618.015751080603
   },
   {
    "level": 5,
    "resolution": 0.6109262222558159,
    "scale": 2309.0078755403015
   }
  ]
 },
 "storageInfo": {
  "storageFormat": "esriMapCacheStorageModeCompactV2",
  "packetSize": 16
 },
 "cacheType": "Raster",
 "allowRasterFunction": true,
 "rasterFunctionInfos": [
  {
   "name": "None",
   "description": "",
   "help": ""
  }
 ],
 "rasterTypeInfos": [
  {
   "name": "Raster Dataset",
   "description": "Supports all ArcGIS Raster Datasets",
   "help": ""
  }
 ],
 "mensurationCapabilities": "Basic",
 "hasHistograms": true,
 "hasColormap": false,
 "hasRasterAttributeTable": false,
 "minScale": 0,
 "maxScale": 0,
 "exportTilesAllowed": false,
 "supportsStatistics": false,
 "supportsAdvancedQueries": false,
 "editFieldsInfo": null,
 "ownershipBasedAccessControlForRasters": null,
 "allowComputeTiePoints": false,
 "useStandardizedQueries": true,
 "advancedQueryCapabilities": {
  "useStandardizedQueries": true,
  "supportsStatistics": false,
  "supportsOrderBy": false,
  "supportsDistinct": false,
  "supportsPagination": false
 },
 "spatialReference": {
  "wkid": 102100,
  "latestWkid": 3857
 }
}
