{
 "currentVersion": 11.5,
 "serviceDescription": "Hosted/20080316_NGA_0m63_QB02_Damasak_Clip",
 "serviceItemId": "33a2ae1a3d9048a7a3ba9904c5e684f4",
 "name": "Hosted/20080316_NGA_0m63_QB02_Damasak_Clip",
 "description": "",
 "extent": {
  "xmin": 1385325.6000000015,
  "ymin": 1467772.370412897,
  "xmax": 1399055.300716587,
  "ymax": 1474766.462700002,
  "spatialReference": {
   "wkid": 102100,
   "latestWkid": 3857
  }
 },
 "initialExtent": {
  "xmin": 1385325.6000000015,
  "ymin": 1467772.370412897,
  "xmax": 1399055.300716587,
  "ymax": 1474766.462700002,
  "spatialReference": {
   "wkid": 102100,
   "latestWkid": 3857
  }
 },
 "fullExtent": {
  "xmin": 1385325.6000000015,
  "ymin": 1467772.370412897,
  "xmax": 1399055.300716587,
  "ymax": 1474766.462700002,
  "spatialReference": {
   "wkid": 102100,
   "latestWkid": 3857
  }
 },
 "sortableFields": "",
 "bandCount": 3,
 "pixelType": "U8",
 "minValues": [
  1,
  1,
  1
 ],
 "maxValues": [
  255,
  255,
  255
 ],
 "meanValues": [
  161.33189135509178,
  154.94053582409634,
  140.22157510684357
 ],
 "stdvValues": [
  34.54504252901287,
  32.07816153663886,
  30.320254519342893
 ],
 "serviceProperties": "Center<\/MosaicMethod>First<\/MosaicOperator>true<\/SortAscending><\/LockImageID><\/TileOrderField>0<\/TileOrderBase>0.000000<\/AvgImageSpacingX>0.000000<\/AvgImageSpacingY>0.0<\/ViewPointX>0.0<\/ViewPointY>0.0<\/ViewPointDefShiftX>0.0<\/ViewPointDefShiftY>None<\/CompressionMethod>75<\/CompressionQuality>0.010000<\/CompressionTolerance>Bilinear<\/SamplingMethod><\/ImageServiceProperties><\/ImageServer>",
 "allowedFields": "",
 "hasMultidimensions": false,
 "pixelSizeX": 0.6011252502883371,
 "pixelSizeY": 0.6011252502883377,
 "meanPixelSize": 0.6011252502883374,
 "datasetFormat": "Cache/LERC2D",
 "uncompressedSize": 797230200,
 "blockWidth": 256,
 "blockHeight": 256,
 "compressionType": "LERC2D",
 "bandNames": [
  "Band_1",
  "Band_2",
  "Band_3"
 ],
 "allowCopy": true,
 "allowAnalysis": true,
 "itemAccess": false,
 "inspectionCapabilities": "",
 "minPixelSize": 0,
 "maxPixelSize": 0,
 "copyrightText": "",
 "serviceDataType": "esriImageServiceDataTypeRGB",
 "serviceSourceType": "esriImageServiceSourceTypeDataset",
 "objectIdField": "",
 "fields": [],
 "capabilities": "Image, Metadata",
 "defaultMosaicMethod": "Center",
 "allowedMosaicMethods": "",
 "sortField": "",
 "sortValue": null,
 "sortAscending": true,
 "mosaicOperator": "First",
 "defaultCompressionQuality": 75,
 "defaultResamplingMethod": "Bilinear",
 "maxImageHeight": 4100,
 "maxImageWidth": 15000,
 "singleFusedMapCache": true,
 "tileInfo": {
  "rows": 256,
  "cols": 256,
  "dpi": 96,
  "format": "LERC2D",
  "compressionQuality": 100000,
  "lercError": 0.1,
  "origin": {
   "x": 1385325.6000000015,
   "y": 1474766.462700002
  },
  "spatialReference": {
   "wkid": 102100,
   "latestWkid": 3857
  },
  "lods": [
   {
    "level": 0,
    "resolution": 38.472016018453616,
    "scale": 145405.7539820658
   },
   {
    "level": 1,
    "resolution": 19.236008009226808,
    "scale": 72702.8769910329
   },
   {
    "level": 2,
    "resolution": 9.618004004613404,
    "scale": 36351.43849551645
   },
   {
    "level": 3,
    "resolution": 4.809002002306702,
    "scale": 18175.719247758225
   },
   {
    "level": 4,
    "resolution": 2.404501001153351,
    "scale": 9087.859623879112
   },
   {
    "level": 5,
    "resolution": 1.2022505005766755,
    "scale": 4543.929811939556
   },
   {
    "level": 6,
    "resolution": 0.6011252502883377,
    "scale": 2271.964905969778
   }
  ]
 },
 "storageInfo": {
  "storageFormat": "esriMapCacheStorageModeCompactV2",
  "packetSize": 16
 },
 "cacheType": "Raster",
 "allowRasterFunction": true,
 "rasterFunctionInfos": [
  {
   "name": "None",
   "description": "",
   "help": ""
  }
 ],
 "rasterTypeInfos": [
  {
   "name": "Raster Dataset",
   "description": "Supports all ArcGIS Raster Datasets",
   "help": ""
  }
 ],
 "mensurationCapabilities": "Basic",
 "hasHistograms": true,
 "hasColormap": false,
 "hasRasterAttributeTable": false,
 "minScale": 0,
 "maxScale": 0,
 "exportTilesAllowed": false,
 "supportsStatistics": false,
 "supportsAdvancedQueries": false,
 "editFieldsInfo": null,
 "ownershipBasedAccessControlForRasters": null,
 "allowComputeTiePoints": false,
 "useStandardizedQueries": true,
 "advancedQueryCapabilities": {
  "useStandardizedQueries": true,
  "supportsStatistics": false,
  "supportsOrderBy": false,
  "supportsDistinct": false,
  "supportsPagination": false
 },
 "spatialReference": {
  "wkid": 102100,
  "latestWkid": 3857
 }
}
