{
 "currentVersion": 11.5,
 "serviceDescription": "Hosted/20091027_NER_0m43_GE01_Ngagam_Clip",
 "serviceItemId": "680a155a8c904afc9ccacc890fac31b9",
 "name": "Hosted/20091027_NER_0m43_GE01_Ngagam_Clip",
 "description": "",
 "extent": {
  "xmin": 1424212.9507,
  "ymin": 1519004.0031561728,
  "xmax": 1439500.0917540116,
  "ymax": 1525998.3991,
  "spatialReference": {
   "wkid": 102100,
   "latestWkid": 3857
  }
 },
 "initialExtent": {
  "xmin": 1424212.9507,
  "ymin": 1519004.0031561728,
  "xmax": 1439500.0917540116,
  "ymax": 1525998.3991,
  "spatialReference": {
   "wkid": 102100,
   "latestWkid": 3857
  }
 },
 "fullExtent": {
  "xmin": 1424212.9507,
  "ymin": 1519004.0031561728,
  "xmax": 1439500.0917540116,
  "ymax": 1525998.3991,
  "spatialReference": {
   "wkid": 102100,
   "latestWkid": 3857
  }
 },
 "sortableFields": "",
 "bandCount": 3,
 "pixelType": "U8",
 "minValues": [
  1,
  1,
  1
 ],
 "maxValues": [
  255,
  255,
  255
 ],
 "meanValues": [
  150.96424101016228,
  133.20760479854658,
  129.14476305476157
 ],
 "stdvValues": [
  21.0731105709071,
  23.13992814786565,
  24.52492335130367
 ],
 "serviceProperties": "Center<\/MosaicMethod>First<\/MosaicOperator>true<\/SortAscending><\/LockImageID><\/TileOrderField>0<\/TileOrderBase>0.000000<\/AvgImageSpacingX>0.000000<\/AvgImageSpacingY>0.0<\/ViewPointX>0.0<\/ViewPointY>0.0<\/ViewPointDefShiftX>0.0<\/ViewPointDefShiftY>None<\/CompressionMethod>75<\/CompressionQuality>0.010000<\/CompressionTolerance>Bilinear<\/SamplingMethod><\/ImageServiceProperties><\/ImageServer>",
 "allowedFields": "",
 "hasMultidimensions": false,
 "pixelSizeX": 0.49086925004051146,
 "pixelSizeY": 0.49086925004051013,
 "meanPixelSize": 0.4908692500405108,
 "datasetFormat": "Cache/LERC2D",
 "uncompressedSize": 1331269821,
 "blockWidth": 256,
 "blockHeight": 256,
 "compressionType": "LERC2D",
 "bandNames": [
  "Band_1",
  "Band_2",
  "Band_3"
 ],
 "allowCopy": true,
 "allowAnalysis": true,
 "itemAccess": false,
 "inspectionCapabilities": "",
 "minPixelSize": 0,
 "maxPixelSize": 0,
 "copyrightText": "",
 "serviceDataType": "esriImageServiceDataTypeRGB",
 "serviceSourceType": "esriImageServiceSourceTypeDataset",
 "objectIdField": "",
 "fields": [],
 "capabilities": "Image, Metadata",
 "defaultMosaicMethod": "Center",
 "allowedMosaicMethods": "",
 "sortField": "",
 "sortValue": null,
 "sortAscending": true,
 "mosaicOperator": "First",
 "defaultCompressionQuality": 75,
 "defaultResamplingMethod": "Bilinear",
 "maxImageHeight": 4100,
 "maxImageWidth": 15000,
 "singleFusedMapCache": true,
 "tileInfo": {
  "rows": 256,
  "cols": 256,
  "dpi": 96,
  "format": "LERC2D",
  "compressionQuality": 100000,
  "lercError": 0.1,
  "origin": {
   "x": 1424212.9507,
   "y": 1525998.3991
  },
  "spatialReference": {
   "wkid": 102100,
   "latestWkid": 3857
  },
  "lods": [
   {
    "level": 0,
    "resolution": 31.41563200259265,
    "scale": 118736.00946643896
   },
   {
    "level": 1,
    "resolution": 15.707816001296324,
    "scale": 59368.00473321948
   },
   {
    "level": 2,
    "resolution": 7.853908000648162,
    "scale": 29684.00236660974
   },
   {
    "level": 3,
    "resolution": 3.926954000324081,
    "scale": 14842.00118330487
   },
   {
    "level": 4,
    "resolution": 1.9634770001620405,
    "scale": 7421.000591652435
   },
   {
    "level": 5,
    "resolution": 0.9817385000810203,
    "scale": 3710.5002958262176
   },
   {
    "level": 6,
    "resolution": 0.49086925004051013,
    "scale": 1855.2501479131088
   }
  ]
 },
 "storageInfo": {
  "storageFormat": "esriMapCacheStorageModeCompactV2",
  "packetSize": 16
 },
 "cacheType": "Raster",
 "allowRasterFunction": true,
 "rasterFunctionInfos": [
  {
   "name": "None",
   "description": "",
   "help": ""
  }
 ],
 "rasterTypeInfos": [
  {
   "name": "Raster Dataset",
   "description": "Supports all ArcGIS Raster Datasets",
   "help": ""
  }
 ],
 "mensurationCapabilities": "Basic",
 "hasHistograms": true,
 "hasColormap": false,
 "hasRasterAttributeTable": false,
 "minScale": 0,
 "maxScale": 0,
 "exportTilesAllowed": false,
 "supportsStatistics": false,
 "supportsAdvancedQueries": false,
 "editFieldsInfo": null,
 "ownershipBasedAccessControlForRasters": null,
 "allowComputeTiePoints": false,
 "useStandardizedQueries": true,
 "advancedQueryCapabilities": {
  "useStandardizedQueries": true,
  "supportsStatistics": false,
  "supportsOrderBy": false,
  "supportsDistinct": false,
  "supportsPagination": false
 },
 "spatialReference": {
  "wkid": 102100,
  "latestWkid": 3857
 }
}
