{
 "currentVersion": 11.5,
 "serviceDescription": "Hosted/20091220_MLI_0m67_QB02_Bandiagara_Clip",
 "serviceItemId": "1a022e595515402f94cf45c3e2f18b74",
 "name": "Hosted/20091220_MLI_0m67_QB02_Bandiagara_Clip",
 "description": "",
 "extent": {
  "xmin": -409616.36349999905,
  "ymin": 1611349.2866886766,
  "xmax": -394329.1472621674,
  "ymax": 1618343.9801000017,
  "spatialReference": {
   "wkid": 102100,
   "latestWkid": 3857
  }
 },
 "initialExtent": {
  "xmin": -409616.36349999905,
  "ymin": 1611349.2866886766,
  "xmax": -394329.1472621674,
  "ymax": 1618343.9801000017,
  "spatialReference": {
   "wkid": 102100,
   "latestWkid": 3857
  }
 },
 "fullExtent": {
  "xmin": -409616.36349999905,
  "ymin": 1611349.2866886766,
  "xmax": -394329.1472621674,
  "ymax": 1618343.9801000017,
  "spatialReference": {
   "wkid": 102100,
   "latestWkid": 3857
  }
 },
 "sortableFields": "",
 "bandCount": 3,
 "pixelType": "U8",
 "minValues": [
  1,
  1,
  1
 ],
 "maxValues": [
  255,
  255,
  255
 ],
 "meanValues": [
  189.53876739569296,
  153.54604890332692,
  121.48911410683367
 ],
 "stdvValues": [
  43.59038693388379,
  35.01192562288843,
  28.49133081810758
 ],
 "serviceProperties": "Center<\/MosaicMethod>First<\/MosaicOperator>true<\/SortAscending><\/LockImageID><\/TileOrderField>0<\/TileOrderBase>0.000000<\/AvgImageSpacingX>0.000000<\/AvgImageSpacingY>0.0<\/ViewPointX>0.0<\/ViewPointY>0.0<\/ViewPointDefShiftX>0.0<\/ViewPointDefShiftY>None<\/CompressionMethod>75<\/CompressionQuality>0.010000<\/CompressionTolerance>Bilinear<\/SamplingMethod><\/ImageServiceProperties><\/ImageServer>",
 "allowedFields": "",
 "hasMultidimensions": false,
 "pixelSizeX": 0.6011252501998202,
 "pixelSizeY": 0.6011252501998199,
 "meanPixelSize": 0.6011252501998201,
 "datasetFormat": "Cache/LERC2D",
 "uncompressedSize": 887745348,
 "blockWidth": 256,
 "blockHeight": 256,
 "compressionType": "LERC2D",
 "bandNames": [
  "Band_1",
  "Band_2",
  "Band_3"
 ],
 "allowCopy": true,
 "allowAnalysis": true,
 "itemAccess": false,
 "inspectionCapabilities": "",
 "minPixelSize": 0,
 "maxPixelSize": 0,
 "copyrightText": "",
 "serviceDataType": "esriImageServiceDataTypeRGB",
 "serviceSourceType": "esriImageServiceSourceTypeDataset",
 "objectIdField": "",
 "fields": [],
 "capabilities": "Image, Metadata",
 "defaultMosaicMethod": "Center",
 "allowedMosaicMethods": "",
 "sortField": "",
 "sortValue": null,
 "sortAscending": true,
 "mosaicOperator": "First",
 "defaultCompressionQuality": 75,
 "defaultResamplingMethod": "Bilinear",
 "maxImageHeight": 4100,
 "maxImageWidth": 15000,
 "singleFusedMapCache": true,
 "tileInfo": {
  "rows": 256,
  "cols": 256,
  "dpi": 96,
  "format": "LERC2D",
  "compressionQuality": 100000,
  "lercError": 0.1,
  "origin": {
   "x": -409616.36349999905,
   "y": 1618343.9801000017
  },
  "spatialReference": {
   "wkid": 102100,
   "latestWkid": 3857
  },
  "lods": [
   {
    "level": 0,
    "resolution": 38.47201601278847,
    "scale": 145405.75396065429
   },
   {
    "level": 1,
    "resolution": 19.236008006394236,
    "scale": 72702.87698032714
   },
   {
    "level": 2,
    "resolution": 9.618004003197118,
    "scale": 36351.43849016357
   },
   {
    "level": 3,
    "resolution": 4.809002001598559,
    "scale": 18175.719245081786
   },
   {
    "level": 4,
    "resolution": 2.4045010007992795,
    "scale": 9087.859622540893
   },
   {
    "level": 5,
    "resolution": 1.2022505003996398,
    "scale": 4543.929811270446
   },
   {
    "level": 6,
    "resolution": 0.6011252501998199,
    "scale": 2271.964905635223
   }
  ]
 },
 "storageInfo": {
  "storageFormat": "esriMapCacheStorageModeCompactV2",
  "packetSize": 16
 },
 "cacheType": "Raster",
 "allowRasterFunction": true,
 "rasterFunctionInfos": [
  {
   "name": "None",
   "description": "",
   "help": ""
  }
 ],
 "rasterTypeInfos": [
  {
   "name": "Raster Dataset",
   "description": "Supports all ArcGIS Raster Datasets",
   "help": ""
  }
 ],
 "mensurationCapabilities": "Basic",
 "hasHistograms": true,
 "hasColormap": false,
 "hasRasterAttributeTable": false,
 "minScale": 0,
 "maxScale": 0,
 "exportTilesAllowed": false,
 "supportsStatistics": false,
 "supportsAdvancedQueries": false,
 "editFieldsInfo": null,
 "ownershipBasedAccessControlForRasters": null,
 "allowComputeTiePoints": false,
 "useStandardizedQueries": true,
 "advancedQueryCapabilities": {
  "useStandardizedQueries": true,
  "supportsStatistics": false,
  "supportsOrderBy": false,
  "supportsDistinct": false,
  "supportsPagination": false
 },
 "spatialReference": {
  "wkid": 102100,
  "latestWkid": 3857
 }
}
