{
 "currentVersion": 11.5,
 "serviceDescription": "Hosted/20100109_NER_0m42_GE01_Ngagam_Clip",
 "serviceItemId": "1cbda4907ced4e348187e157ccaea9b3",
 "name": "Hosted/20100109_NER_0m42_GE01_Ngagam_Clip",
 "description": "",
 "extent": {
  "xmin": 1424212.7895999998,
  "ymin": 1519004.3882175933,
  "xmax": 1439500.3144101794,
  "ymax": 1525998.1480000003,
  "spatialReference": {
   "wkid": 102100,
   "latestWkid": 3857
  }
 },
 "initialExtent": {
  "xmin": 1424212.7895999998,
  "ymin": 1519004.3882175933,
  "xmax": 1439500.3144101794,
  "ymax": 1525998.1480000003,
  "spatialReference": {
   "wkid": 102100,
   "latestWkid": 3857
  }
 },
 "fullExtent": {
  "xmin": 1424212.7895999998,
  "ymin": 1519004.3882175933,
  "xmax": 1439500.3144101794,
  "ymax": 1525998.1480000003,
  "spatialReference": {
   "wkid": 102100,
   "latestWkid": 3857
  }
 },
 "sortableFields": "",
 "bandCount": 3,
 "pixelType": "U8",
 "minValues": [
  1,
  1,
  1
 ],
 "maxValues": [
  255,
  255,
  255
 ],
 "meanValues": [
  197.70148212907026,
  190.76168012681958,
  185.74349360809643
 ],
 "stdvValues": [
  28.884604178380087,
  28.396869255889268,
  28.15409017430117
 ],
 "serviceProperties": "Center<\/MosaicMethod>First<\/MosaicOperator>true<\/SortAscending><\/LockImageID><\/TileOrderField>0<\/TileOrderBase>0.000000<\/AvgImageSpacingX>0.000000<\/AvgImageSpacingY>0.0<\/ViewPointX>0.0<\/ViewPointY>0.0<\/ViewPointDefShiftX>0.0<\/ViewPointDefShiftY>None<\/CompressionMethod>75<\/CompressionQuality>0.010000<\/CompressionTolerance>Bilinear<\/SamplingMethod><\/ImageServiceProperties><\/ImageServer>",
 "allowedFields": "",
 "hasMultidimensions": false,
 "pixelSizeX": 0.47935296658032117,
 "pixelSizeY": 0.4793529665803267,
 "meanPixelSize": 0.47935296658032395,
 "datasetFormat": "Cache/LERC2D",
 "uncompressedSize": 1395912840,
 "blockWidth": 256,
 "blockHeight": 256,
 "compressionType": "LERC2D",
 "bandNames": [
  "Band_1",
  "Band_2",
  "Band_3"
 ],
 "allowCopy": true,
 "allowAnalysis": true,
 "itemAccess": false,
 "inspectionCapabilities": "",
 "minPixelSize": 0,
 "maxPixelSize": 0,
 "copyrightText": "",
 "serviceDataType": "esriImageServiceDataTypeRGB",
 "serviceSourceType": "esriImageServiceSourceTypeDataset",
 "objectIdField": "",
 "fields": [],
 "capabilities": "Image, Metadata",
 "defaultMosaicMethod": "Center",
 "allowedMosaicMethods": "",
 "sortField": "",
 "sortValue": null,
 "sortAscending": true,
 "mosaicOperator": "First",
 "defaultCompressionQuality": 75,
 "defaultResamplingMethod": "Bilinear",
 "maxImageHeight": 4100,
 "maxImageWidth": 15000,
 "singleFusedMapCache": true,
 "tileInfo": {
  "rows": 256,
  "cols": 256,
  "dpi": 96,
  "format": "LERC2D",
  "compressionQuality": 100000,
  "lercError": 0.1,
  "origin": {
   "x": 1424212.7895999998,
   "y": 1525998.1480000003
  },
  "spatialReference": {
   "wkid": 102100,
   "latestWkid": 3857
  },
  "lods": [
   {
    "level": 0,
    "resolution": 30.678589861140555,
    "scale": 115950.34395197795
   },
   {
    "level": 1,
    "resolution": 15.339294930570277,
    "scale": 57975.171975988975
   },
   {
    "level": 2,
    "resolution": 7.669647465285139,
    "scale": 28987.585987994487
   },
   {
    "level": 3,
    "resolution": 3.8348237326425694,
    "scale": 14493.792993997244
   },
   {
    "level": 4,
    "resolution": 1.9174118663212847,
    "scale": 7246.896496998622
   },
   {
    "level": 5,
    "resolution": 0.9587059331606423,
    "scale": 3623.448248499311
   },
   {
    "level": 6,
    "resolution": 0.47935296658032117,
    "scale": 1811.7241242496555
   }
  ]
 },
 "storageInfo": {
  "storageFormat": "esriMapCacheStorageModeCompactV2",
  "packetSize": 16
 },
 "cacheType": "Raster",
 "allowRasterFunction": true,
 "rasterFunctionInfos": [
  {
   "name": "None",
   "description": "",
   "help": ""
  }
 ],
 "rasterTypeInfos": [
  {
   "name": "Raster Dataset",
   "description": "Supports all ArcGIS Raster Datasets",
   "help": ""
  }
 ],
 "mensurationCapabilities": "Basic",
 "hasHistograms": true,
 "hasColormap": false,
 "hasRasterAttributeTable": false,
 "minScale": 0,
 "maxScale": 0,
 "exportTilesAllowed": false,
 "supportsStatistics": false,
 "supportsAdvancedQueries": false,
 "editFieldsInfo": null,
 "ownershipBasedAccessControlForRasters": null,
 "allowComputeTiePoints": false,
 "useStandardizedQueries": true,
 "advancedQueryCapabilities": {
  "useStandardizedQueries": true,
  "supportsStatistics": false,
  "supportsOrderBy": false,
  "supportsDistinct": false,
  "supportsPagination": false
 },
 "spatialReference": {
  "wkid": 102100,
  "latestWkid": 3857
 }
}
