{
 "currentVersion": 11.5,
 "serviceDescription": "Hosted/20100131_NER_0m43_GE01_Chetimari_Clip",
 "serviceItemId": "63476fe890d24f2f8a84ea3ecd3ed2b2",
 "name": "Hosted/20100131_NER_0m43_GE01_Chetimari_Clip",
 "description": "",
 "extent": {
  "xmin": 1375121.3841999993,
  "ymin": 1477394.0258803717,
  "xmax": 1390408.7271190856,
  "ymax": 1484387.990700001,
  "spatialReference": {
   "wkid": 102100,
   "latestWkid": 3857
  }
 },
 "initialExtent": {
  "xmin": 1375121.3841999993,
  "ymin": 1477394.0258803717,
  "xmax": 1390408.7271190856,
  "ymax": 1484387.990700001,
  "spatialReference": {
   "wkid": 102100,
   "latestWkid": 3857
  }
 },
 "fullExtent": {
  "xmin": 1375121.3841999993,
  "ymin": 1477394.0258803717,
  "xmax": 1390408.7271190856,
  "ymax": 1484387.990700001,
  "spatialReference": {
   "wkid": 102100,
   "latestWkid": 3857
  }
 },
 "sortableFields": "",
 "bandCount": 3,
 "pixelType": "U8",
 "minValues": [
  1,
  1,
  1
 ],
 "maxValues": [
  255,
  255,
  255
 ],
 "meanValues": [
  201.93277329267457,
  186.89377926593562,
  167.01109628947512
 ],
 "stdvValues": [
  26.925954841461326,
  24.629205017162633,
  22.430178908114303
 ],
 "serviceProperties": "Center<\/MosaicMethod>First<\/MosaicOperator>true<\/SortAscending><\/LockImageID><\/TileOrderField>0<\/TileOrderBase>0.000000<\/AvgImageSpacingX>0.000000<\/AvgImageSpacingY>0.0<\/ViewPointX>0.0<\/ViewPointY>0.0<\/ViewPointDefShiftX>0.0<\/ViewPointDefShiftY>None<\/CompressionMethod>75<\/CompressionQuality>0.010000<\/CompressionTolerance>Bilinear<\/SamplingMethod><\/ImageServiceProperties><\/ImageServer>",
 "allowedFields": "",
 "hasMultidimensions": false,
 "pixelSizeX": 0.4347317764563156,
 "pixelSizeY": 0.43473177645631594,
 "meanPixelSize": 0.4347317764563158,
 "datasetFormat": "Cache/LERC2D",
 "uncompressedSize": 1697203560,
 "blockWidth": 256,
 "blockHeight": 256,
 "compressionType": "LERC2D",
 "bandNames": [
  "Band_1",
  "Band_2",
  "Band_3"
 ],
 "allowCopy": true,
 "allowAnalysis": true,
 "itemAccess": false,
 "inspectionCapabilities": "",
 "minPixelSize": 0,
 "maxPixelSize": 0,
 "copyrightText": "",
 "serviceDataType": "esriImageServiceDataTypeRGB",
 "serviceSourceType": "esriImageServiceSourceTypeDataset",
 "objectIdField": "",
 "fields": [],
 "capabilities": "Image, Metadata",
 "defaultMosaicMethod": "Center",
 "allowedMosaicMethods": "",
 "sortField": "",
 "sortValue": null,
 "sortAscending": true,
 "mosaicOperator": "First",
 "defaultCompressionQuality": 75,
 "defaultResamplingMethod": "Bilinear",
 "maxImageHeight": 4100,
 "maxImageWidth": 15000,
 "singleFusedMapCache": true,
 "tileInfo": {
  "rows": 256,
  "cols": 256,
  "dpi": 96,
  "format": "LERC2D",
  "compressionQuality": 100000,
  "lercError": 0.1,
  "origin": {
   "x": 1375121.3841999993,
   "y": 1484387.990700001
  },
  "spatialReference": {
   "wkid": 102100,
   "latestWkid": 3857
  },
  "lods": [
   {
    "level": 0,
    "resolution": 27.8228336932042,
    "scale": 105156.95640013913
   },
   {
    "level": 1,
    "resolution": 13.9114168466021,
    "scale": 52578.47820006956
   },
   {
    "level": 2,
    "resolution": 6.95570842330105,
    "scale": 26289.23910003478
   },
   {
    "level": 3,
    "resolution": 3.477854211650525,
    "scale": 13144.61955001739
   },
   {
    "level": 4,
    "resolution": 1.7389271058252624,
    "scale": 6572.309775008695
   },
   {
    "level": 5,
    "resolution": 0.8694635529126312,
    "scale": 3286.1548875043477
   },
   {
    "level": 6,
    "resolution": 0.4347317764563156,
    "scale": 1643.0774437521738
   }
  ]
 },
 "storageInfo": {
  "storageFormat": "esriMapCacheStorageModeCompactV2",
  "packetSize": 16
 },
 "cacheType": "Raster",
 "allowRasterFunction": true,
 "rasterFunctionInfos": [
  {
   "name": "None",
   "description": "",
   "help": ""
  }
 ],
 "rasterTypeInfos": [
  {
   "name": "Raster Dataset",
   "description": "Supports all ArcGIS Raster Datasets",
   "help": ""
  }
 ],
 "mensurationCapabilities": "Basic",
 "hasHistograms": true,
 "hasColormap": false,
 "hasRasterAttributeTable": false,
 "minScale": 0,
 "maxScale": 0,
 "exportTilesAllowed": false,
 "supportsStatistics": false,
 "supportsAdvancedQueries": false,
 "editFieldsInfo": null,
 "ownershipBasedAccessControlForRasters": null,
 "allowComputeTiePoints": false,
 "useStandardizedQueries": true,
 "advancedQueryCapabilities": {
  "useStandardizedQueries": true,
  "supportsStatistics": false,
  "supportsOrderBy": false,
  "supportsDistinct": false,
  "supportsPagination": false
 },
 "spatialReference": {
  "wkid": 102100,
  "latestWkid": 3857
 }
}
