{
 "currentVersion": 11.5,
 "serviceDescription": "Hosted/201001_NER_0m42_GE01_GarinDogo_Clip",
 "serviceItemId": "a37d98f627cf4eb480adb375a16130ae",
 "name": "Hosted/201001_NER_0m42_GE01_GarinDogo_Clip",
 "description": "",
 "extent": {
  "xmin": 1417715.7696999982,
  "ymin": 1505443.243533078,
  "xmax": 1425359.5651338785,
  "ymax": 1508671.0071999996,
  "spatialReference": {
   "wkid": 102100,
   "latestWkid": 3857
  }
 },
 "initialExtent": {
  "xmin": 1417715.7696999982,
  "ymin": 1505443.243533078,
  "xmax": 1425359.5651338785,
  "ymax": 1508671.0071999996,
  "spatialReference": {
   "wkid": 102100,
   "latestWkid": 3857
  }
 },
 "fullExtent": {
  "xmin": 1417715.7696999982,
  "ymin": 1505443.243533078,
  "xmax": 1425359.5651338785,
  "ymax": 1508671.0071999996,
  "spatialReference": {
   "wkid": 102100,
   "latestWkid": 3857
  }
 },
 "sortableFields": "",
 "bandCount": 3,
 "pixelType": "U8",
 "minValues": [
  1,
  1,
  1
 ],
 "maxValues": [
  255,
  255,
  255
 ],
 "meanValues": [
  196.84449757871036,
  183.4084088536528,
  171.23344553944253
 ],
 "stdvValues": [
  32.75394549778503,
  30.581746027970354,
  29.096069176049053
 ],
 "serviceProperties": "Center<\/MosaicMethod>First<\/MosaicOperator>true<\/SortAscending><\/LockImageID><\/TileOrderField>0<\/TileOrderBase>0.000000<\/AvgImageSpacingX>0.000000<\/AvgImageSpacingY>0.0<\/ViewPointX>0.0<\/ViewPointY>0.0<\/ViewPointDefShiftX>0.0<\/ViewPointDefShiftY>None<\/CompressionMethod>75<\/CompressionQuality>0.010000<\/CompressionTolerance>Bilinear<\/SamplingMethod><\/ImageServiceProperties><\/ImageServer>",
 "allowedFields": "",
 "hasMultidimensions": false,
 "pixelSizeX": 0.42077482295939095,
 "pixelSizeY": 0.42077482295939617,
 "meanPixelSize": 0.42077482295939356,
 "datasetFormat": "Cache/LERC2D",
 "uncompressedSize": 418054158,
 "blockWidth": 256,
 "blockHeight": 256,
 "compressionType": "LERC2D",
 "bandNames": [
  "Band_1",
  "Band_2",
  "Band_3"
 ],
 "allowCopy": true,
 "allowAnalysis": true,
 "itemAccess": false,
 "inspectionCapabilities": "",
 "minPixelSize": 0,
 "maxPixelSize": 0,
 "copyrightText": "",
 "serviceDataType": "esriImageServiceDataTypeRGB",
 "serviceSourceType": "esriImageServiceSourceTypeDataset",
 "objectIdField": "",
 "fields": [],
 "capabilities": "Image, Metadata",
 "defaultMosaicMethod": "Center",
 "allowedMosaicMethods": "",
 "sortField": "",
 "sortValue": null,
 "sortAscending": true,
 "mosaicOperator": "First",
 "defaultCompressionQuality": 75,
 "defaultResamplingMethod": "Bilinear",
 "maxImageHeight": 4100,
 "maxImageWidth": 15000,
 "singleFusedMapCache": true,
 "tileInfo": {
  "rows": 256,
  "cols": 256,
  "dpi": 96,
  "format": "LERC2D",
  "compressionQuality": 100000,
  "lercError": 0.1,
  "origin": {
   "x": 1417715.7696999982,
   "y": 1508671.0071999996
  },
  "spatialReference": {
   "wkid": 102100,
   "latestWkid": 3857
  },
  "lods": [
   {
    "level": 0,
    "resolution": 13.464794334700677,
    "scale": 50890.4594838879
   },
   {
    "level": 1,
    "resolution": 6.732397167350339,
    "scale": 25445.22974194395
   },
   {
    "level": 2,
    "resolution": 3.3661985836751693,
    "scale": 12722.614870971975
   },
   {
    "level": 3,
    "resolution": 1.6830992918375847,
    "scale": 6361.307435485987
   },
   {
    "level": 4,
    "resolution": 0.8415496459187923,
    "scale": 3180.6537177429936
   },
   {
    "level": 5,
    "resolution": 0.42077482295939617,
    "scale": 1590.3268588714968
   }
  ]
 },
 "storageInfo": {
  "storageFormat": "esriMapCacheStorageModeCompactV2",
  "packetSize": 16
 },
 "cacheType": "Raster",
 "allowRasterFunction": true,
 "rasterFunctionInfos": [
  {
   "name": "None",
   "description": "",
   "help": ""
  }
 ],
 "rasterTypeInfos": [
  {
   "name": "Raster Dataset",
   "description": "Supports all ArcGIS Raster Datasets",
   "help": ""
  }
 ],
 "mensurationCapabilities": "Basic",
 "hasHistograms": true,
 "hasColormap": false,
 "hasRasterAttributeTable": false,
 "minScale": 0,
 "maxScale": 0,
 "exportTilesAllowed": false,
 "supportsStatistics": false,
 "supportsAdvancedQueries": false,
 "editFieldsInfo": null,
 "ownershipBasedAccessControlForRasters": null,
 "allowComputeTiePoints": false,
 "useStandardizedQueries": true,
 "advancedQueryCapabilities": {
  "useStandardizedQueries": true,
  "supportsStatistics": false,
  "supportsOrderBy": false,
  "supportsDistinct": false,
  "supportsPagination": false
 },
 "spatialReference": {
  "wkid": 102100,
  "latestWkid": 3857
 }
}
