{
 "currentVersion": 11.5,
 "serviceDescription": "Hosted/20100211_NGA_0m43_GE01_Damasak_Clip",
 "serviceItemId": "202e004afab14611afb679bffdabe77d",
 "name": "Hosted/20100211_NGA_0m43_GE01_Damasak_Clip",
 "description": "",
 "extent": {
  "xmin": 1383768.3735000007,
  "ymin": 1467772.537368363,
  "xmax": 1399055.5527817127,
  "ymax": 1474604.4711,
  "spatialReference": {
   "wkid": 102100,
   "latestWkid": 3857
  }
 },
 "initialExtent": {
  "xmin": 1383768.3735000007,
  "ymin": 1467772.537368363,
  "xmax": 1399055.5527817127,
  "ymax": 1474604.4711,
  "spatialReference": {
   "wkid": 102100,
   "latestWkid": 3857
  }
 },
 "fullExtent": {
  "xmin": 1383768.3735000007,
  "ymin": 1467772.537368363,
  "xmax": 1399055.5527817127,
  "ymax": 1474604.4711,
  "spatialReference": {
   "wkid": 102100,
   "latestWkid": 3857
  }
 },
 "sortableFields": "",
 "bandCount": 3,
 "pixelType": "U8",
 "minValues": [
  1,
  1,
  1
 ],
 "maxValues": [
  255,
  255,
  255
 ],
 "meanValues": [
  152.23343613762967,
  140.4683370230688,
  119.16865086265621
 ],
 "stdvValues": [
  39.0885134402141,
  34.75143173057988,
  32.19149084111532
 ],
 "serviceProperties": "Center<\/MosaicMethod>First<\/MosaicOperator>true<\/SortAscending><\/LockImageID><\/TileOrderField>0<\/TileOrderBase>0.000000<\/AvgImageSpacingX>0.000000<\/AvgImageSpacingY>0.0<\/ViewPointX>0.0<\/ViewPointY>0.0<\/ViewPointDefShiftX>0.0<\/ViewPointDefShiftY>None<\/CompressionMethod>75<\/CompressionQuality>0.010000<\/CompressionTolerance>Bilinear<\/SamplingMethod><\/ImageServiceProperties><\/ImageServer>",
 "allowedFields": "",
 "hasMultidimensions": false,
 "pixelSizeX": 0.45830373191366003,
 "pixelSizeY": 0.4583037319136623,
 "meanPixelSize": 0.45830373191366114,
 "datasetFormat": "Cache/LERC2D",
 "uncompressedSize": 1491713676,
 "blockWidth": 256,
 "blockHeight": 256,
 "compressionType": "LERC2D",
 "bandNames": [
  "Band_1",
  "Band_2",
  "Band_3"
 ],
 "allowCopy": true,
 "allowAnalysis": true,
 "itemAccess": false,
 "inspectionCapabilities": "",
 "minPixelSize": 0,
 "maxPixelSize": 0,
 "copyrightText": "",
 "serviceDataType": "esriImageServiceDataTypeRGB",
 "serviceSourceType": "esriImageServiceSourceTypeDataset",
 "objectIdField": "",
 "fields": [],
 "capabilities": "Image, Metadata",
 "defaultMosaicMethod": "Center",
 "allowedMosaicMethods": "",
 "sortField": "",
 "sortValue": null,
 "sortAscending": true,
 "mosaicOperator": "First",
 "defaultCompressionQuality": 75,
 "defaultResamplingMethod": "Bilinear",
 "maxImageHeight": 4100,
 "maxImageWidth": 15000,
 "singleFusedMapCache": true,
 "tileInfo": {
  "rows": 256,
  "cols": 256,
  "dpi": 96,
  "format": "LERC2D",
  "compressionQuality": 100000,
  "lercError": 0.1,
  "origin": {
   "x": 1383768.3735000007,
   "y": 1474604.4711
  },
  "spatialReference": {
   "wkid": 102100,
   "latestWkid": 3857
  },
  "lods": [
   {
    "level": 0,
    "resolution": 29.331438842474242,
    "scale": 110858.75973390824
   },
   {
    "level": 1,
    "resolution": 14.665719421237121,
    "scale": 55429.37986695412
   },
   {
    "level": 2,
    "resolution": 7.3328597106185605,
    "scale": 27714.68993347706
   },
   {
    "level": 3,
    "resolution": 3.6664298553092802,
    "scale": 13857.34496673853
   },
   {
    "level": 4,
    "resolution": 1.8332149276546401,
    "scale": 6928.672483369265
   },
   {
    "level": 5,
    "resolution": 0.9166074638273201,
    "scale": 3464.3362416846326
   },
   {
    "level": 6,
    "resolution": 0.45830373191366003,
    "scale": 1732.1681208423163
   }
  ]
 },
 "storageInfo": {
  "storageFormat": "esriMapCacheStorageModeCompactV2",
  "packetSize": 16
 },
 "cacheType": "Raster",
 "allowRasterFunction": true,
 "rasterFunctionInfos": [
  {
   "name": "None",
   "description": "",
   "help": ""
  }
 ],
 "rasterTypeInfos": [
  {
   "name": "Raster Dataset",
   "description": "Supports all ArcGIS Raster Datasets",
   "help": ""
  }
 ],
 "mensurationCapabilities": "Basic",
 "hasHistograms": true,
 "hasColormap": false,
 "hasRasterAttributeTable": false,
 "minScale": 0,
 "maxScale": 0,
 "exportTilesAllowed": false,
 "supportsStatistics": false,
 "supportsAdvancedQueries": false,
 "editFieldsInfo": null,
 "ownershipBasedAccessControlForRasters": null,
 "allowComputeTiePoints": false,
 "useStandardizedQueries": true,
 "advancedQueryCapabilities": {
  "useStandardizedQueries": true,
  "supportsStatistics": false,
  "supportsOrderBy": false,
  "supportsDistinct": false,
  "supportsPagination": false
 },
 "spatialReference": {
  "wkid": 102100,
  "latestWkid": 3857
 }
}
