{
 "currentVersion": 11.5,
 "serviceDescription": "Hosted/20100313_CMR_0m48GE01_Limani",
 "serviceItemId": "ceb9a3efdb4d41ae851293c5dbd18277",
 "name": "Hosted/20100313_CMR_0m48GE01_Limani",
 "description": "",
 "extent": {
  "xmin": 1573446.751841034,
  "ymin": 1256534.037736861,
  "xmax": 1581090.7431380341,
  "ymax": 1260030.8658268473,
  "spatialReference": {
   "wkid": 102100,
   "latestWkid": 3857
  }
 },
 "initialExtent": {
  "xmin": 1573446.751841034,
  "ymin": 1256534.037736861,
  "xmax": 1581090.7431380341,
  "ymax": 1260030.8658268473,
  "spatialReference": {
   "wkid": 102100,
   "latestWkid": 3857
  }
 },
 "fullExtent": {
  "xmin": 1573446.751841034,
  "ymin": 1256534.037736861,
  "xmax": 1581090.7431380341,
  "ymax": 1260030.8658268473,
  "spatialReference": {
   "wkid": 102100,
   "latestWkid": 3857
  }
 },
 "sortableFields": "",
 "bandCount": 3,
 "pixelType": "U8",
 "minValues": [
  1,
  1,
  1
 ],
 "maxValues": [
  255,
  255,
  255
 ],
 "meanValues": [
  153.00134599242915,
  131.23793771553545,
  122.91105043195238
 ],
 "stdvValues": [
  23.206734152355327,
  20.0091851336022,
  18.986254769818064
 ],
 "serviceProperties": "Center<\/MosaicMethod>First<\/MosaicOperator>true<\/SortAscending><\/LockImageID><\/TileOrderField>0<\/TileOrderBase>0.000000<\/AvgImageSpacingX>0.000000<\/AvgImageSpacingY>0.0<\/ViewPointX>0.0<\/ViewPointY>0.0<\/ViewPointDefShiftX>0.0<\/ViewPointDefShiftY>None<\/CompressionMethod>75<\/CompressionQuality>0.010000<\/CompressionTolerance>Bilinear<\/SamplingMethod><\/ImageServiceProperties><\/ImageServer>",
 "allowedFields": "",
 "hasMultidimensions": false,
 "pixelSizeX": 0.4864137000954558,
 "pixelSizeY": 0.4864137000954555,
 "meanPixelSize": 0.48641370009545565,
 "datasetFormat": "Cache/LERC2D",
 "uncompressedSize": 338925405,
 "blockWidth": 256,
 "blockHeight": 256,
 "compressionType": "LERC2D",
 "bandNames": [
  "Band_1",
  "Band_2",
  "Band_3"
 ],
 "allowCopy": true,
 "allowAnalysis": true,
 "itemAccess": false,
 "inspectionCapabilities": "",
 "minPixelSize": 0,
 "maxPixelSize": 0,
 "copyrightText": "",
 "serviceDataType": "esriImageServiceDataTypeRGB",
 "serviceSourceType": "esriImageServiceSourceTypeDataset",
 "objectIdField": "",
 "fields": [],
 "capabilities": "Image, Metadata",
 "defaultMosaicMethod": "Center",
 "allowedMosaicMethods": "",
 "sortField": "",
 "sortValue": null,
 "sortAscending": true,
 "mosaicOperator": "First",
 "defaultCompressionQuality": 75,
 "defaultResamplingMethod": "Bilinear",
 "maxImageHeight": 4100,
 "maxImageWidth": 15000,
 "singleFusedMapCache": true,
 "tileInfo": {
  "rows": 256,
  "cols": 256,
  "dpi": 96,
  "format": "LERC2D",
  "compressionQuality": 100000,
  "lercError": 0.1,
  "origin": {
   "x": 1573446.751841034,
   "y": 1260030.8658268473
  },
  "spatialReference": {
   "wkid": 102100,
   "latestWkid": 3857
  },
  "lods": [
   {
    "level": 0,
    "resolution": 15.565238403054586,
    "scale": 58829.12984911287
   },
   {
    "level": 1,
    "resolution": 7.782619201527293,
    "scale": 29414.564924556435
   },
   {
    "level": 2,
    "resolution": 3.8913096007636465,
    "scale": 14707.282462278217
   },
   {
    "level": 3,
    "resolution": 1.9456548003818233,
    "scale": 7353.641231139109
   },
   {
    "level": 4,
    "resolution": 0.9728274001909116,
    "scale": 3676.8206155695543
   },
   {
    "level": 5,
    "resolution": 0.4864137000954558,
    "scale": 1838.4103077847772
   }
  ]
 },
 "storageInfo": {
  "storageFormat": "esriMapCacheStorageModeCompactV2",
  "packetSize": 16
 },
 "cacheType": "Raster",
 "allowRasterFunction": true,
 "rasterFunctionInfos": [
  {
   "name": "None",
   "description": "",
   "help": ""
  }
 ],
 "rasterTypeInfos": [
  {
   "name": "Raster Dataset",
   "description": "Supports all ArcGIS Raster Datasets",
   "help": ""
  }
 ],
 "mensurationCapabilities": "Basic",
 "hasHistograms": true,
 "hasColormap": false,
 "hasRasterAttributeTable": false,
 "minScale": 0,
 "maxScale": 0,
 "exportTilesAllowed": false,
 "supportsStatistics": false,
 "supportsAdvancedQueries": false,
 "editFieldsInfo": null,
 "ownershipBasedAccessControlForRasters": null,
 "allowComputeTiePoints": false,
 "useStandardizedQueries": true,
 "advancedQueryCapabilities": {
  "useStandardizedQueries": true,
  "supportsStatistics": false,
  "supportsOrderBy": false,
  "supportsDistinct": false,
  "supportsPagination": false
 },
 "spatialReference": {
  "wkid": 102100,
  "latestWkid": 3857
 }
}
