{
 "currentVersion": 11.5,
 "serviceDescription": "Hosted/20110208_MLI_0m48_WV02_Bandiagara_Clip1",
 "serviceItemId": "5849b4e704dc41d3a5540d6f7bed38d7",
 "name": "Hosted/20110208_MLI_0m48_WV02_Bandiagara_Clip1",
 "description": "",
 "extent": {
  "xmin": -409616.54089999944,
  "ymin": 1611349.7707928955,
  "xmax": -396342.0352811574,
  "ymax": 1618343.7648999987,
  "spatialReference": {
   "wkid": 102100,
   "latestWkid": 3857
  }
 },
 "initialExtent": {
  "xmin": -409616.54089999944,
  "ymin": 1611349.7707928955,
  "xmax": -396342.0352811574,
  "ymax": 1618343.7648999987,
  "spatialReference": {
   "wkid": 102100,
   "latestWkid": 3857
  }
 },
 "fullExtent": {
  "xmin": -409616.54089999944,
  "ymin": 1611349.7707928955,
  "xmax": -396342.0352811574,
  "ymax": 1618343.7648999987,
  "spatialReference": {
   "wkid": 102100,
   "latestWkid": 3857
  }
 },
 "sortableFields": "",
 "bandCount": 3,
 "pixelType": "U8",
 "minValues": [
  1,
  1,
  1
 ],
 "maxValues": [
  255,
  255,
  255
 ],
 "meanValues": [
  204.31812879047712,
  168.52587670073373,
  132.51949898626395
 ],
 "stdvValues": [
  36.79905226459607,
  29.617358816093333,
  23.762357727651786
 ],
 "serviceProperties": "Center<\/MosaicMethod>First<\/MosaicOperator>true<\/SortAscending><\/LockImageID><\/TileOrderField>0<\/TileOrderBase>0.000000<\/AvgImageSpacingX>0.000000<\/AvgImageSpacingY>0.0<\/ViewPointX>0.0<\/ViewPointY>0.0<\/ViewPointDefShiftX>0.0<\/ViewPointDefShiftY>None<\/CompressionMethod>75<\/CompressionQuality>0.010000<\/CompressionTolerance>Bilinear<\/SamplingMethod><\/ImageServiceProperties><\/ImageServer>",
 "allowedFields": "",
 "hasMultidimensions": false,
 "pixelSizeX": 0.49070329804975704,
 "pixelSizeY": 0.4907032980497585,
 "meanPixelSize": 0.49070329804975776,
 "datasetFormat": "Cache/LERC2D",
 "uncompressedSize": 1156716468,
 "blockWidth": 256,
 "blockHeight": 256,
 "compressionType": "LERC2D",
 "bandNames": [
  "Band_1",
  "Band_2",
  "Band_3"
 ],
 "allowCopy": true,
 "allowAnalysis": true,
 "itemAccess": false,
 "inspectionCapabilities": "",
 "minPixelSize": 0,
 "maxPixelSize": 0,
 "copyrightText": "",
 "serviceDataType": "esriImageServiceDataTypeRGB",
 "serviceSourceType": "esriImageServiceSourceTypeDataset",
 "objectIdField": "",
 "fields": [],
 "capabilities": "Image, Metadata",
 "defaultMosaicMethod": "Center",
 "allowedMosaicMethods": "",
 "sortField": "",
 "sortValue": null,
 "sortAscending": true,
 "mosaicOperator": "First",
 "defaultCompressionQuality": 75,
 "defaultResamplingMethod": "Bilinear",
 "maxImageHeight": 4100,
 "maxImageWidth": 15000,
 "singleFusedMapCache": true,
 "tileInfo": {
  "rows": 256,
  "cols": 256,
  "dpi": 96,
  "format": "LERC2D",
  "compressionQuality": 100000,
  "lercError": 0.1,
  "origin": {
   "x": -409616.54089999944,
   "y": 1618343.7648999987
  },
  "spatialReference": {
   "wkid": 102100,
   "latestWkid": 3857
  },
  "lods": [
   {
    "level": 0,
    "resolution": 31.40501107518445,
    "scale": 118695.86745888113
   },
   {
    "level": 1,
    "resolution": 15.702505537592225,
    "scale": 59347.93372944056
   },
   {
    "level": 2,
    "resolution": 7.851252768796113,
    "scale": 29673.96686472028
   },
   {
    "level": 3,
    "resolution": 3.9256263843980563,
    "scale": 14836.98343236014
   },
   {
    "level": 4,
    "resolution": 1.9628131921990282,
    "scale": 7418.49171618007
   },
   {
    "level": 5,
    "resolution": 0.9814065960995141,
    "scale": 3709.245858090035
   },
   {
    "level": 6,
    "resolution": 0.49070329804975704,
    "scale": 1854.6229290450176
   }
  ]
 },
 "storageInfo": {
  "storageFormat": "esriMapCacheStorageModeCompactV2",
  "packetSize": 16
 },
 "cacheType": "Raster",
 "allowRasterFunction": true,
 "rasterFunctionInfos": [
  {
   "name": "None",
   "description": "",
   "help": ""
  }
 ],
 "rasterTypeInfos": [
  {
   "name": "Raster Dataset",
   "description": "Supports all ArcGIS Raster Datasets",
   "help": ""
  }
 ],
 "mensurationCapabilities": "Basic",
 "hasHistograms": true,
 "hasColormap": false,
 "hasRasterAttributeTable": false,
 "minScale": 0,
 "maxScale": 0,
 "exportTilesAllowed": false,
 "supportsStatistics": false,
 "supportsAdvancedQueries": false,
 "editFieldsInfo": null,
 "ownershipBasedAccessControlForRasters": null,
 "allowComputeTiePoints": false,
 "useStandardizedQueries": true,
 "advancedQueryCapabilities": {
  "useStandardizedQueries": true,
  "supportsStatistics": false,
  "supportsOrderBy": false,
  "supportsDistinct": false,
  "supportsPagination": false
 },
 "spatialReference": {
  "wkid": 102100,
  "latestWkid": 3857
 }
}
