{
 "currentVersion": 11.5,
 "serviceDescription": "Hosted/20110316_MLI_0m50_WV02_PignariBana_Clip",
 "serviceItemId": "1f56bd4ce03e4a0cbd9a068edfddab8e",
 "name": "Hosted/20110316_MLI_0m50_WV02_PignariBana_Clip",
 "description": "",
 "extent": {
  "xmin": -443286.7914412751,
  "ymin": 1629250.5046362542,
  "xmax": -435643.08762830024,
  "ymax": 1632747.5474956736,
  "spatialReference": {
   "wkid": 102100,
   "latestWkid": 3857
  }
 },
 "initialExtent": {
  "xmin": -443286.7914412751,
  "ymin": 1629250.5046362542,
  "xmax": -435643.08762830024,
  "ymax": 1632747.5474956736,
  "spatialReference": {
   "wkid": 102100,
   "latestWkid": 3857
  }
 },
 "fullExtent": {
  "xmin": -443286.7914412751,
  "ymin": 1629250.5046362542,
  "xmax": -435643.08762830024,
  "ymax": 1632747.5474956736,
  "spatialReference": {
   "wkid": 102100,
   "latestWkid": 3857
  }
 },
 "sortableFields": "",
 "bandCount": 3,
 "pixelType": "U8",
 "minValues": [
  1,
  1,
  1
 ],
 "maxValues": [
  255,
  255,
  255
 ],
 "meanValues": [
  205.1209058714847,
  166.45051030020628,
  136.14397162872268
 ],
 "stdvValues": [
  33.248331374995004,
  28.085331687266446,
  22.573296070688244
 ],
 "serviceProperties": "Center<\/MosaicMethod>First<\/MosaicOperator>true<\/SortAscending><\/LockImageID><\/TileOrderField>0<\/TileOrderBase>0.000000<\/AvgImageSpacingX>0.000000<\/AvgImageSpacingY>0.0<\/ViewPointX>0.0<\/ViewPointY>0.0<\/ViewPointDefShiftX>0.0<\/ViewPointDefShiftY>None<\/CompressionMethod>75<\/CompressionQuality>0.010000<\/CompressionTolerance>Bilinear<\/SamplingMethod><\/ImageServiceProperties><\/ImageServer>",
 "allowedFields": "",
 "hasMultidimensions": false,
 "pixelSizeX": 0.509105089448172,
 "pixelSizeY": 0.5091050894481703,
 "meanPixelSize": 0.5091050894481712,
 "datasetFormat": "Cache/LERC2D",
 "uncompressedSize": 309348456,
 "blockWidth": 256,
 "blockHeight": 256,
 "compressionType": "LERC2D",
 "bandNames": [
  "Band_1",
  "Band_2",
  "Band_3"
 ],
 "allowCopy": true,
 "allowAnalysis": true,
 "itemAccess": false,
 "inspectionCapabilities": "",
 "minPixelSize": 0,
 "maxPixelSize": 0,
 "copyrightText": "",
 "serviceDataType": "esriImageServiceDataTypeRGB",
 "serviceSourceType": "esriImageServiceSourceTypeDataset",
 "objectIdField": "",
 "fields": [],
 "capabilities": "Image, Metadata",
 "defaultMosaicMethod": "Center",
 "allowedMosaicMethods": "",
 "sortField": "",
 "sortValue": null,
 "sortAscending": true,
 "mosaicOperator": "First",
 "defaultCompressionQuality": 75,
 "defaultResamplingMethod": "Bilinear",
 "maxImageHeight": 4100,
 "maxImageWidth": 15000,
 "singleFusedMapCache": true,
 "tileInfo": {
  "rows": 256,
  "cols": 256,
  "dpi": 96,
  "format": "LERC2D",
  "compressionQuality": 100000,
  "lercError": 0.1,
  "origin": {
   "x": -443286.7914412751,
   "y": 1632747.5474956736
  },
  "spatialReference": {
   "wkid": 102100,
   "latestWkid": 3857
  },
  "lods": [
   {
    "level": 0,
    "resolution": 16.29136286234145,
    "scale": 61573.53176547676
   },
   {
    "level": 1,
    "resolution": 8.145681431170726,
    "scale": 30786.76588273838
   },
   {
    "level": 2,
    "resolution": 4.072840715585363,
    "scale": 15393.38294136919
   },
   {
    "level": 3,
    "resolution": 2.0364203577926814,
    "scale": 7696.691470684595
   },
   {
    "level": 4,
    "resolution": 1.0182101788963407,
    "scale": 3848.3457353422973
   },
   {
    "level": 5,
    "resolution": 0.5091050894481703,
    "scale": 1924.1728676711487
   }
  ]
 },
 "storageInfo": {
  "storageFormat": "esriMapCacheStorageModeCompactV2",
  "packetSize": 16
 },
 "cacheType": "Raster",
 "allowRasterFunction": true,
 "rasterFunctionInfos": [
  {
   "name": "None",
   "description": "",
   "help": ""
  }
 ],
 "rasterTypeInfos": [
  {
   "name": "Raster Dataset",
   "description": "Supports all ArcGIS Raster Datasets",
   "help": ""
  }
 ],
 "mensurationCapabilities": "Basic",
 "hasHistograms": true,
 "hasColormap": false,
 "hasRasterAttributeTable": false,
 "minScale": 0,
 "maxScale": 0,
 "exportTilesAllowed": false,
 "supportsStatistics": false,
 "supportsAdvancedQueries": false,
 "editFieldsInfo": null,
 "ownershipBasedAccessControlForRasters": null,
 "allowComputeTiePoints": false,
 "useStandardizedQueries": true,
 "advancedQueryCapabilities": {
  "useStandardizedQueries": true,
  "supportsStatistics": false,
  "supportsOrderBy": false,
  "supportsDistinct": false,
  "supportsPagination": false
 },
 "spatialReference": {
  "wkid": 102100,
  "latestWkid": 3857
 }
}
