{
 "currentVersion": 11.5,
 "serviceDescription": "Hosted/20111221_CMR_0m49_WV02_Moskota",
 "serviceItemId": "e43bee2adda942edb63f8f5e9b21f16a",
 "name": "Hosted/20111221_CMR_0m49_WV02_Moskota",
 "description": "",
 "extent": {
  "xmin": 1539680.6382468,
  "ymin": 1224243.678086977,
  "xmax": 1547324.6721999417,
  "ymax": 1227741.12695522,
  "spatialReference": {
   "wkid": 102100,
   "latestWkid": 3857
  }
 },
 "initialExtent": {
  "xmin": 1539680.6382468,
  "ymin": 1224243.678086977,
  "xmax": 1547324.6721999417,
  "ymax": 1227741.12695522,
  "spatialReference": {
   "wkid": 102100,
   "latestWkid": 3857
  }
 },
 "fullExtent": {
  "xmin": 1539680.6382468,
  "ymin": 1224243.678086977,
  "xmax": 1547324.6721999417,
  "ymax": 1227741.12695522,
  "spatialReference": {
   "wkid": 102100,
   "latestWkid": 3857
  }
 },
 "sortableFields": "",
 "bandCount": 3,
 "pixelType": "U8",
 "minValues": [
  1,
  1,
  1
 ],
 "maxValues": [
  255,
  255,
  255
 ],
 "meanValues": [
  155.63005937560385,
  139.51369039013645,
  128.8440308480067
 ],
 "stdvValues": [
  26.368791653627177,
  23.559974866722467,
  22.29624963713202
 ],
 "serviceProperties": "Center<\/MosaicMethod>First<\/MosaicOperator>true<\/SortAscending><\/LockImageID><\/TileOrderField>0<\/TileOrderBase>0.000000<\/AvgImageSpacingX>0.000000<\/AvgImageSpacingY>0.0<\/ViewPointX>0.0<\/ViewPointY>0.0<\/ViewPointDefShiftX>0.0<\/ViewPointDefShiftY>None<\/CompressionMethod>75<\/CompressionQuality>0.010000<\/CompressionTolerance>Bilinear<\/SamplingMethod><\/ImageServiceProperties><\/ImageServer>",
 "allowedFields": "",
 "hasMultidimensions": false,
 "pixelSizeX": 0.5055578011337073,
 "pixelSizeY": 0.5055578011337126,
 "meanPixelSize": 0.50555780113371,
 "datasetFormat": "Cache/LERC2D",
 "uncompressedSize": 313800480,
 "blockWidth": 256,
 "blockHeight": 256,
 "compressionType": "LERC2D",
 "bandNames": [
  "Band_1",
  "Band_2",
  "Band_3"
 ],
 "allowCopy": true,
 "allowAnalysis": true,
 "itemAccess": false,
 "inspectionCapabilities": "",
 "minPixelSize": 0,
 "maxPixelSize": 0,
 "copyrightText": "",
 "serviceDataType": "esriImageServiceDataTypeRGB",
 "serviceSourceType": "esriImageServiceSourceTypeDataset",
 "objectIdField": "",
 "fields": [],
 "capabilities": "Image, Metadata",
 "defaultMosaicMethod": "Center",
 "allowedMosaicMethods": "",
 "sortField": "",
 "sortValue": null,
 "sortAscending": true,
 "mosaicOperator": "First",
 "defaultCompressionQuality": 75,
 "defaultResamplingMethod": "Bilinear",
 "maxImageHeight": 4100,
 "maxImageWidth": 15000,
 "singleFusedMapCache": true,
 "tileInfo": {
  "rows": 256,
  "cols": 256,
  "dpi": 96,
  "format": "LERC2D",
  "compressionQuality": 100000,
  "lercError": 0.1,
  "origin": {
   "x": 1539680.6382468,
   "y": 1227741.12695522
  },
  "spatialReference": {
   "wkid": 102100,
   "latestWkid": 3857
  },
  "lods": [
   {
    "level": 0,
    "resolution": 16.177849636278804,
    "scale": 61144.506257308465
   },
   {
    "level": 1,
    "resolution": 8.088924818139402,
    "scale": 30572.253128654233
   },
   {
    "level": 2,
    "resolution": 4.044462409069701,
    "scale": 15286.126564327116
   },
   {
    "level": 3,
    "resolution": 2.0222312045348505,
    "scale": 7643.063282163558
   },
   {
    "level": 4,
    "resolution": 1.0111156022674253,
    "scale": 3821.531641081779
   },
   {
    "level": 5,
    "resolution": 0.5055578011337126,
    "scale": 1910.7658205408895
   }
  ]
 },
 "storageInfo": {
  "storageFormat": "esriMapCacheStorageModeCompactV2",
  "packetSize": 16
 },
 "cacheType": "Raster",
 "allowRasterFunction": true,
 "rasterFunctionInfos": [
  {
   "name": "None",
   "description": "",
   "help": ""
  }
 ],
 "rasterTypeInfos": [
  {
   "name": "Raster Dataset",
   "description": "Supports all ArcGIS Raster Datasets",
   "help": ""
  }
 ],
 "mensurationCapabilities": "Basic",
 "hasHistograms": true,
 "hasColormap": false,
 "hasRasterAttributeTable": false,
 "minScale": 0,
 "maxScale": 0,
 "exportTilesAllowed": false,
 "supportsStatistics": false,
 "supportsAdvancedQueries": false,
 "editFieldsInfo": null,
 "ownershipBasedAccessControlForRasters": null,
 "allowComputeTiePoints": false,
 "useStandardizedQueries": true,
 "advancedQueryCapabilities": {
  "useStandardizedQueries": true,
  "supportsStatistics": false,
  "supportsOrderBy": false,
  "supportsDistinct": false,
  "supportsPagination": false
 },
 "spatialReference": {
  "wkid": 102100,
  "latestWkid": 3857
 }
}
