{
 "currentVersion": 11.5,
 "serviceDescription": "Hosted/20111221_CMR_0m49_WV02_Mozogo",
 "serviceItemId": "977e8a0616f74fce91ec23880450fc7c",
 "name": "Hosted/20111221_CMR_0m49_WV02_Mozogo",
 "description": "",
 "extent": {
  "xmin": 1546018.0011979155,
  "ymin": 1223820.6407957696,
  "xmax": 1553590.9238634754,
  "ymax": 1231218.1309114296,
  "spatialReference": {
   "wkid": 102100,
   "latestWkid": 3857
  }
 },
 "initialExtent": {
  "xmin": 1546018.0011979155,
  "ymin": 1223820.6407957696,
  "xmax": 1553590.9238634754,
  "ymax": 1231218.1309114296,
  "spatialReference": {
   "wkid": 102100,
   "latestWkid": 3857
  }
 },
 "fullExtent": {
  "xmin": 1546018.0011979155,
  "ymin": 1223820.6407957696,
  "xmax": 1553590.9238634754,
  "ymax": 1231218.1309114296,
  "spatialReference": {
   "wkid": 102100,
   "latestWkid": 3857
  }
 },
 "sortableFields": "",
 "bandCount": 3,
 "pixelType": "U8",
 "minValues": [
  1,
  1,
  1
 ],
 "maxValues": [
  255,
  255,
  255
 ],
 "meanValues": [
  146.78941842881133,
  131.92902413217197,
  122.92717761473706
 ],
 "stdvValues": [
  34.76593575287818,
  31.738324867086035,
  30.50556960802078
 ],
 "serviceProperties": "Center<\/MosaicMethod>First<\/MosaicOperator>true<\/SortAscending><\/LockImageID><\/TileOrderField>0<\/TileOrderBase>0.000000<\/AvgImageSpacingX>0.000000<\/AvgImageSpacingY>0.0<\/ViewPointX>0.0<\/ViewPointY>0.0<\/ViewPointDefShiftX>0.0<\/ViewPointDefShiftY>None<\/CompressionMethod>75<\/CompressionQuality>0.010000<\/CompressionTolerance>Bilinear<\/SamplingMethod><\/ImageServiceProperties><\/ImageServer>",
 "allowedFields": "",
 "hasMultidimensions": false,
 "pixelSizeX": 0.505569308068624,
 "pixelSizeY": 0.5055693080686174,
 "meanPixelSize": 0.5055693080686208,
 "datasetFormat": "Cache/LERC2D",
 "uncompressedSize": 657473247,
 "blockWidth": 256,
 "blockHeight": 256,
 "compressionType": "LERC2D",
 "bandNames": [
  "Band_1",
  "Band_2",
  "Band_3"
 ],
 "allowCopy": true,
 "allowAnalysis": true,
 "itemAccess": false,
 "inspectionCapabilities": "",
 "minPixelSize": 0,
 "maxPixelSize": 0,
 "copyrightText": "",
 "serviceDataType": "esriImageServiceDataTypeRGB",
 "serviceSourceType": "esriImageServiceSourceTypeDataset",
 "objectIdField": "",
 "fields": [],
 "capabilities": "Image, Metadata",
 "defaultMosaicMethod": "Center",
 "allowedMosaicMethods": "",
 "sortField": "",
 "sortValue": null,
 "sortAscending": true,
 "mosaicOperator": "First",
 "defaultCompressionQuality": 75,
 "defaultResamplingMethod": "Bilinear",
 "maxImageHeight": 4100,
 "maxImageWidth": 15000,
 "singleFusedMapCache": true,
 "tileInfo": {
  "rows": 256,
  "cols": 256,
  "dpi": 96,
  "format": "LERC2D",
  "compressionQuality": 100000,
  "lercError": 0.1,
  "origin": {
   "x": 1546018.0011979155,
   "y": 1231218.1309114296
  },
  "spatialReference": {
   "wkid": 102100,
   "latestWkid": 3857
  },
  "lods": [
   {
    "level": 0,
    "resolution": 32.356435716391516,
    "scale": 122291.79591881606
   },
   {
    "level": 1,
    "resolution": 16.178217858195758,
    "scale": 61145.89795940803
   },
   {
    "level": 2,
    "resolution": 8.089108929097879,
    "scale": 30572.948979704015
   },
   {
    "level": 3,
    "resolution": 4.0445544645489395,
    "scale": 15286.474489852008
   },
   {
    "level": 4,
    "resolution": 2.0222772322744698,
    "scale": 7643.237244926004
   },
   {
    "level": 5,
    "resolution": 1.0111386161372349,
    "scale": 3821.618622463002
   },
   {
    "level": 6,
    "resolution": 0.5055693080686174,
    "scale": 1910.809311231501
   }
  ]
 },
 "storageInfo": {
  "storageFormat": "esriMapCacheStorageModeCompactV2",
  "packetSize": 16
 },
 "cacheType": "Raster",
 "allowRasterFunction": true,
 "rasterFunctionInfos": [
  {
   "name": "None",
   "description": "",
   "help": ""
  }
 ],
 "rasterTypeInfos": [
  {
   "name": "Raster Dataset",
   "description": "Supports all ArcGIS Raster Datasets",
   "help": ""
  }
 ],
 "mensurationCapabilities": "Basic",
 "hasHistograms": true,
 "hasColormap": false,
 "hasRasterAttributeTable": false,
 "minScale": 0,
 "maxScale": 0,
 "exportTilesAllowed": false,
 "supportsStatistics": false,
 "supportsAdvancedQueries": false,
 "editFieldsInfo": null,
 "ownershipBasedAccessControlForRasters": null,
 "allowComputeTiePoints": false,
 "useStandardizedQueries": true,
 "advancedQueryCapabilities": {
  "useStandardizedQueries": true,
  "supportsStatistics": false,
  "supportsOrderBy": false,
  "supportsDistinct": false,
  "supportsPagination": false
 },
 "spatialReference": {
  "wkid": 102100,
  "latestWkid": 3857
 }
}
