{
 "currentVersion": 11.5,
 "serviceDescription": "Hosted/20130323_NER_0m46_GE01_Ngagam_Clip",
 "serviceItemId": "760fe98a350740de99ea35c3654d925d",
 "name": "Hosted/20130323_NER_0m46_GE01_Ngagam_Clip",
 "description": "",
 "extent": {
  "xmin": 1424212.9715999998,
  "ymin": 1519004.2558960875,
  "xmax": 1439500.1481097753,
  "ymax": 1525562.9045000002,
  "spatialReference": {
   "wkid": 102100,
   "latestWkid": 3857
  }
 },
 "initialExtent": {
  "xmin": 1424212.9715999998,
  "ymin": 1519004.2558960875,
  "xmax": 1439500.1481097753,
  "ymax": 1525562.9045000002,
  "spatialReference": {
   "wkid": 102100,
   "latestWkid": 3857
  }
 },
 "fullExtent": {
  "xmin": 1424212.9715999998,
  "ymin": 1519004.2558960875,
  "xmax": 1439500.1481097753,
  "ymax": 1525562.9045000002,
  "spatialReference": {
   "wkid": 102100,
   "latestWkid": 3857
  }
 },
 "sortableFields": "",
 "bandCount": 3,
 "pixelType": "U8",
 "minValues": [
  1,
  1,
  1
 ],
 "maxValues": [
  255,
  255,
  255
 ],
 "meanValues": [
  205.99412542281266,
  196.51774291176497,
  188.0074923706871
 ],
 "stdvValues": [
  20.464484455370087,
  20.93384214979714,
  21.590913597478675
 ],
 "serviceProperties": "Center<\/MosaicMethod>First<\/MosaicOperator>true<\/SortAscending><\/LockImageID><\/TileOrderField>0<\/TileOrderBase>0.000000<\/AvgImageSpacingX>0.000000<\/AvgImageSpacingY>0.0<\/ViewPointX>0.0<\/ViewPointY>0.0<\/ViewPointDefShiftX>0.0<\/ViewPointDefShiftY>None<\/CompressionMethod>75<\/CompressionQuality>0.010000<\/CompressionTolerance>Bilinear<\/SamplingMethod><\/ImageServiceProperties><\/ImageServer>",
 "allowedFields": "",
 "hasMultidimensions": false,
 "pixelSizeX": 0.4623650760601111,
 "pixelSizeY": 0.46236507606011107,
 "meanPixelSize": 0.4623650760601111,
 "datasetFormat": "Cache/LERC2D",
 "uncompressedSize": 1406995965,
 "blockWidth": 256,
 "blockHeight": 256,
 "compressionType": "LERC2D",
 "bandNames": [
  "Band_1",
  "Band_2",
  "Band_3"
 ],
 "allowCopy": true,
 "allowAnalysis": true,
 "itemAccess": false,
 "inspectionCapabilities": "",
 "minPixelSize": 0,
 "maxPixelSize": 0,
 "copyrightText": "",
 "serviceDataType": "esriImageServiceDataTypeRGB",
 "serviceSourceType": "esriImageServiceSourceTypeDataset",
 "objectIdField": "",
 "fields": [],
 "capabilities": "Image, Metadata",
 "defaultMosaicMethod": "Center",
 "allowedMosaicMethods": "",
 "sortField": "",
 "sortValue": null,
 "sortAscending": true,
 "mosaicOperator": "First",
 "defaultCompressionQuality": 75,
 "defaultResamplingMethod": "Bilinear",
 "maxImageHeight": 4100,
 "maxImageWidth": 15000,
 "singleFusedMapCache": true,
 "tileInfo": {
  "rows": 256,
  "cols": 256,
  "dpi": 96,
  "format": "LERC2D",
  "compressionQuality": 100000,
  "lercError": 0.1,
  "origin": {
   "x": 1424212.9715999998,
   "y": 1525562.9045000002
  },
  "spatialReference": {
   "wkid": 102100,
   "latestWkid": 3857
  },
  "lods": [
   {
    "level": 0,
    "resolution": 29.59136486784711,
    "scale": 111841.1553453255
   },
   {
    "level": 1,
    "resolution": 14.795682433923554,
    "scale": 55920.57767266275
   },
   {
    "level": 2,
    "resolution": 7.397841216961777,
    "scale": 27960.288836331376
   },
   {
    "level": 3,
    "resolution": 3.6989206084808885,
    "scale": 13980.144418165688
   },
   {
    "level": 4,
    "resolution": 1.8494603042404443,
    "scale": 6990.072209082844
   },
   {
    "level": 5,
    "resolution": 0.9247301521202221,
    "scale": 3495.036104541422
   },
   {
    "level": 6,
    "resolution": 0.46236507606011107,
    "scale": 1747.518052270711
   }
  ]
 },
 "storageInfo": {
  "storageFormat": "esriMapCacheStorageModeCompactV2",
  "packetSize": 16
 },
 "cacheType": "Raster",
 "allowRasterFunction": true,
 "rasterFunctionInfos": [
  {
   "name": "None",
   "description": "",
   "help": ""
  }
 ],
 "rasterTypeInfos": [
  {
   "name": "Raster Dataset",
   "description": "Supports all ArcGIS Raster Datasets",
   "help": ""
  }
 ],
 "mensurationCapabilities": "Basic",
 "hasHistograms": true,
 "hasColormap": false,
 "hasRasterAttributeTable": false,
 "minScale": 0,
 "maxScale": 0,
 "exportTilesAllowed": false,
 "supportsStatistics": false,
 "supportsAdvancedQueries": false,
 "editFieldsInfo": null,
 "ownershipBasedAccessControlForRasters": null,
 "allowComputeTiePoints": false,
 "useStandardizedQueries": true,
 "advancedQueryCapabilities": {
  "useStandardizedQueries": true,
  "supportsStatistics": false,
  "supportsOrderBy": false,
  "supportsDistinct": false,
  "supportsPagination": false
 },
 "spatialReference": {
  "wkid": 102100,
  "latestWkid": 3857
 }
}
