{
 "currentVersion": 11.5,
 "serviceDescription": "Hosted/20130608_NER_0m48_GE01_Chetmari_Clip",
 "serviceItemId": "e0ca6e3a6bd547a3a4cf6abdfbfb96f5",
 "name": "Hosted/20130608_NER_0m48_GE01_Chetmari_Clip",
 "description": "",
 "extent": {
  "xmin": 1375121.1286999993,
  "ymin": 1477394.1925734722,
  "xmax": 1390408.57742411,
  "ymax": 1484388.0613000002,
  "spatialReference": {
   "wkid": 102100,
   "latestWkid": 3857
  }
 },
 "initialExtent": {
  "xmin": 1375121.1286999993,
  "ymin": 1477394.1925734722,
  "xmax": 1390408.57742411,
  "ymax": 1484388.0613000002,
  "spatialReference": {
   "wkid": 102100,
   "latestWkid": 3857
  }
 },
 "fullExtent": {
  "xmin": 1375121.1286999993,
  "ymin": 1477394.1925734722,
  "xmax": 1390408.57742411,
  "ymax": 1484388.0613000002,
  "spatialReference": {
   "wkid": 102100,
   "latestWkid": 3857
  }
 },
 "sortableFields": "",
 "bandCount": 3,
 "pixelType": "U8",
 "minValues": [
  1,
  1,
  1
 ],
 "maxValues": [
  255,
  255,
  255
 ],
 "meanValues": [
  193.38934462511273,
  178.51683239120106,
  157.28094727675332
 ],
 "stdvValues": [
  27.110901940512296,
  25.48418851238175,
  23.839783310172002
 ],
 "serviceProperties": "Center<\/MosaicMethod>First<\/MosaicOperator>true<\/SortAscending><\/LockImageID><\/TileOrderField>0<\/TileOrderBase>0.000000<\/AvgImageSpacingX>0.000000<\/AvgImageSpacingY>0.0<\/ViewPointX>0.0<\/ViewPointY>0.0<\/ViewPointDefShiftX>0.0<\/ViewPointDefShiftY>None<\/CompressionMethod>75<\/CompressionQuality>0.010000<\/CompressionTolerance>Bilinear<\/SamplingMethod><\/ImageServiceProperties><\/ImageServer>",
 "allowedFields": "",
 "hasMultidimensions": false,
 "pixelSizeX": 0.4837034875529382,
 "pixelSizeY": 0.48370348755294396,
 "meanPixelSize": 0.48370348755294107,
 "datasetFormat": "Cache/LERC2D",
 "uncompressedSize": 1370930085,
 "blockWidth": 256,
 "blockHeight": 256,
 "compressionType": "LERC2D",
 "bandNames": [
  "Band_1",
  "Band_2",
  "Band_3"
 ],
 "allowCopy": true,
 "allowAnalysis": true,
 "itemAccess": false,
 "inspectionCapabilities": "",
 "minPixelSize": 0,
 "maxPixelSize": 0,
 "copyrightText": "",
 "serviceDataType": "esriImageServiceDataTypeRGB",
 "serviceSourceType": "esriImageServiceSourceTypeDataset",
 "objectIdField": "",
 "fields": [],
 "capabilities": "Image, Metadata",
 "defaultMosaicMethod": "Center",
 "allowedMosaicMethods": "",
 "sortField": "",
 "sortValue": null,
 "sortAscending": true,
 "mosaicOperator": "First",
 "defaultCompressionQuality": 75,
 "defaultResamplingMethod": "Bilinear",
 "maxImageHeight": 4100,
 "maxImageWidth": 15000,
 "singleFusedMapCache": true,
 "tileInfo": {
  "rows": 256,
  "cols": 256,
  "dpi": 96,
  "format": "LERC2D",
  "compressionQuality": 100000,
  "lercError": 0.1,
  "origin": {
   "x": 1375121.1286999993,
   "y": 1484388.0613000002
  },
  "spatialReference": {
   "wkid": 102100,
   "latestWkid": 3857
  },
  "lods": [
   {
    "level": 0,
    "resolution": 30.957023203388044,
    "scale": 117002.68833766917
   },
   {
    "level": 1,
    "resolution": 15.478511601694022,
    "scale": 58501.344168834585
   },
   {
    "level": 2,
    "resolution": 7.739255800847011,
    "scale": 29250.672084417292
   },
   {
    "level": 3,
    "resolution": 3.8696279004235055,
    "scale": 14625.336042208646
   },
   {
    "level": 4,
    "resolution": 1.9348139502117527,
    "scale": 7312.668021104323
   },
   {
    "level": 5,
    "resolution": 0.9674069751058764,
    "scale": 3656.3340105521615
   },
   {
    "level": 6,
    "resolution": 0.4837034875529382,
    "scale": 1828.1670052760808
   }
  ]
 },
 "storageInfo": {
  "storageFormat": "esriMapCacheStorageModeCompactV2",
  "packetSize": 16
 },
 "cacheType": "Raster",
 "allowRasterFunction": true,
 "rasterFunctionInfos": [
  {
   "name": "None",
   "description": "",
   "help": ""
  }
 ],
 "rasterTypeInfos": [
  {
   "name": "Raster Dataset",
   "description": "Supports all ArcGIS Raster Datasets",
   "help": ""
  }
 ],
 "mensurationCapabilities": "Basic",
 "hasHistograms": true,
 "hasColormap": false,
 "hasRasterAttributeTable": false,
 "minScale": 0,
 "maxScale": 0,
 "exportTilesAllowed": false,
 "supportsStatistics": false,
 "supportsAdvancedQueries": false,
 "editFieldsInfo": null,
 "ownershipBasedAccessControlForRasters": null,
 "allowComputeTiePoints": false,
 "useStandardizedQueries": true,
 "advancedQueryCapabilities": {
  "useStandardizedQueries": true,
  "supportsStatistics": false,
  "supportsOrderBy": false,
  "supportsDistinct": false,
  "supportsPagination": false
 },
 "spatialReference": {
  "wkid": 102100,
  "latestWkid": 3857
 }
}
