{
 "currentVersion": 11.5,
 "serviceDescription": "Hosted/20130608_NGA_0m42_GE01_Damasak_Clip",
 "serviceItemId": "7bfd0a0890d44884877546c3fc000b57",
 "name": "Hosted/20130608_NGA_0m42_GE01_Damasak_Clip",
 "description": "",
 "extent": {
  "xmin": 1383768.1809,
  "ymin": 1467772.1101141842,
  "xmax": 1399055.448453961,
  "ymax": 1474766.4549999991,
  "spatialReference": {
   "wkid": 102100,
   "latestWkid": 3857
  }
 },
 "initialExtent": {
  "xmin": 1383768.1809,
  "ymin": 1467772.1101141842,
  "xmax": 1399055.448453961,
  "ymax": 1474766.4549999991,
  "spatialReference": {
   "wkid": 102100,
   "latestWkid": 3857
  }
 },
 "fullExtent": {
  "xmin": 1383768.1809,
  "ymin": 1467772.1101141842,
  "xmax": 1399055.448453961,
  "ymax": 1474766.4549999991,
  "spatialReference": {
   "wkid": 102100,
   "latestWkid": 3857
  }
 },
 "sortableFields": "",
 "bandCount": 3,
 "pixelType": "U8",
 "minValues": [
  1,
  1,
  1
 ],
 "maxValues": [
  255,
  255,
  255
 ],
 "meanValues": [
  162.39964058220073,
  150.0378687254318,
  131.14227687747885
 ],
 "stdvValues": [
  39.034037871541685,
  35.03367006250163,
  31.61978060465039
 ],
 "serviceProperties": "Center<\/MosaicMethod>First<\/MosaicOperator>true<\/SortAscending><\/LockImageID><\/TileOrderField>0<\/TileOrderBase>0.000000<\/AvgImageSpacingX>0.000000<\/AvgImageSpacingY>0.0<\/ViewPointX>0.0<\/ViewPointY>0.0<\/ViewPointDefShiftX>0.0<\/ViewPointDefShiftY>None<\/CompressionMethod>75<\/CompressionQuality>0.010000<\/CompressionTolerance>Bilinear<\/SamplingMethod><\/ImageServiceProperties><\/ImageServer>",
 "allowedFields": "",
 "hasMultidimensions": false,
 "pixelSizeX": 0.41997987785606883,
 "pixelSizeY": 0.4199798778560667,
 "meanPixelSize": 0.4199798778560678,
 "datasetFormat": "Cache/LERC2D",
 "uncompressedSize": 1818616800,
 "blockWidth": 256,
 "blockHeight": 256,
 "compressionType": "LERC2D",
 "bandNames": [
  "Band_1",
  "Band_2",
  "Band_3"
 ],
 "allowCopy": true,
 "allowAnalysis": true,
 "itemAccess": false,
 "inspectionCapabilities": "",
 "minPixelSize": 0,
 "maxPixelSize": 0,
 "copyrightText": "",
 "serviceDataType": "esriImageServiceDataTypeRGB",
 "serviceSourceType": "esriImageServiceSourceTypeDataset",
 "objectIdField": "",
 "fields": [],
 "capabilities": "Image, Metadata",
 "defaultMosaicMethod": "Center",
 "allowedMosaicMethods": "",
 "sortField": "",
 "sortValue": null,
 "sortAscending": true,
 "mosaicOperator": "First",
 "defaultCompressionQuality": 75,
 "defaultResamplingMethod": "Bilinear",
 "maxImageHeight": 4100,
 "maxImageWidth": 15000,
 "singleFusedMapCache": true,
 "tileInfo": {
  "rows": 256,
  "cols": 256,
  "dpi": 96,
  "format": "LERC2D",
  "compressionQuality": 100000,
  "lercError": 0.1,
  "origin": {
   "x": 1383768.1809,
   "y": 1474766.4549999991
  },
  "spatialReference": {
   "wkid": 102100,
   "latestWkid": 3857
  },
  "lods": [
   {
    "level": 0,
    "resolution": 53.75742436557654,
    "scale": 203177.26053818382
   },
   {
    "level": 1,
    "resolution": 26.87871218278827,
    "scale": 101588.63026909191
   },
   {
    "level": 2,
    "resolution": 13.439356091394135,
    "scale": 50794.315134545956
   },
   {
    "level": 3,
    "resolution": 6.7196780456970675,
    "scale": 25397.157567272978
   },
   {
    "level": 4,
    "resolution": 3.3598390228485338,
    "scale": 12698.578783636489
   },
   {
    "level": 5,
    "resolution": 1.6799195114242669,
    "scale": 6349.289391818244
   },
   {
    "level": 6,
    "resolution": 0.8399597557121334,
    "scale": 3174.644695909122
   },
   {
    "level": 7,
    "resolution": 0.4199798778560667,
    "scale": 1587.322347954561
   }
  ]
 },
 "storageInfo": {
  "storageFormat": "esriMapCacheStorageModeCompactV2",
  "packetSize": 16
 },
 "cacheType": "Raster",
 "allowRasterFunction": true,
 "rasterFunctionInfos": [
  {
   "name": "None",
   "description": "",
   "help": ""
  }
 ],
 "rasterTypeInfos": [
  {
   "name": "Raster Dataset",
   "description": "Supports all ArcGIS Raster Datasets",
   "help": ""
  }
 ],
 "mensurationCapabilities": "Basic",
 "hasHistograms": true,
 "hasColormap": false,
 "hasRasterAttributeTable": false,
 "minScale": 0,
 "maxScale": 0,
 "exportTilesAllowed": false,
 "supportsStatistics": false,
 "supportsAdvancedQueries": false,
 "editFieldsInfo": null,
 "ownershipBasedAccessControlForRasters": null,
 "allowComputeTiePoints": false,
 "useStandardizedQueries": true,
 "advancedQueryCapabilities": {
  "useStandardizedQueries": true,
  "supportsStatistics": false,
  "supportsOrderBy": false,
  "supportsDistinct": false,
  "supportsPagination": false
 },
 "spatialReference": {
  "wkid": 102100,
  "latestWkid": 3857
 }
}
