{
 "currentVersion": 11.5,
 "serviceDescription": "Hosted/20140309_NGA_0m51_WV02_Damasak_Clip",
 "serviceItemId": "ae0ef151f8c14652885d2a4948af6f91",
 "name": "Hosted/20140309_NGA_0m51_WV02_Damasak_Clip",
 "description": "",
 "extent": {
  "xmin": 1383768.2848999985,
  "ymin": 1467772.370412484,
  "xmax": 1398920.1477721168,
  "ymax": 1474766.4627000007,
  "spatialReference": {
   "wkid": 102100,
   "latestWkid": 3857
  }
 },
 "initialExtent": {
  "xmin": 1383768.2848999985,
  "ymin": 1467772.370412484,
  "xmax": 1398920.1477721168,
  "ymax": 1474766.4627000007,
  "spatialReference": {
   "wkid": 102100,
   "latestWkid": 3857
  }
 },
 "fullExtent": {
  "xmin": 1383768.2848999985,
  "ymin": 1467772.370412484,
  "xmax": 1398920.1477721168,
  "ymax": 1474766.4627000007,
  "spatialReference": {
   "wkid": 102100,
   "latestWkid": 3857
  }
 },
 "sortableFields": "",
 "bandCount": 3,
 "pixelType": "U8",
 "minValues": [
  1,
  1,
  1
 ],
 "maxValues": [
  255,
  255,
  255
 ],
 "meanValues": [
  147.96289279640007,
  138.0285680831469,
  120.69665295803999
 ],
 "stdvValues": [
  43.67183927508403,
  39.88253810628376,
  37.136408346918074
 ],
 "serviceProperties": "Center<\/MosaicMethod>First<\/MosaicOperator>true<\/SortAscending><\/LockImageID><\/TileOrderField>0<\/TileOrderBase>0.000000<\/AvgImageSpacingX>0.000000<\/AvgImageSpacingY>0.0<\/ViewPointX>0.0<\/ViewPointY>0.0<\/ViewPointDefShiftX>0.0<\/ViewPointDefShiftY>None<\/CompressionMethod>75<\/CompressionQuality>0.010000<\/CompressionTolerance>Bilinear<\/SamplingMethod><\/ImageServiceProperties><\/ImageServer>",
 "allowedFields": "",
 "hasMultidimensions": false,
 "pixelSizeX": 0.5009377086031132,
 "pixelSizeY": 0.5009377086031147,
 "meanPixelSize": 0.5009377086031139,
 "datasetFormat": "Cache/LERC2D",
 "uncompressedSize": 1266835101,
 "blockWidth": 256,
 "blockHeight": 256,
 "compressionType": "LERC2D",
 "bandNames": [
  "Band_1",
  "Band_2",
  "Band_3"
 ],
 "allowCopy": true,
 "allowAnalysis": true,
 "itemAccess": false,
 "inspectionCapabilities": "",
 "minPixelSize": 0,
 "maxPixelSize": 0,
 "copyrightText": "",
 "serviceDataType": "esriImageServiceDataTypeRGB",
 "serviceSourceType": "esriImageServiceSourceTypeDataset",
 "objectIdField": "",
 "fields": [],
 "capabilities": "Image, Metadata",
 "defaultMosaicMethod": "Center",
 "allowedMosaicMethods": "",
 "sortField": "",
 "sortValue": null,
 "sortAscending": true,
 "mosaicOperator": "First",
 "defaultCompressionQuality": 75,
 "defaultResamplingMethod": "Bilinear",
 "maxImageHeight": 4100,
 "maxImageWidth": 15000,
 "singleFusedMapCache": true,
 "tileInfo": {
  "rows": 256,
  "cols": 256,
  "dpi": 96,
  "format": "LERC2D",
  "compressionQuality": 100000,
  "lercError": 0.1,
  "origin": {
   "x": 1383768.2848999985,
   "y": 1474766.4627000007
  },
  "spatialReference": {
   "wkid": 102100,
   "latestWkid": 3857
  },
  "lods": [
   {
    "level": 0,
    "resolution": 32.06001335059924,
    "scale": 121171.46165885685
   },
   {
    "level": 1,
    "resolution": 16.03000667529962,
    "scale": 60585.73082942842
   },
   {
    "level": 2,
    "resolution": 8.01500333764981,
    "scale": 30292.86541471421
   },
   {
    "level": 3,
    "resolution": 4.007501668824905,
    "scale": 15146.432707357106
   },
   {
    "level": 4,
    "resolution": 2.0037508344124526,
    "scale": 7573.216353678553
   },
   {
    "level": 5,
    "resolution": 1.0018754172062263,
    "scale": 3786.6081768392764
   },
   {
    "level": 6,
    "resolution": 0.5009377086031132,
    "scale": 1893.3040884196382
   }
  ]
 },
 "storageInfo": {
  "storageFormat": "esriMapCacheStorageModeCompactV2",
  "packetSize": 16
 },
 "cacheType": "Raster",
 "allowRasterFunction": true,
 "rasterFunctionInfos": [
  {
   "name": "None",
   "description": "",
   "help": ""
  }
 ],
 "rasterTypeInfos": [
  {
   "name": "Raster Dataset",
   "description": "Supports all ArcGIS Raster Datasets",
   "help": ""
  }
 ],
 "mensurationCapabilities": "Basic",
 "hasHistograms": true,
 "hasColormap": false,
 "hasRasterAttributeTable": false,
 "minScale": 0,
 "maxScale": 0,
 "exportTilesAllowed": false,
 "supportsStatistics": false,
 "supportsAdvancedQueries": false,
 "editFieldsInfo": null,
 "ownershipBasedAccessControlForRasters": null,
 "allowComputeTiePoints": false,
 "useStandardizedQueries": true,
 "advancedQueryCapabilities": {
  "useStandardizedQueries": true,
  "supportsStatistics": false,
  "supportsOrderBy": false,
  "supportsDistinct": false,
  "supportsPagination": false
 },
 "spatialReference": {
  "wkid": 102100,
  "latestWkid": 3857
 }
}
