{
 "currentVersion": 11.5,
 "serviceDescription": "Hosted/20140415_NER_0m66_QB02_Ngagam_Clip",
 "serviceItemId": "26b8fb20c28546b188943aec8d82c65b",
 "name": "Hosted/20140415_NER_0m66_QB02_Ngagam_Clip",
 "description": "",
 "extent": {
  "xmin": 1424150.2481999993,
  "ymin": 1518914.5872000002,
  "xmax": 1439558.8481999994,
  "ymax": 1526133.1872000003,
  "spatialReference": {
   "wkid": 102100,
   "latestWkid": 3857
  }
 },
 "initialExtent": {
  "xmin": 1424150.2481999993,
  "ymin": 1518914.5872000002,
  "xmax": 1439558.8481999994,
  "ymax": 1526133.1872000003,
  "spatialReference": {
   "wkid": 102100,
   "latestWkid": 3857
  }
 },
 "fullExtent": {
  "xmin": 1424150.2481999993,
  "ymin": 1518914.5872000002,
  "xmax": 1439558.8481999994,
  "ymax": 1526133.1872000003,
  "spatialReference": {
   "wkid": 102100,
   "latestWkid": 3857
  }
 },
 "sortableFields": "",
 "bandCount": 3,
 "pixelType": "U8",
 "minValues": [
  1,
  1,
  1
 ],
 "maxValues": [
  255,
  255,
  255
 ],
 "meanValues": [
  171.96860145929335,
  169.8800809208662,
  150.39372178741044
 ],
 "stdvValues": [
  24.74959540919647,
  23.84828203015847,
  18.79474375360371
 ],
 "serviceProperties": "Center<\/MosaicMethod>First<\/MosaicOperator>true<\/SortAscending><\/LockImageID><\/TileOrderField>0<\/TileOrderBase>0.000000<\/AvgImageSpacingX>0.000000<\/AvgImageSpacingY>0.0<\/ViewPointX>0.0<\/ViewPointY>0.0<\/ViewPointDefShiftX>0.0<\/ViewPointDefShiftY>None<\/CompressionMethod>75<\/CompressionQuality>0.010000<\/CompressionTolerance>Bilinear<\/SamplingMethod><\/ImageServiceProperties><\/ImageServer>",
 "allowedFields": "",
 "hasMultidimensions": false,
 "pixelSizeX": 0.6000000000000036,
 "pixelSizeY": 0.6000000000000077,
 "meanPixelSize": 0.6000000000000056,
 "datasetFormat": "Cache/LERC2D",
 "uncompressedSize": 926904333,
 "blockWidth": 256,
 "blockHeight": 256,
 "compressionType": "LERC2D",
 "bandNames": [
  "Band_1",
  "Band_2",
  "Band_3"
 ],
 "allowCopy": true,
 "allowAnalysis": true,
 "itemAccess": false,
 "inspectionCapabilities": "",
 "minPixelSize": 0,
 "maxPixelSize": 0,
 "copyrightText": "",
 "serviceDataType": "esriImageServiceDataTypeRGB",
 "serviceSourceType": "esriImageServiceSourceTypeDataset",
 "objectIdField": "",
 "fields": [],
 "capabilities": "Image, Metadata",
 "defaultMosaicMethod": "Center",
 "allowedMosaicMethods": "",
 "sortField": "",
 "sortValue": null,
 "sortAscending": true,
 "mosaicOperator": "First",
 "defaultCompressionQuality": 75,
 "defaultResamplingMethod": "Bilinear",
 "maxImageHeight": 4100,
 "maxImageWidth": 15000,
 "singleFusedMapCache": true,
 "tileInfo": {
  "rows": 256,
  "cols": 256,
  "dpi": 96,
  "format": "LERC2D",
  "compressionQuality": 100000,
  "lercError": 0.1,
  "origin": {
   "x": 1424150.2481999993,
   "y": 1526133.1872000003
  },
  "spatialReference": {
   "wkid": 102100,
   "latestWkid": 3857
  },
  "lods": [
   {
    "level": 0,
    "resolution": 38.40000000000023,
    "scale": 145133.56800000087
   },
   {
    "level": 1,
    "resolution": 19.200000000000117,
    "scale": 72566.78400000044
   },
   {
    "level": 2,
    "resolution": 9.600000000000058,
    "scale": 36283.39200000022
   },
   {
    "level": 3,
    "resolution": 4.800000000000029,
    "scale": 18141.69600000011
   },
   {
    "level": 4,
    "resolution": 2.4000000000000146,
    "scale": 9070.848000000055
   },
   {
    "level": 5,
    "resolution": 1.2000000000000073,
    "scale": 4535.424000000027
   },
   {
    "level": 6,
    "resolution": 0.6000000000000036,
    "scale": 2267.7120000000136
   }
  ]
 },
 "storageInfo": {
  "storageFormat": "esriMapCacheStorageModeCompactV2",
  "packetSize": 16
 },
 "cacheType": "Raster",
 "allowRasterFunction": true,
 "rasterFunctionInfos": [
  {
   "name": "None",
   "description": "",
   "help": ""
  }
 ],
 "rasterTypeInfos": [
  {
   "name": "Raster Dataset",
   "description": "Supports all ArcGIS Raster Datasets",
   "help": ""
  }
 ],
 "mensurationCapabilities": "Basic",
 "hasHistograms": true,
 "hasColormap": false,
 "hasRasterAttributeTable": false,
 "minScale": 0,
 "maxScale": 0,
 "exportTilesAllowed": false,
 "supportsStatistics": false,
 "supportsAdvancedQueries": false,
 "editFieldsInfo": null,
 "ownershipBasedAccessControlForRasters": null,
 "allowComputeTiePoints": false,
 "useStandardizedQueries": true,
 "advancedQueryCapabilities": {
  "useStandardizedQueries": true,
  "supportsStatistics": false,
  "supportsOrderBy": false,
  "supportsDistinct": false,
  "supportsPagination": false
 },
 "spatialReference": {
  "wkid": 102100,
  "latestWkid": 3857
 }
}
