{
 "currentVersion": 11.5,
 "serviceDescription": "Hosted/20141103_MLI_Doucombo_0m35_WV03_VNIR_Clip",
 "serviceItemId": "0162c016cd3d494cb694528297ae9c10",
 "name": "Hosted/20141103_MLI_Doucombo_0m35_WV03_VNIR_Clip",
 "description": "",
 "extent": {
  "xmin": -409229.39407005545,
  "ymin": 1614134.98546768,
  "xmax": -405407.74243964587,
  "ymax": 1615883.6365324412,
  "spatialReference": {
   "wkid": 102100,
   "latestWkid": 3857
  }
 },
 "initialExtent": {
  "xmin": -409229.39407005545,
  "ymin": 1614134.98546768,
  "xmax": -405407.74243964587,
  "ymax": 1615883.6365324412,
  "spatialReference": {
   "wkid": 102100,
   "latestWkid": 3857
  }
 },
 "fullExtent": {
  "xmin": -409229.39407005545,
  "ymin": 1614134.98546768,
  "xmax": -405407.74243964587,
  "ymax": 1615883.6365324412,
  "spatialReference": {
   "wkid": 102100,
   "latestWkid": 3857
  }
 },
 "sortableFields": "",
 "bandCount": 3,
 "pixelType": "U8",
 "minValues": [
  1,
  1,
  1
 ],
 "maxValues": [
  255,
  255,
  255
 ],
 "meanValues": [
  185.3999628827891,
  148.15267500141928,
  113.62692103827655
 ],
 "stdvValues": [
  38.94614562276778,
  27.205505916318536,
  23.745452703115717
 ],
 "serviceProperties": "Center<\/MosaicMethod>First<\/MosaicOperator>true<\/SortAscending><\/LockImageID><\/TileOrderField>0<\/TileOrderBase>0.000000<\/AvgImageSpacingX>0.000000<\/AvgImageSpacingY>0.0<\/ViewPointX>0.0<\/ViewPointY>0.0<\/ViewPointDefShiftX>0.0<\/ViewPointDefShiftY>None<\/CompressionMethod>75<\/CompressionQuality>0.010000<\/CompressionTolerance>Bilinear<\/SamplingMethod><\/ImageServiceProperties><\/ImageServer>",
 "allowedFields": "",
 "hasMultidimensions": false,
 "pixelSizeX": 0.3636205166897798,
 "pixelSizeY": 0.3636205166897933,
 "meanPixelSize": 0.36362051668978657,
 "datasetFormat": "Cache/LERC2D",
 "uncompressedSize": 151627770,
 "blockWidth": 256,
 "blockHeight": 256,
 "compressionType": "LERC2D",
 "bandNames": [
  "Band_1",
  "Band_2",
  "Band_3"
 ],
 "allowCopy": true,
 "allowAnalysis": true,
 "itemAccess": false,
 "inspectionCapabilities": "",
 "minPixelSize": 0,
 "maxPixelSize": 0,
 "copyrightText": "",
 "serviceDataType": "esriImageServiceDataTypeRGB",
 "serviceSourceType": "esriImageServiceSourceTypeDataset",
 "objectIdField": "",
 "fields": [],
 "capabilities": "Image, Metadata",
 "defaultMosaicMethod": "Center",
 "allowedMosaicMethods": "",
 "sortField": "",
 "sortValue": null,
 "sortAscending": true,
 "mosaicOperator": "First",
 "defaultCompressionQuality": 75,
 "defaultResamplingMethod": "Bilinear",
 "maxImageHeight": 4100,
 "maxImageWidth": 15000,
 "singleFusedMapCache": true,
 "tileInfo": {
  "rows": 256,
  "cols": 256,
  "dpi": 96,
  "format": "LERC2D",
  "compressionQuality": 100000,
  "lercError": 0.1,
  "origin": {
   "x": -409229.39407005545,
   "y": 1615883.6365324412
  },
  "spatialReference": {
   "wkid": 102100,
   "latestWkid": 3857
  },
  "lods": [
   {
    "level": 0,
    "resolution": 11.635856534072953,
    "scale": 43977.95248765941
   },
   {
    "level": 1,
    "resolution": 5.817928267036477,
    "scale": 21988.976243829704
   },
   {
    "level": 2,
    "resolution": 2.9089641335182383,
    "scale": 10994.488121914852
   },
   {
    "level": 3,
    "resolution": 1.4544820667591192,
    "scale": 5497.244060957426
   },
   {
    "level": 4,
    "resolution": 0.7272410333795596,
    "scale": 2748.622030478713
   },
   {
    "level": 5,
    "resolution": 0.3636205166897798,
    "scale": 1374.3110152393565
   }
  ]
 },
 "storageInfo": {
  "storageFormat": "esriMapCacheStorageModeCompactV2",
  "packetSize": 16
 },
 "cacheType": "Raster",
 "allowRasterFunction": true,
 "rasterFunctionInfos": [
  {
   "name": "None",
   "description": "",
   "help": ""
  }
 ],
 "rasterTypeInfos": [
  {
   "name": "Raster Dataset",
   "description": "Supports all ArcGIS Raster Datasets",
   "help": ""
  }
 ],
 "mensurationCapabilities": "Basic",
 "hasHistograms": true,
 "hasColormap": false,
 "hasRasterAttributeTable": false,
 "minScale": 0,
 "maxScale": 0,
 "exportTilesAllowed": false,
 "supportsStatistics": false,
 "supportsAdvancedQueries": false,
 "editFieldsInfo": null,
 "ownershipBasedAccessControlForRasters": null,
 "allowComputeTiePoints": false,
 "useStandardizedQueries": true,
 "advancedQueryCapabilities": {
  "useStandardizedQueries": true,
  "supportsStatistics": false,
  "supportsOrderBy": false,
  "supportsDistinct": false,
  "supportsPagination": false
 },
 "spatialReference": {
  "wkid": 102100,
  "latestWkid": 3857
 }
}
