{
 "currentVersion": 11.5,
 "serviceDescription": "Hosted/20141104_MLI_PignariB_0m33_WV03_VNIR",
 "serviceItemId": "ad252d91769544199438e3604825d987",
 "name": "Hosted/20141104_MLI_PignariB_0m33_WV03_VNIR",
 "description": "",
 "extent": {
  "xmin": -443277.46730000153,
  "ymin": 1629259.9045887848,
  "xmax": -435633.8736196538,
  "ymax": 1632757.1269999985,
  "spatialReference": {
   "wkid": 102100,
   "latestWkid": 3857
  }
 },
 "initialExtent": {
  "xmin": -443277.46730000153,
  "ymin": 1629259.9045887848,
  "xmax": -435633.8736196538,
  "ymax": 1632757.1269999985,
  "spatialReference": {
   "wkid": 102100,
   "latestWkid": 3857
  }
 },
 "fullExtent": {
  "xmin": -443277.46730000153,
  "ymin": 1629259.9045887848,
  "xmax": -435633.8736196538,
  "ymax": 1632757.1269999985,
  "spatialReference": {
   "wkid": 102100,
   "latestWkid": 3857
  }
 },
 "sortableFields": "",
 "bandCount": 3,
 "pixelType": "U8",
 "minValues": [
  1,
  1,
  1
 ],
 "maxValues": [
  255,
  255,
  255
 ],
 "meanValues": [
  160.91912328566147,
  138.08337054136612,
  116.77002693614804
 ],
 "stdvValues": [
  50.273836822556966,
  36.91976236626154,
  32.36454839615317
 ],
 "serviceProperties": "Center<\/MosaicMethod>First<\/MosaicOperator>true<\/SortAscending><\/LockImageID><\/TileOrderField>0<\/TileOrderBase>0.000000<\/AvgImageSpacingX>0.000000<\/AvgImageSpacingY>0.0<\/ViewPointX>0.0<\/ViewPointY>0.0<\/ViewPointDefShiftX>0.0<\/ViewPointDefShiftY>None<\/CompressionMethod>75<\/CompressionQuality>0.010000<\/CompressionTolerance>Bilinear<\/SamplingMethod><\/ImageServiceProperties><\/ImageServer>",
 "allowedFields": "",
 "hasMultidimensions": false,
 "pixelSizeX": 0.33530416214896136,
 "pixelSizeY": 0.3353041621489622,
 "meanPixelSize": 0.33530416214896175,
 "datasetFormat": "Cache/LERC2D",
 "uncompressedSize": 713286840,
 "blockWidth": 256,
 "blockHeight": 256,
 "compressionType": "LERC2D",
 "bandNames": [
  "Band_1",
  "Band_2",
  "Band_3"
 ],
 "allowCopy": true,
 "allowAnalysis": true,
 "itemAccess": false,
 "inspectionCapabilities": "",
 "minPixelSize": 0,
 "maxPixelSize": 0,
 "copyrightText": "",
 "serviceDataType": "esriImageServiceDataTypeRGB",
 "serviceSourceType": "esriImageServiceSourceTypeDataset",
 "objectIdField": "",
 "fields": [],
 "capabilities": "Image, Metadata",
 "defaultMosaicMethod": "Center",
 "allowedMosaicMethods": "",
 "sortField": "",
 "sortValue": null,
 "sortAscending": true,
 "mosaicOperator": "First",
 "defaultCompressionQuality": 75,
 "defaultResamplingMethod": "Bilinear",
 "maxImageHeight": 4100,
 "maxImageWidth": 15000,
 "singleFusedMapCache": true,
 "tileInfo": {
  "rows": 256,
  "cols": 256,
  "dpi": 96,
  "format": "LERC2D",
  "compressionQuality": 100000,
  "lercError": 0.1,
  "origin": {
   "x": -443277.46730000153,
   "y": 1632757.1269999985
  },
  "spatialReference": {
   "wkid": 102100,
   "latestWkid": 3857
  },
  "lods": [
   {
    "level": 0,
    "resolution": 21.45946637753358,
    "scale": 81106.4823632157
   },
   {
    "level": 1,
    "resolution": 10.72973318876679,
    "scale": 40553.24118160785
   },
   {
    "level": 2,
    "resolution": 5.364866594383395,
    "scale": 20276.620590803926
   },
   {
    "level": 3,
    "resolution": 2.6824332971916975,
    "scale": 10138.310295401963
   },
   {
    "level": 4,
    "resolution": 1.3412166485958488,
    "scale": 5069.155147700982
   },
   {
    "level": 5,
    "resolution": 0.6706083242979244,
    "scale": 2534.577573850491
   },
   {
    "level": 6,
    "resolution": 0.3353041621489622,
    "scale": 1267.2887869252454
   }
  ]
 },
 "storageInfo": {
  "storageFormat": "esriMapCacheStorageModeCompactV2",
  "packetSize": 16
 },
 "cacheType": "Raster",
 "allowRasterFunction": true,
 "rasterFunctionInfos": [
  {
   "name": "None",
   "description": "",
   "help": ""
  }
 ],
 "rasterTypeInfos": [
  {
   "name": "Raster Dataset",
   "description": "Supports all ArcGIS Raster Datasets",
   "help": ""
  }
 ],
 "mensurationCapabilities": "Basic",
 "hasHistograms": true,
 "hasColormap": false,
 "hasRasterAttributeTable": false,
 "minScale": 0,
 "maxScale": 0,
 "exportTilesAllowed": false,
 "supportsStatistics": false,
 "supportsAdvancedQueries": false,
 "editFieldsInfo": null,
 "ownershipBasedAccessControlForRasters": null,
 "allowComputeTiePoints": false,
 "useStandardizedQueries": true,
 "advancedQueryCapabilities": {
  "useStandardizedQueries": true,
  "supportsStatistics": false,
  "supportsOrderBy": false,
  "supportsDistinct": false,
  "supportsPagination": false
 },
 "spatialReference": {
  "wkid": 102100,
  "latestWkid": 3857
 }
}
