{
 "currentVersion": 11.5,
 "serviceDescription": "Hosted/20141122_MLI_Bandiagara_0m37_WV03_VNIR",
 "serviceItemId": "cd4e449e328e4b16b1a7ec0dd04f2747",
 "name": "Hosted/20141122_MLI_Bandiagara_0m37_WV03_VNIR",
 "description": "",
 "extent": {
  "xmin": -406898.7971000001,
  "ymin": 1611349.6909942625,
  "xmax": -394329.22124326957,
  "ymax": 1618343.9730000007,
  "spatialReference": {
   "wkid": 102100,
   "latestWkid": 3857
  }
 },
 "initialExtent": {
  "xmin": -406898.7971000001,
  "ymin": 1611349.6909942625,
  "xmax": -394329.22124326957,
  "ymax": 1618343.9730000007,
  "spatialReference": {
   "wkid": 102100,
   "latestWkid": 3857
  }
 },
 "fullExtent": {
  "xmin": -406898.7971000001,
  "ymin": 1611349.6909942625,
  "xmax": -394329.22124326957,
  "ymax": 1618343.9730000007,
  "spatialReference": {
   "wkid": 102100,
   "latestWkid": 3857
  }
 },
 "sortableFields": "",
 "bandCount": 3,
 "pixelType": "U8",
 "minValues": [
  1,
  1,
  1
 ],
 "maxValues": [
  255,
  255,
  255
 ],
 "meanValues": [
  182.12249135485186,
  159.97192387082185,
  157.58602585136654
 ],
 "stdvValues": [
  33.20652991195145,
  30.588009763076407,
  33.85962474042662
 ],
 "serviceProperties": "Center<\/MosaicMethod>First<\/MosaicOperator>true<\/SortAscending><\/LockImageID><\/TileOrderField>0<\/TileOrderBase>0.000000<\/AvgImageSpacingX>0.000000<\/AvgImageSpacingY>0.0<\/ViewPointX>0.0<\/ViewPointY>0.0<\/ViewPointDefShiftX>0.0<\/ViewPointDefShiftY>None<\/CompressionMethod>75<\/CompressionQuality>0.010000<\/CompressionTolerance>Bilinear<\/SamplingMethod><\/ImageServiceProperties><\/ImageServer>",
 "allowedFields": "",
 "hasMultidimensions": false,
 "pixelSizeX": 0.375592417878758,
 "pixelSizeY": 0.37559241787875813,
 "meanPixelSize": 0.3755924178787581,
 "datasetFormat": "Cache/LERC2D",
 "uncompressedSize": 1869611556,
 "blockWidth": 256,
 "blockHeight": 256,
 "compressionType": "LERC2D",
 "bandNames": [
  "Band_1",
  "Band_2",
  "Band_3"
 ],
 "allowCopy": true,
 "allowAnalysis": true,
 "itemAccess": false,
 "inspectionCapabilities": "",
 "minPixelSize": 0,
 "maxPixelSize": 0,
 "copyrightText": "",
 "serviceDataType": "esriImageServiceDataTypeRGB",
 "serviceSourceType": "esriImageServiceSourceTypeDataset",
 "objectIdField": "",
 "fields": [],
 "capabilities": "Image, Metadata",
 "defaultMosaicMethod": "Center",
 "allowedMosaicMethods": "",
 "sortField": "",
 "sortValue": null,
 "sortAscending": true,
 "mosaicOperator": "First",
 "defaultCompressionQuality": 75,
 "defaultResamplingMethod": "Bilinear",
 "maxImageHeight": 4100,
 "maxImageWidth": 15000,
 "singleFusedMapCache": true,
 "tileInfo": {
  "rows": 256,
  "cols": 256,
  "dpi": 96,
  "format": "LERC2D",
  "compressionQuality": 100000,
  "lercError": 0.1,
  "origin": {
   "x": -406898.7971000001,
   "y": 1618343.9730000007
  },
  "spatialReference": {
   "wkid": 102100,
   "latestWkid": 3857
  },
  "lods": [
   {
    "level": 0,
    "resolution": 48.07582948848104,
    "scale": 181703.55906830385
   },
   {
    "level": 1,
    "resolution": 24.03791474424052,
    "scale": 90851.77953415192
   },
   {
    "level": 2,
    "resolution": 12.01895737212026,
    "scale": 45425.88976707596
   },
   {
    "level": 3,
    "resolution": 6.00947868606013,
    "scale": 22712.94488353798
   },
   {
    "level": 4,
    "resolution": 3.004739343030065,
    "scale": 11356.47244176899
   },
   {
    "level": 5,
    "resolution": 1.5023696715150325,
    "scale": 5678.236220884495
   },
   {
    "level": 6,
    "resolution": 0.7511848357575163,
    "scale": 2839.1181104422476
   },
   {
    "level": 7,
    "resolution": 0.37559241787875813,
    "scale": 1419.5590552211238
   }
  ]
 },
 "storageInfo": {
  "storageFormat": "esriMapCacheStorageModeCompactV2",
  "packetSize": 16
 },
 "cacheType": "Raster",
 "allowRasterFunction": true,
 "rasterFunctionInfos": [
  {
   "name": "None",
   "description": "",
   "help": ""
  }
 ],
 "rasterTypeInfos": [
  {
   "name": "Raster Dataset",
   "description": "Supports all ArcGIS Raster Datasets",
   "help": ""
  }
 ],
 "mensurationCapabilities": "Basic",
 "hasHistograms": true,
 "hasColormap": false,
 "hasRasterAttributeTable": false,
 "minScale": 0,
 "maxScale": 0,
 "exportTilesAllowed": false,
 "supportsStatistics": false,
 "supportsAdvancedQueries": false,
 "editFieldsInfo": null,
 "ownershipBasedAccessControlForRasters": null,
 "allowComputeTiePoints": false,
 "useStandardizedQueries": true,
 "advancedQueryCapabilities": {
  "useStandardizedQueries": true,
  "supportsStatistics": false,
  "supportsOrderBy": false,
  "supportsDistinct": false,
  "supportsPagination": false
 },
 "spatialReference": {
  "wkid": 102100,
  "latestWkid": 3857
 }
}
