{
 "currentVersion": 11.5,
 "serviceDescription": "Hosted/20141122_MLI_Dandoli_0m37_WV03_VNIR",
 "serviceItemId": "7ecd459463d94732ac6c10ad1de8ca02",
 "name": "Hosted/20141122_MLI_Dandoli_0m37_WV03_VNIR",
 "description": "",
 "extent": {
  "xmin": -396454.9475601797,
  "ymin": 1619038.8628891956,
  "xmax": -392633.05626689893,
  "ymax": 1620787.292973981,
  "spatialReference": {
   "wkid": 102100,
   "latestWkid": 3857
  }
 },
 "initialExtent": {
  "xmin": -396454.9475601797,
  "ymin": 1619038.8628891956,
  "xmax": -392633.05626689893,
  "ymax": 1620787.292973981,
  "spatialReference": {
   "wkid": 102100,
   "latestWkid": 3857
  }
 },
 "fullExtent": {
  "xmin": -396454.9475601797,
  "ymin": 1619038.8628891956,
  "xmax": -392633.05626689893,
  "ymax": 1620787.292973981,
  "spatialReference": {
   "wkid": 102100,
   "latestWkid": 3857
  }
 },
 "sortableFields": "",
 "bandCount": 3,
 "pixelType": "U8",
 "minValues": [
  1,
  1,
  1
 ],
 "maxValues": [
  255,
  255,
  255
 ],
 "meanValues": [
  194.16291747396693,
  151.14537542960528,
  131.64038025783273
 ],
 "stdvValues": [
  39.018678678080214,
  32.980039669243,
  30.018629070440323
 ],
 "serviceProperties": "Center<\/MosaicMethod>First<\/MosaicOperator>true<\/SortAscending><\/LockImageID><\/TileOrderField>0<\/TileOrderBase>0.000000<\/AvgImageSpacingX>0.000000<\/AvgImageSpacingY>0.0<\/ViewPointX>0.0<\/ViewPointY>0.0<\/ViewPointDefShiftX>0.0<\/ViewPointDefShiftY>None<\/CompressionMethod>75<\/CompressionQuality>0.010000<\/CompressionTolerance>Bilinear<\/SamplingMethod><\/ImageServiceProperties><\/ImageServer>",
 "allowedFields": "",
 "hasMultidimensions": false,
 "pixelSizeX": 0.38283995725541,
 "pixelSizeY": 0.3828399572554076,
 "meanPixelSize": 0.38283995725540876,
 "datasetFormat": "Cache/LERC2D",
 "uncompressedSize": 136777083,
 "blockWidth": 256,
 "blockHeight": 256,
 "compressionType": "LERC2D",
 "bandNames": [
  "Band_1",
  "Band_2",
  "Band_3"
 ],
 "allowCopy": true,
 "allowAnalysis": true,
 "itemAccess": false,
 "inspectionCapabilities": "",
 "minPixelSize": 0,
 "maxPixelSize": 0,
 "copyrightText": "",
 "serviceDataType": "esriImageServiceDataTypeRGB",
 "serviceSourceType": "esriImageServiceSourceTypeDataset",
 "objectIdField": "",
 "fields": [],
 "capabilities": "Image, Metadata",
 "defaultMosaicMethod": "Center",
 "allowedMosaicMethods": "",
 "sortField": "",
 "sortValue": null,
 "sortAscending": true,
 "mosaicOperator": "First",
 "defaultCompressionQuality": 75,
 "defaultResamplingMethod": "Bilinear",
 "maxImageHeight": 4100,
 "maxImageWidth": 15000,
 "singleFusedMapCache": true,
 "tileInfo": {
  "rows": 256,
  "cols": 256,
  "dpi": 96,
  "format": "LERC2D",
  "compressionQuality": 100000,
  "lercError": 0.1,
  "origin": {
   "x": -396454.9475601797,
   "y": 1620787.292973981
  },
  "spatialReference": {
   "wkid": 102100,
   "latestWkid": 3857
  },
  "lods": [
   {
    "level": 0,
    "resolution": 12.250878632173043,
    "scale": 46302.440807870655
   },
   {
    "level": 1,
    "resolution": 6.1254393160865215,
    "scale": 23151.220403935327
   },
   {
    "level": 2,
    "resolution": 3.0627196580432607,
    "scale": 11575.610201967664
   },
   {
    "level": 3,
    "resolution": 1.5313598290216304,
    "scale": 5787.805100983832
   },
   {
    "level": 4,
    "resolution": 0.7656799145108152,
    "scale": 2893.902550491916
   },
   {
    "level": 5,
    "resolution": 0.3828399572554076,
    "scale": 1446.951275245958
   }
  ]
 },
 "storageInfo": {
  "storageFormat": "esriMapCacheStorageModeCompactV2",
  "packetSize": 16
 },
 "cacheType": "Raster",
 "allowRasterFunction": true,
 "rasterFunctionInfos": [
  {
   "name": "None",
   "description": "",
   "help": ""
  }
 ],
 "rasterTypeInfos": [
  {
   "name": "Raster Dataset",
   "description": "Supports all ArcGIS Raster Datasets",
   "help": ""
  }
 ],
 "mensurationCapabilities": "Basic",
 "hasHistograms": true,
 "hasColormap": false,
 "hasRasterAttributeTable": false,
 "minScale": 0,
 "maxScale": 0,
 "exportTilesAllowed": false,
 "supportsStatistics": false,
 "supportsAdvancedQueries": false,
 "editFieldsInfo": null,
 "ownershipBasedAccessControlForRasters": null,
 "allowComputeTiePoints": false,
 "useStandardizedQueries": true,
 "advancedQueryCapabilities": {
  "useStandardizedQueries": true,
  "supportsStatistics": false,
  "supportsOrderBy": false,
  "supportsDistinct": false,
  "supportsPagination": false
 },
 "spatialReference": {
  "wkid": 102100,
  "latestWkid": 3857
 }
}
