{
 "currentVersion": 11.5,
 "serviceDescription": "Hosted/20160316_NER_0m55_WV02_Chetimari_Clip",
 "serviceItemId": "fd0efd74f6264e98b3a232451ecdcda6",
 "name": "Hosted/20160316_NER_0m55_WV02_Chetimari_Clip",
 "description": "",
 "extent": {
  "xmin": 1375538.8801999986,
  "ymin": 1477394.115512482,
  "xmax": 1390408.7151421735,
  "ymax": 1484388.2077999986,
  "spatialReference": {
   "wkid": 102100,
   "latestWkid": 3857
  }
 },
 "initialExtent": {
  "xmin": 1375538.8801999986,
  "ymin": 1477394.115512482,
  "xmax": 1390408.7151421735,
  "ymax": 1484388.2077999986,
  "spatialReference": {
   "wkid": 102100,
   "latestWkid": 3857
  }
 },
 "fullExtent": {
  "xmin": 1375538.8801999986,
  "ymin": 1477394.115512482,
  "xmax": 1390408.7151421735,
  "ymax": 1484388.2077999986,
  "spatialReference": {
   "wkid": 102100,
   "latestWkid": 3857
  }
 },
 "sortableFields": "",
 "bandCount": 3,
 "pixelType": "U8",
 "minValues": [
  1,
  1,
  1
 ],
 "maxValues": [
  255,
  255,
  255
 ],
 "meanValues": [
  206.88946561929725,
  184.60302308768195,
  166.6323615854109
 ],
 "stdvValues": [
  22.5369087345393,
  19.92414018898612,
  20.38714575367446
 ],
 "serviceProperties": "Center<\/MosaicMethod>First<\/MosaicOperator>true<\/SortAscending><\/LockImageID><\/TileOrderField>0<\/TileOrderBase>0.000000<\/AvgImageSpacingX>0.000000<\/AvgImageSpacingY>0.0<\/ViewPointX>0.0<\/ViewPointY>0.0<\/ViewPointDefShiftX>0.0<\/ViewPointDefShiftY>None<\/CompressionMethod>75<\/CompressionQuality>0.010000<\/CompressionTolerance>Bilinear<\/SamplingMethod><\/ImageServiceProperties><\/ImageServer>",
 "allowedFields": "",
 "hasMultidimensions": false,
 "pixelSizeX": 0.5009377086031143,
 "pixelSizeY": 0.5009377086031147,
 "meanPixelSize": 0.5009377086031145,
 "datasetFormat": "Cache/LERC2D",
 "uncompressedSize": 1243213089,
 "blockWidth": 256,
 "blockHeight": 256,
 "compressionType": "LERC2D",
 "bandNames": [
  "Band_1",
  "Band_2",
  "Band_3"
 ],
 "allowCopy": true,
 "allowAnalysis": true,
 "itemAccess": false,
 "inspectionCapabilities": "",
 "minPixelSize": 0,
 "maxPixelSize": 0,
 "copyrightText": "",
 "serviceDataType": "esriImageServiceDataTypeRGB",
 "serviceSourceType": "esriImageServiceSourceTypeDataset",
 "objectIdField": "",
 "fields": [],
 "capabilities": "Image, Metadata",
 "defaultMosaicMethod": "Center",
 "allowedMosaicMethods": "",
 "sortField": "",
 "sortValue": null,
 "sortAscending": true,
 "mosaicOperator": "First",
 "defaultCompressionQuality": 75,
 "defaultResamplingMethod": "Bilinear",
 "maxImageHeight": 4100,
 "maxImageWidth": 15000,
 "singleFusedMapCache": true,
 "tileInfo": {
  "rows": 256,
  "cols": 256,
  "dpi": 96,
  "format": "LERC2D",
  "compressionQuality": 100000,
  "lercError": 0.1,
  "origin": {
   "x": 1375538.8801999986,
   "y": 1484388.2077999986
  },
  "spatialReference": {
   "wkid": 102100,
   "latestWkid": 3857
  },
  "lods": [
   {
    "level": 0,
    "resolution": 32.06001335059931,
    "scale": 121171.46165885711
   },
   {
    "level": 1,
    "resolution": 16.030006675299656,
    "scale": 60585.730829428554
   },
   {
    "level": 2,
    "resolution": 8.015003337649828,
    "scale": 30292.865414714277
   },
   {
    "level": 3,
    "resolution": 4.007501668824914,
    "scale": 15146.432707357138
   },
   {
    "level": 4,
    "resolution": 2.003750834412457,
    "scale": 7573.216353678569
   },
   {
    "level": 5,
    "resolution": 1.0018754172062285,
    "scale": 3786.6081768392846
   },
   {
    "level": 6,
    "resolution": 0.5009377086031143,
    "scale": 1893.3040884196423
   }
  ]
 },
 "storageInfo": {
  "storageFormat": "esriMapCacheStorageModeCompactV2",
  "packetSize": 16
 },
 "cacheType": "Raster",
 "allowRasterFunction": true,
 "rasterFunctionInfos": [
  {
   "name": "None",
   "description": "",
   "help": ""
  }
 ],
 "rasterTypeInfos": [
  {
   "name": "Raster Dataset",
   "description": "Supports all ArcGIS Raster Datasets",
   "help": ""
  }
 ],
 "mensurationCapabilities": "Basic",
 "hasHistograms": true,
 "hasColormap": false,
 "hasRasterAttributeTable": false,
 "minScale": 0,
 "maxScale": 0,
 "exportTilesAllowed": false,
 "supportsStatistics": false,
 "supportsAdvancedQueries": false,
 "editFieldsInfo": null,
 "ownershipBasedAccessControlForRasters": null,
 "allowComputeTiePoints": false,
 "useStandardizedQueries": true,
 "advancedQueryCapabilities": {
  "useStandardizedQueries": true,
  "supportsStatistics": false,
  "supportsOrderBy": false,
  "supportsDistinct": false,
  "supportsPagination": false
 },
 "spatialReference": {
  "wkid": 102100,
  "latestWkid": 3857
 }
}
