{
 "currentVersion": 11.5,
 "serviceDescription": "Hosted/20170101_NGA_0m38_WV02_Damasak_Clip",
 "serviceItemId": "1d544d18ab0a440ca9e63d3fb834e64c",
 "name": "Hosted/20170101_NGA_0m38_WV02_Damasak_Clip",
 "description": "",
 "extent": {
  "xmin": 1385542.9536999986,
  "ymin": 1467772.4950914162,
  "xmax": 1399055.661366306,
  "ymax": 1474424.7508000007,
  "spatialReference": {
   "wkid": 102100,
   "latestWkid": 3857
  }
 },
 "initialExtent": {
  "xmin": 1385542.9536999986,
  "ymin": 1467772.4950914162,
  "xmax": 1399055.661366306,
  "ymax": 1474424.7508000007,
  "spatialReference": {
   "wkid": 102100,
   "latestWkid": 3857
  }
 },
 "fullExtent": {
  "xmin": 1385542.9536999986,
  "ymin": 1467772.4950914162,
  "xmax": 1399055.661366306,
  "ymax": 1474424.7508000007,
  "spatialReference": {
   "wkid": 102100,
   "latestWkid": 3857
  }
 },
 "sortableFields": "",
 "bandCount": 3,
 "pixelType": "U8",
 "minValues": [
  1,
  1,
  1
 ],
 "maxValues": [
  255,
  255,
  255
 ],
 "meanValues": [
  150.67007913135487,
  150.79382977359668,
  140.67194368754815
 ],
 "stdvValues": [
  42.52561621821551,
  40.453155144312014,
  41.508833582844254
 ],
 "serviceProperties": "Center<\/MosaicMethod>First<\/MosaicOperator>true<\/SortAscending><\/LockImageID><\/TileOrderField>0<\/TileOrderBase>0.000000<\/AvgImageSpacingX>0.000000<\/AvgImageSpacingY>0.0<\/ViewPointX>0.0<\/ViewPointY>0.0<\/ViewPointDefShiftX>0.0<\/ViewPointDefShiftY>None<\/CompressionMethod>75<\/CompressionQuality>0.010000<\/CompressionTolerance>Bilinear<\/SamplingMethod><\/ImageServiceProperties><\/ImageServer>",
 "allowedFields": "",
 "hasMultidimensions": false,
 "pixelSizeX": 0.3855486095157343,
 "pixelSizeY": 0.38554860951573905,
 "meanPixelSize": 0.38554860951573666,
 "datasetFormat": "Cache/LERC2D",
 "uncompressedSize": 1814154576,
 "blockWidth": 256,
 "blockHeight": 256,
 "compressionType": "LERC2D",
 "bandNames": [
  "Band_1",
  "Band_2",
  "Band_3"
 ],
 "allowCopy": true,
 "allowAnalysis": true,
 "itemAccess": false,
 "inspectionCapabilities": "",
 "minPixelSize": 0,
 "maxPixelSize": 0,
 "copyrightText": "",
 "serviceDataType": "esriImageServiceDataTypeRGB",
 "serviceSourceType": "esriImageServiceSourceTypeDataset",
 "objectIdField": "",
 "fields": [],
 "capabilities": "Image, Metadata",
 "defaultMosaicMethod": "Center",
 "allowedMosaicMethods": "",
 "sortField": "",
 "sortValue": null,
 "sortAscending": true,
 "mosaicOperator": "First",
 "defaultCompressionQuality": 75,
 "defaultResamplingMethod": "Bilinear",
 "maxImageHeight": 4100,
 "maxImageWidth": 15000,
 "singleFusedMapCache": true,
 "tileInfo": {
  "rows": 256,
  "cols": 256,
  "dpi": 96,
  "format": "LERC2D",
  "compressionQuality": 100000,
  "lercError": 0.1,
  "origin": {
   "x": 1385542.9536999986,
   "y": 1474424.7508000007
  },
  "spatialReference": {
   "wkid": 102100,
   "latestWkid": 3857
  },
  "lods": [
   {
    "level": 0,
    "resolution": 49.35022201801399,
    "scale": 186520.15112152422
   },
   {
    "level": 1,
    "resolution": 24.675111009006994,
    "scale": 93260.07556076211
   },
   {
    "level": 2,
    "resolution": 12.337555504503497,
    "scale": 46630.037780381055
   },
   {
    "level": 3,
    "resolution": 6.168777752251748,
    "scale": 23315.018890190528
   },
   {
    "level": 4,
    "resolution": 3.084388876125874,
    "scale": 11657.509445095264
   },
   {
    "level": 5,
    "resolution": 1.542194438062937,
    "scale": 5828.754722547632
   },
   {
    "level": 6,
    "resolution": 0.7710972190314686,
    "scale": 2914.377361273816
   },
   {
    "level": 7,
    "resolution": 0.3855486095157343,
    "scale": 1457.188680636908
   }
  ]
 },
 "storageInfo": {
  "storageFormat": "esriMapCacheStorageModeCompactV2",
  "packetSize": 16
 },
 "cacheType": "Raster",
 "allowRasterFunction": true,
 "rasterFunctionInfos": [
  {
   "name": "None",
   "description": "",
   "help": ""
  }
 ],
 "rasterTypeInfos": [
  {
   "name": "Raster Dataset",
   "description": "Supports all ArcGIS Raster Datasets",
   "help": ""
  }
 ],
 "mensurationCapabilities": "Basic",
 "hasHistograms": true,
 "hasColormap": false,
 "hasRasterAttributeTable": false,
 "minScale": 0,
 "maxScale": 0,
 "exportTilesAllowed": false,
 "supportsStatistics": false,
 "supportsAdvancedQueries": false,
 "editFieldsInfo": null,
 "ownershipBasedAccessControlForRasters": null,
 "allowComputeTiePoints": false,
 "useStandardizedQueries": true,
 "advancedQueryCapabilities": {
  "useStandardizedQueries": true,
  "supportsStatistics": false,
  "supportsOrderBy": false,
  "supportsDistinct": false,
  "supportsPagination": false
 },
 "spatialReference": {
  "wkid": 102100,
  "latestWkid": 3857
 }
}
