{
 "currentVersion": 11.5,
 "serviceDescription": "Hosted/20170204_UNDP_0m52_WV02_Mokolo_Cameroon",
 "serviceItemId": "9de620a36b1f41bba479902aa78e1fa8",
 "name": "Hosted/20170204_UNDP_0m52_WV02_Mokolo_Cameroon",
 "description": "",
 "extent": {
  "xmin": 1528250.2415999994,
  "ymin": 1115542.7130644075,
  "xmax": 1546823.5090153133,
  "ymax": 1234628.1297999986,
  "spatialReference": {
   "wkid": 102100,
   "latestWkid": 3857
  }
 },
 "initialExtent": {
  "xmin": 1528250.2415999994,
  "ymin": 1115542.7130644075,
  "xmax": 1546823.5090153133,
  "ymax": 1234628.1297999986,
  "spatialReference": {
   "wkid": 102100,
   "latestWkid": 3857
  }
 },
 "fullExtent": {
  "xmin": 1528250.2415999994,
  "ymin": 1115542.7130644075,
  "xmax": 1546823.5090153133,
  "ymax": 1234628.1297999986,
  "spatialReference": {
   "wkid": 102100,
   "latestWkid": 3857
  }
 },
 "sortableFields": "",
 "bandCount": 3,
 "pixelType": "U8",
 "minValues": [
  1,
  1,
  1
 ],
 "maxValues": [
  255,
  255,
  255
 ],
 "meanValues": [
  141.39094562121815,
  128.43993996083094,
  123.83110444354762
 ],
 "stdvValues": [
  19.39173154239492,
  17.918135183230184,
  15.726497773493797
 ],
 "serviceProperties": "Center<\/MosaicMethod>First<\/MosaicOperator>true<\/SortAscending><\/LockImageID><\/TileOrderField>0<\/TileOrderBase>0.000000<\/AvgImageSpacingX>0.000000<\/AvgImageSpacingY>0.0<\/ViewPointX>0.0<\/ViewPointY>0.0<\/ViewPointDefShiftX>0.0<\/ViewPointDefShiftY>None<\/CompressionMethod>75<\/CompressionQuality>0.010000<\/CompressionTolerance>Bilinear<\/SamplingMethod><\/ImageServiceProperties><\/ImageServer>",
 "allowedFields": "",
 "hasMultidimensions": false,
 "pixelSizeX": 0.5009377084260858,
 "pixelSizeY": 0.5009377084260853,
 "meanPixelSize": 0.5009377084260855,
 "datasetFormat": "Cache/LERC2D",
 "uncompressedSize": 26442389475,
 "blockWidth": 256,
 "blockHeight": 256,
 "compressionType": "LERC2D",
 "bandNames": [
  "Band_1",
  "Band_2",
  "Band_3"
 ],
 "allowCopy": true,
 "allowAnalysis": true,
 "itemAccess": false,
 "inspectionCapabilities": "",
 "minPixelSize": 0,
 "maxPixelSize": 0,
 "copyrightText": "",
 "serviceDataType": "esriImageServiceDataTypeRGB",
 "serviceSourceType": "esriImageServiceSourceTypeDataset",
 "objectIdField": "",
 "fields": [],
 "capabilities": "Image, Metadata",
 "defaultMosaicMethod": "Center",
 "allowedMosaicMethods": "",
 "sortField": "",
 "sortValue": null,
 "sortAscending": true,
 "mosaicOperator": "First",
 "defaultCompressionQuality": 75,
 "defaultResamplingMethod": "Bilinear",
 "maxImageHeight": 4100,
 "maxImageWidth": 15000,
 "singleFusedMapCache": true,
 "tileInfo": {
  "rows": 256,
  "cols": 256,
  "dpi": 96,
  "format": "LERC2D",
  "compressionQuality": 100000,
  "lercError": 0.1,
  "origin": {
   "x": 1528250.2415999994,
   "y": 1234628.1297999986
  },
  "spatialReference": {
   "wkid": 102100,
   "latestWkid": 3857
  },
  "lods": [
   {
    "level": 0,
    "resolution": 128.24005335707795,
    "scale": 484685.84646414325
   },
   {
    "level": 1,
    "resolution": 64.12002667853898,
    "scale": 242342.92323207163
   },
   {
    "level": 2,
    "resolution": 32.06001333926949,
    "scale": 121171.46161603581
   },
   {
    "level": 3,
    "resolution": 16.030006669634744,
    "scale": 60585.73080801791
   },
   {
    "level": 4,
    "resolution": 8.015003334817372,
    "scale": 30292.865404008953
   },
   {
    "level": 5,
    "resolution": 4.007501667408686,
    "scale": 15146.432702004477
   },
   {
    "level": 6,
    "resolution": 2.003750833704343,
    "scale": 7573.216351002238
   },
   {
    "level": 7,
    "resolution": 1.0018754168521715,
    "scale": 3786.608175501119
   },
   {
    "level": 8,
    "resolution": 0.5009377084260858,
    "scale": 1893.3040877505596
   }
  ]
 },
 "storageInfo": {
  "storageFormat": "esriMapCacheStorageModeCompactV2",
  "packetSize": 16
 },
 "cacheType": "Raster",
 "allowRasterFunction": true,
 "rasterFunctionInfos": [
  {
   "name": "None",
   "description": "",
   "help": ""
  }
 ],
 "rasterTypeInfos": [
  {
   "name": "Raster Dataset",
   "description": "Supports all ArcGIS Raster Datasets",
   "help": ""
  }
 ],
 "mensurationCapabilities": "Basic",
 "hasHistograms": true,
 "hasColormap": false,
 "hasRasterAttributeTable": false,
 "minScale": 0,
 "maxScale": 0,
 "exportTilesAllowed": false,
 "supportsStatistics": false,
 "supportsAdvancedQueries": false,
 "editFieldsInfo": null,
 "ownershipBasedAccessControlForRasters": null,
 "allowComputeTiePoints": false,
 "useStandardizedQueries": true,
 "advancedQueryCapabilities": {
  "useStandardizedQueries": true,
  "supportsStatistics": false,
  "supportsOrderBy": false,
  "supportsDistinct": false,
  "supportsPagination": false
 },
 "spatialReference": {
  "wkid": 102100,
  "latestWkid": 3857
 }
}
