{
 "currentVersion": 11.5,
 "serviceDescription": "Hosted/20170217_MLI_0m31_WV03_VNIR_PignariB",
 "serviceItemId": "ca009f96617a4112b20c4481bd57685a",
 "name": "Hosted/20170217_MLI_0m31_WV03_VNIR_PignariB",
 "description": "",
 "extent": {
  "xmin": -443036.3883999996,
  "ymin": 1629255.054556711,
  "xmax": -435638.5314195082,
  "ymax": 1632752.2517000004,
  "spatialReference": {
   "wkid": 102100,
   "latestWkid": 3857
  }
 },
 "initialExtent": {
  "xmin": -443036.3883999996,
  "ymin": 1629255.054556711,
  "xmax": -435638.5314195082,
  "ymax": 1632752.2517000004,
  "spatialReference": {
   "wkid": 102100,
   "latestWkid": 3857
  }
 },
 "fullExtent": {
  "xmin": -443036.3883999996,
  "ymin": 1629255.054556711,
  "xmax": -435638.5314195082,
  "ymax": 1632752.2517000004,
  "spatialReference": {
   "wkid": 102100,
   "latestWkid": 3857
  }
 },
 "sortableFields": "",
 "bandCount": 3,
 "pixelType": "U8",
 "minValues": [
  1,
  1,
  1
 ],
 "maxValues": [
  255,
  255,
  255
 ],
 "meanValues": [
  177.30062341729376,
  157.0784346189127,
  132.96617312539885
 ],
 "stdvValues": [
  42.74247334878506,
  30.275397312067682,
  25.4355564559284
 ],
 "serviceProperties": "Center<\/MosaicMethod>First<\/MosaicOperator>true<\/SortAscending><\/LockImageID><\/TileOrderField>0<\/TileOrderBase>0.000000<\/AvgImageSpacingX>0.000000<\/AvgImageSpacingY>0.0<\/ViewPointX>0.0<\/ViewPointY>0.0<\/ViewPointDefShiftX>0.0<\/ViewPointDefShiftY>None<\/CompressionMethod>75<\/CompressionQuality>0.010000<\/CompressionTolerance>Bilinear<\/SamplingMethod><\/ImageServiceProperties><\/ImageServer>",
 "allowedFields": "",
 "hasMultidimensions": false,
 "pixelSizeX": 0.31227762686751254,
 "pixelSizeY": 0.3122776268675114,
 "meanPixelSize": 0.312277626867512,
 "datasetFormat": "Cache/LERC2D",
 "uncompressedSize": 795879333,
 "blockWidth": 256,
 "blockHeight": 256,
 "compressionType": "LERC2D",
 "bandNames": [
  "Band_1",
  "Band_2",
  "Band_3"
 ],
 "allowCopy": true,
 "allowAnalysis": true,
 "itemAccess": false,
 "inspectionCapabilities": "",
 "minPixelSize": 0,
 "maxPixelSize": 0,
 "copyrightText": "",
 "serviceDataType": "esriImageServiceDataTypeRGB",
 "serviceSourceType": "esriImageServiceSourceTypeDataset",
 "objectIdField": "",
 "fields": [],
 "capabilities": "Image, Metadata",
 "defaultMosaicMethod": "Center",
 "allowedMosaicMethods": "",
 "sortField": "",
 "sortValue": null,
 "sortAscending": true,
 "mosaicOperator": "First",
 "defaultCompressionQuality": 75,
 "defaultResamplingMethod": "Bilinear",
 "maxImageHeight": 4100,
 "maxImageWidth": 15000,
 "singleFusedMapCache": true,
 "tileInfo": {
  "rows": 256,
  "cols": 256,
  "dpi": 96,
  "format": "LERC2D",
  "compressionQuality": 100000,
  "lercError": 0.1,
  "origin": {
   "x": -443036.3883999996,
   "y": 1632752.2517000004
  },
  "spatialReference": {
   "wkid": 102100,
   "latestWkid": 3857
  },
  "lods": [
   {
    "level": 0,
    "resolution": 19.98576811952073,
    "scale": 75536.610323091
   },
   {
    "level": 1,
    "resolution": 9.992884059760366,
    "scale": 37768.3051615455
   },
   {
    "level": 2,
    "resolution": 4.996442029880183,
    "scale": 18884.15258077275
   },
   {
    "level": 3,
    "resolution": 2.4982210149400914,
    "scale": 9442.076290386374
   },
   {
    "level": 4,
    "resolution": 1.2491105074700457,
    "scale": 4721.038145193187
   },
   {
    "level": 5,
    "resolution": 0.6245552537350229,
    "scale": 2360.5190725965936
   },
   {
    "level": 6,
    "resolution": 0.3122776268675114,
    "scale": 1180.2595362982968
   }
  ]
 },
 "storageInfo": {
  "storageFormat": "esriMapCacheStorageModeCompactV2",
  "packetSize": 16
 },
 "cacheType": "Raster",
 "allowRasterFunction": true,
 "rasterFunctionInfos": [
  {
   "name": "None",
   "description": "",
   "help": ""
  }
 ],
 "rasterTypeInfos": [
  {
   "name": "Raster Dataset",
   "description": "Supports all ArcGIS Raster Datasets",
   "help": ""
  }
 ],
 "mensurationCapabilities": "Basic",
 "hasHistograms": true,
 "hasColormap": false,
 "hasRasterAttributeTable": false,
 "minScale": 0,
 "maxScale": 0,
 "exportTilesAllowed": false,
 "supportsStatistics": false,
 "supportsAdvancedQueries": false,
 "editFieldsInfo": null,
 "ownershipBasedAccessControlForRasters": null,
 "allowComputeTiePoints": false,
 "useStandardizedQueries": true,
 "advancedQueryCapabilities": {
  "useStandardizedQueries": true,
  "supportsStatistics": false,
  "supportsOrderBy": false,
  "supportsDistinct": false,
  "supportsPagination": false
 },
 "spatialReference": {
  "wkid": 102100,
  "latestWkid": 3857
 }
}
