{
 "currentVersion": 11.3,
 "serviceDescription": "Hosted/20170217_MLI_0m36_WV03_VNIR_Doucombo",
 "name": "Hosted/20170217_MLI_0m36_WV03_VNIR_Doucombo",
 "description": "",
 "extent": {
  "xmin": -409069.4348071194,
  "ymin": 1614187.7462722429,
  "xmax": -405247.27589206595,
  "ymax": 1615936.0986990673,
  "spatialReference": {
   "wkid": 102100,
   "latestWkid": 3857
  }
 },
 "initialExtent": {
  "xmin": -409069.4348071194,
  "ymin": 1614187.7462722429,
  "xmax": -405247.27589206595,
  "ymax": 1615936.0986990673,
  "spatialReference": {
   "wkid": 102100,
   "latestWkid": 3857
  }
 },
 "fullExtent": {
  "xmin": -409069.4348071194,
  "ymin": 1614187.7462722429,
  "xmax": -405247.27589206595,
  "ymax": 1615936.0986990673,
  "spatialReference": {
   "wkid": 102100,
   "latestWkid": 3857
  }
 },
 "sortableFields": "",
 "bandCount": 3,
 "pixelType": "U8",
 "minValues": [
  1,
  1,
  1
 ],
 "maxValues": [
  255,
  255,
  255
 ],
 "meanValues": [
  220.899895511466,
  179.69938491593388,
  143.1984711751883
 ],
 "stdvValues": [
  28.349000489863712,
  25.688416545986648,
  23.895029828128628
 ],
 "hasMultidimensions": false,
 "pixelSizeX": 0.36691551454866767,
 "pixelSizeY": 0.36691551454866583,
 "meanPixelSize": 0.3669155145486668,
 "datasetFormat": "Cache/LERC2D",
 "uncompressedSize": 148911015,
 "blockWidth": 256,
 "blockHeight": 256,
 "compressionType": "LERC2D",
 "bandNames": [
  "Band_1",
  "Band_2",
  "Band_3"
 ],
 "allowCopy": true,
 "allowAnalysis": true,
 "itemAccess": false,
 "inspectionCapabilities": "",
 "minPixelSize": 0,
 "maxPixelSize": 0,
 "copyrightText": "",
 "serviceDataType": "esriImageServiceDataTypeRGB",
 "serviceSourceType": "esriImageServiceSourceTypeDataset",
 "objectIdField": "",
 "fields": [],
 "capabilities": "Image, Metadata",
 "defaultMosaicMethod": "Center",
 "allowedMosaicMethods": "",
 "sortField": "",
 "sortValue": null,
 "sortAscending": true,
 "mosaicOperator": "First",
 "defaultCompressionQuality": 75,
 "defaultResamplingMethod": "Bilinear",
 "maxImageHeight": 4100,
 "maxImageWidth": 15000,
 "singleFusedMapCache": true,
 "tileInfo": {
  "rows": 256,
  "cols": 256,
  "dpi": 96,
  "format": "LERC2D",
  "compressionQuality": 100000,
  "lercError": 0.1,
  "origin": {
   "x": -409069.4348071194,
   "y": 1615936.0986990673
  },
  "spatialReference": {
   "wkid": 102100,
   "latestWkid": 3857
  },
  "lods": [
   {
    "level": 0,
    "resolution": 11.741296465557307,
    "scale": 44376.46481750315
   },
   {
    "level": 1,
    "resolution": 5.870648232778653,
    "scale": 22188.232408751574
   },
   {
    "level": 2,
    "resolution": 2.9353241163893267,
    "scale": 11094.116204375787
   },
   {
    "level": 3,
    "resolution": 1.4676620581946633,
    "scale": 5547.058102187893
   },
   {
    "level": 4,
    "resolution": 0.7338310290973317,
    "scale": 2773.5290510939467
   },
   {
    "level": 5,
    "resolution": 0.36691551454866583,
    "scale": 1386.7645255469733
   }
  ]
 },
 "storageInfo": {
  "storageFormat": "esriMapCacheStorageModeCompactV2",
  "packetSize": 16
 },
 "cacheType": "Raster",
 "allowRasterFunction": true,
 "rasterFunctionInfos": [
  {
   "name": "None",
   "description": "",
   "help": ""
  }
 ],
 "rasterTypeInfos": [
  {
   "name": "Raster Dataset",
   "description": "Supports all ArcGIS Raster Datasets",
   "help": ""
  }
 ],
 "mensurationCapabilities": "Basic",
 "hasHistograms": true,
 "hasColormap": false,
 "hasRasterAttributeTable": false,
 "minScale": 0,
 "maxScale": 0,
 "exportTilesAllowed": false,
 "supportsStatistics": false,
 "supportsAdvancedQueries": false,
 "editFieldsInfo": null,
 "ownershipBasedAccessControlForRasters": null,
 "allowComputeTiePoints": false,
 "useStandardizedQueries": true,
 "advancedQueryCapabilities": {
  "useStandardizedQueries": true,
  "supportsStatistics": false,
  "supportsOrderBy": false,
  "supportsDistinct": false,
  "supportsPagination": false
 },
 "spatialReference": {
  "wkid": 102100,
  "latestWkid": 3857
 }
}
