{
 "currentVersion": 11.5,
 "serviceDescription": "Hosted/20180210_MLI_0m44_GE01_Bandiagara",
 "serviceItemId": "b5f5cfcb7fee4872870b02321c831d8e",
 "name": "Hosted/20180210_MLI_0m44_GE01_Bandiagara",
 "description": "",
 "extent": {
  "xmin": -409616.3372000009,
  "ymin": 1611349.7131220528,
  "xmax": -394329.08646099304,
  "ymax": 1618343.8311000017,
  "spatialReference": {
   "wkid": 102100,
   "latestWkid": 3857
  }
 },
 "initialExtent": {
  "xmin": -409616.3372000009,
  "ymin": 1611349.7131220528,
  "xmax": -394329.08646099304,
  "ymax": 1618343.8311000017,
  "spatialReference": {
   "wkid": 102100,
   "latestWkid": 3857
  }
 },
 "fullExtent": {
  "xmin": -409616.3372000009,
  "ymin": 1611349.7131220528,
  "xmax": -394329.08646099304,
  "ymax": 1618343.8311000017,
  "spatialReference": {
   "wkid": 102100,
   "latestWkid": 3857
  }
 },
 "sortableFields": "",
 "bandCount": 3,
 "pixelType": "U8",
 "minValues": [
  1,
  1,
  1
 ],
 "maxValues": [
  255,
  255,
  255
 ],
 "meanValues": [
  204.47526505209143,
  167.2825980887294,
  129.15707285103906
 ],
 "stdvValues": [
  34.062211403280735,
  26.178924881913016,
  21.173844455350547
 ],
 "serviceProperties": "Center<\/MosaicMethod>First<\/MosaicOperator>true<\/SortAscending><\/LockImageID><\/TileOrderField>0<\/TileOrderBase>0.000000<\/AvgImageSpacingX>0.000000<\/AvgImageSpacingY>0.0<\/ViewPointX>0.0<\/ViewPointY>0.0<\/ViewPointDefShiftX>0.0<\/ViewPointDefShiftY>None<\/CompressionMethod>75<\/CompressionQuality>0.010000<\/CompressionTolerance>Bilinear<\/SamplingMethod><\/ImageServiceProperties><\/ImageServer>",
 "allowedFields": "",
 "hasMultidimensions": false,
 "pixelSizeX": 0.44124143448039715,
 "pixelSizeY": 0.4412414344804025,
 "meanPixelSize": 0.4412414344803998,
 "datasetFormat": "Cache/LERC2D",
 "uncompressedSize": 1647417300,
 "blockWidth": 256,
 "blockHeight": 256,
 "compressionType": "LERC2D",
 "bandNames": [
  "Band_1",
  "Band_2",
  "Band_3"
 ],
 "allowCopy": true,
 "allowAnalysis": true,
 "itemAccess": false,
 "inspectionCapabilities": "",
 "minPixelSize": 0,
 "maxPixelSize": 0,
 "copyrightText": "",
 "serviceDataType": "esriImageServiceDataTypeRGB",
 "serviceSourceType": "esriImageServiceSourceTypeDataset",
 "objectIdField": "",
 "fields": [],
 "capabilities": "Image, Metadata",
 "defaultMosaicMethod": "Center",
 "allowedMosaicMethods": "",
 "sortField": "",
 "sortValue": null,
 "sortAscending": true,
 "mosaicOperator": "First",
 "defaultCompressionQuality": 75,
 "defaultResamplingMethod": "Bilinear",
 "maxImageHeight": 4100,
 "maxImageWidth": 15000,
 "singleFusedMapCache": true,
 "tileInfo": {
  "rows": 256,
  "cols": 256,
  "dpi": 96,
  "format": "LERC2D",
  "compressionQuality": 100000,
  "lercError": 0.1,
  "origin": {
   "x": -409616.3372000009,
   "y": 1618343.8311000017
  },
  "spatialReference": {
   "wkid": 102100,
   "latestWkid": 3857
  },
  "lods": [
   {
    "level": 0,
    "resolution": 28.239451806745418,
    "scale": 106731.57289263043
   },
   {
    "level": 1,
    "resolution": 14.119725903372709,
    "scale": 53365.786446315215
   },
   {
    "level": 2,
    "resolution": 7.0598629516863545,
    "scale": 26682.893223157607
   },
   {
    "level": 3,
    "resolution": 3.5299314758431772,
    "scale": 13341.446611578804
   },
   {
    "level": 4,
    "resolution": 1.7649657379215886,
    "scale": 6670.723305789402
   },
   {
    "level": 5,
    "resolution": 0.8824828689607943,
    "scale": 3335.361652894701
   },
   {
    "level": 6,
    "resolution": 0.44124143448039715,
    "scale": 1667.6808264473505
   }
  ]
 },
 "storageInfo": {
  "storageFormat": "esriMapCacheStorageModeCompactV2",
  "packetSize": 16
 },
 "cacheType": "Raster",
 "allowRasterFunction": true,
 "rasterFunctionInfos": [
  {
   "name": "None",
   "description": "",
   "help": ""
  }
 ],
 "rasterTypeInfos": [
  {
   "name": "Raster Dataset",
   "description": "Supports all ArcGIS Raster Datasets",
   "help": ""
  }
 ],
 "mensurationCapabilities": "Basic",
 "hasHistograms": true,
 "hasColormap": false,
 "hasRasterAttributeTable": false,
 "minScale": 0,
 "maxScale": 0,
 "exportTilesAllowed": false,
 "supportsStatistics": false,
 "supportsAdvancedQueries": false,
 "editFieldsInfo": null,
 "ownershipBasedAccessControlForRasters": null,
 "allowComputeTiePoints": false,
 "useStandardizedQueries": true,
 "advancedQueryCapabilities": {
  "useStandardizedQueries": true,
  "supportsStatistics": false,
  "supportsOrderBy": false,
  "supportsDistinct": false,
  "supportsPagination": false
 },
 "spatialReference": {
  "wkid": 102100,
  "latestWkid": 3857
 }
}
