{
 "currentVersion": 11.5,
 "serviceDescription": "Hosted/20190427_NER_0m48_WV02_Boula_Clip",
 "serviceItemId": "7dc7d3c442344c0c9cc91b46e07bc18a",
 "name": "Hosted/20190427_NER_0m48_WV02_Boula_Clip",
 "description": "",
 "extent": {
  "xmin": 1423302.6463281766,
  "ymin": 1510326.2947567082,
  "xmax": 1427124.5859951111,
  "ymax": 1512075.0263485897,
  "spatialReference": {
   "wkid": 102100,
   "latestWkid": 3857
  }
 },
 "initialExtent": {
  "xmin": 1423302.6463281766,
  "ymin": 1510326.2947567082,
  "xmax": 1427124.5859951111,
  "ymax": 1512075.0263485897,
  "spatialReference": {
   "wkid": 102100,
   "latestWkid": 3857
  }
 },
 "fullExtent": {
  "xmin": 1423302.6463281766,
  "ymin": 1510326.2947567082,
  "xmax": 1427124.5859951111,
  "ymax": 1512075.0263485897,
  "spatialReference": {
   "wkid": 102100,
   "latestWkid": 3857
  }
 },
 "sortableFields": "",
 "bandCount": 3,
 "pixelType": "U8",
 "minValues": [
  1,
  1,
  1
 ],
 "maxValues": [
  255,
  255,
  255
 ],
 "meanValues": [
  207.4159626759868,
  197.74019964763554,
  190.28199955605544
 ],
 "stdvValues": [
  23.644725421471556,
  23.467736990668783,
  22.408314999772482
 ],
 "serviceProperties": "Center<\/MosaicMethod>First<\/MosaicOperator>true<\/SortAscending><\/LockImageID><\/TileOrderField>0<\/TileOrderBase>0.000000<\/AvgImageSpacingX>0.000000<\/AvgImageSpacingY>0.0<\/ViewPointX>0.0<\/ViewPointY>0.0<\/ViewPointDefShiftX>0.0<\/ViewPointDefShiftY>None<\/CompressionMethod>75<\/CompressionQuality>0.010000<\/CompressionTolerance>Bilinear<\/SamplingMethod><\/ImageServiceProperties><\/ImageServer>",
 "allowedFields": "",
 "hasMultidimensions": false,
 "pixelSizeX": 0.49163103510863704,
 "pixelSizeY": 0.49163103510865497,
 "meanPixelSize": 0.49163103510864603,
 "datasetFormat": "Cache/LERC2D",
 "uncompressedSize": 82956354,
 "blockWidth": 256,
 "blockHeight": 256,
 "compressionType": "LERC2D",
 "bandNames": [
  "Band_1",
  "Band_2",
  "Band_3"
 ],
 "allowCopy": true,
 "allowAnalysis": true,
 "itemAccess": false,
 "inspectionCapabilities": "",
 "minPixelSize": 0,
 "maxPixelSize": 0,
 "copyrightText": "",
 "serviceDataType": "esriImageServiceDataTypeRGB",
 "serviceSourceType": "esriImageServiceSourceTypeDataset",
 "objectIdField": "",
 "fields": [],
 "capabilities": "Image, Metadata",
 "defaultMosaicMethod": "Center",
 "allowedMosaicMethods": "",
 "sortField": "",
 "sortValue": null,
 "sortAscending": true,
 "mosaicOperator": "First",
 "defaultCompressionQuality": 75,
 "defaultResamplingMethod": "Bilinear",
 "maxImageHeight": 4100,
 "maxImageWidth": 15000,
 "singleFusedMapCache": true,
 "tileInfo": {
  "rows": 256,
  "cols": 256,
  "dpi": 96,
  "format": "LERC2D",
  "compressionQuality": 100000,
  "lercError": 0.1,
  "origin": {
   "x": 1423302.6463281766,
   "y": 1512075.0263485897
  },
  "spatialReference": {
   "wkid": 102100,
   "latestWkid": 3857
  },
  "lods": [
   {
    "level": 0,
    "resolution": 7.866096561738193,
    "scale": 29730.06927702073
   },
   {
    "level": 1,
    "resolution": 3.9330482808690963,
    "scale": 14865.034638510366
   },
   {
    "level": 2,
    "resolution": 1.9665241404345482,
    "scale": 7432.517319255183
   },
   {
    "level": 3,
    "resolution": 0.9832620702172741,
    "scale": 3716.2586596275914
   },
   {
    "level": 4,
    "resolution": 0.49163103510863704,
    "scale": 1858.1293298137957
   }
  ]
 },
 "storageInfo": {
  "storageFormat": "esriMapCacheStorageModeCompactV2",
  "packetSize": 16
 },
 "cacheType": "Raster",
 "allowRasterFunction": true,
 "rasterFunctionInfos": [
  {
   "name": "None",
   "description": "",
   "help": ""
  }
 ],
 "rasterTypeInfos": [
  {
   "name": "Raster Dataset",
   "description": "Supports all ArcGIS Raster Datasets",
   "help": ""
  }
 ],
 "mensurationCapabilities": "Basic",
 "hasHistograms": true,
 "hasColormap": false,
 "hasRasterAttributeTable": false,
 "minScale": 0,
 "maxScale": 0,
 "exportTilesAllowed": false,
 "supportsStatistics": false,
 "supportsAdvancedQueries": false,
 "editFieldsInfo": null,
 "ownershipBasedAccessControlForRasters": null,
 "allowComputeTiePoints": false,
 "useStandardizedQueries": true,
 "advancedQueryCapabilities": {
  "useStandardizedQueries": true,
  "supportsStatistics": false,
  "supportsOrderBy": false,
  "supportsDistinct": false,
  "supportsPagination": false
 },
 "spatialReference": {
  "wkid": 102100,
  "latestWkid": 3857
 }
}
