{
 "currentVersion": 11.5,
 "serviceDescription": "Hosted/20190915_NGA_om57_WV02_Damasak_Clip",
 "serviceItemId": "7a4246abeaf74dc09d2a401573867402",
 "name": "Hosted/20190915_NGA_om57_WV02_Damasak_Clip",
 "description": "",
 "extent": {
  "xmin": 1384355.3839000016,
  "ymin": 1467772.3704149555,
  "xmax": 1399055.4009537655,
  "ymax": 1474766.4627000007,
  "spatialReference": {
   "wkid": 102100,
   "latestWkid": 3857
  }
 },
 "initialExtent": {
  "xmin": 1384355.3839000016,
  "ymin": 1467772.3704149555,
  "xmax": 1399055.4009537655,
  "ymax": 1474766.4627000007,
  "spatialReference": {
   "wkid": 102100,
   "latestWkid": 3857
  }
 },
 "fullExtent": {
  "xmin": 1384355.3839000016,
  "ymin": 1467772.3704149555,
  "xmax": 1399055.4009537655,
  "ymax": 1474766.4627000007,
  "spatialReference": {
   "wkid": 102100,
   "latestWkid": 3857
  }
 },
 "sortableFields": "",
 "bandCount": 3,
 "pixelType": "U8",
 "minValues": [
  1,
  1,
  1
 ],
 "maxValues": [
  255,
  255,
  255
 ],
 "meanValues": [
  94.54985093460219,
  95.35459665214343,
  82.83370058531888
 ],
 "stdvValues": [
  29.13096160186142,
  27.19414932967859,
  25.946038575490967
 ],
 "serviceProperties": "Center<\/MosaicMethod>First<\/MosaicOperator>true<\/SortAscending><\/LockImageID><\/TileOrderField>0<\/TileOrderBase>0.000000<\/AvgImageSpacingX>0.000000<\/AvgImageSpacingY>0.0<\/ViewPointX>0.0<\/ViewPointY>0.0<\/ViewPointDefShiftX>0.0<\/ViewPointDefShiftY>None<\/CompressionMethod>75<\/CompressionQuality>0.010000<\/CompressionTolerance>Bilinear<\/SamplingMethod><\/ImageServiceProperties><\/ImageServer>",
 "allowedFields": "",
 "hasMultidimensions": false,
 "pixelSizeX": 0.5009377084260981,
 "pixelSizeY": 0.5009377084260986,
 "meanPixelSize": 0.5009377084260984,
 "datasetFormat": "Cache/LERC2D",
 "uncompressedSize": 1229144670,
 "blockWidth": 256,
 "blockHeight": 256,
 "compressionType": "LERC2D",
 "bandNames": [
  "Band_1",
  "Band_2",
  "Band_3"
 ],
 "allowCopy": true,
 "allowAnalysis": true,
 "itemAccess": false,
 "inspectionCapabilities": "",
 "minPixelSize": 0,
 "maxPixelSize": 0,
 "copyrightText": "",
 "serviceDataType": "esriImageServiceDataTypeRGB",
 "serviceSourceType": "esriImageServiceSourceTypeDataset",
 "objectIdField": "",
 "fields": [],
 "capabilities": "Image, Metadata",
 "defaultMosaicMethod": "Center",
 "allowedMosaicMethods": "",
 "sortField": "",
 "sortValue": null,
 "sortAscending": true,
 "mosaicOperator": "First",
 "defaultCompressionQuality": 75,
 "defaultResamplingMethod": "Bilinear",
 "maxImageHeight": 4100,
 "maxImageWidth": 15000,
 "singleFusedMapCache": true,
 "tileInfo": {
  "rows": 256,
  "cols": 256,
  "dpi": 96,
  "format": "LERC2D",
  "compressionQuality": 100000,
  "lercError": 0.1,
  "origin": {
   "x": 1384355.3839000016,
   "y": 1474766.4627000007
  },
  "spatialReference": {
   "wkid": 102100,
   "latestWkid": 3857
  },
  "lods": [
   {
    "level": 0,
    "resolution": 32.06001333927028,
    "scale": 121171.4616160388
   },
   {
    "level": 1,
    "resolution": 16.03000666963514,
    "scale": 60585.7308080194
   },
   {
    "level": 2,
    "resolution": 8.01500333481757,
    "scale": 30292.8654040097
   },
   {
    "level": 3,
    "resolution": 4.007501667408785,
    "scale": 15146.43270200485
   },
   {
    "level": 4,
    "resolution": 2.0037508337043923,
    "scale": 7573.216351002425
   },
   {
    "level": 5,
    "resolution": 1.0018754168521962,
    "scale": 3786.6081755012124
   },
   {
    "level": 6,
    "resolution": 0.5009377084260981,
    "scale": 1893.3040877506062
   }
  ]
 },
 "storageInfo": {
  "storageFormat": "esriMapCacheStorageModeCompactV2",
  "packetSize": 16
 },
 "cacheType": "Raster",
 "allowRasterFunction": true,
 "rasterFunctionInfos": [
  {
   "name": "None",
   "description": "",
   "help": ""
  }
 ],
 "rasterTypeInfos": [
  {
   "name": "Raster Dataset",
   "description": "Supports all ArcGIS Raster Datasets",
   "help": ""
  }
 ],
 "mensurationCapabilities": "Basic",
 "hasHistograms": true,
 "hasColormap": false,
 "hasRasterAttributeTable": false,
 "minScale": 0,
 "maxScale": 0,
 "exportTilesAllowed": false,
 "supportsStatistics": false,
 "supportsAdvancedQueries": false,
 "editFieldsInfo": null,
 "ownershipBasedAccessControlForRasters": null,
 "allowComputeTiePoints": false,
 "useStandardizedQueries": true,
 "advancedQueryCapabilities": {
  "useStandardizedQueries": true,
  "supportsStatistics": false,
  "supportsOrderBy": false,
  "supportsDistinct": false,
  "supportsPagination": false
 },
 "spatialReference": {
  "wkid": 102100,
  "latestWkid": 3857
 }
}
