{
 "currentVersion": 11.5,
 "serviceDescription": "Hosted/20200202_MLI_0m49_GE01_Bandiagara",
 "serviceItemId": "ffc19e6d034f43a092cb554760f4dc08",
 "name": "Hosted/20200202_MLI_0m49_GE01_Bandiagara",
 "description": "",
 "extent": {
  "xmin": -409616.40740000084,
  "ymin": 1611349.649771587,
  "xmax": -394328.9735263629,
  "ymax": 1618343.6801000002,
  "spatialReference": {
   "wkid": 102100,
   "latestWkid": 3857
  }
 },
 "initialExtent": {
  "xmin": -409616.40740000084,
  "ymin": 1611349.649771587,
  "xmax": -394328.9735263629,
  "ymax": 1618343.6801000002,
  "spatialReference": {
   "wkid": 102100,
   "latestWkid": 3857
  }
 },
 "fullExtent": {
  "xmin": -409616.40740000084,
  "ymin": 1611349.649771587,
  "xmax": -394328.9735263629,
  "ymax": 1618343.6801000002,
  "spatialReference": {
   "wkid": 102100,
   "latestWkid": 3857
  }
 },
 "sortableFields": "",
 "bandCount": 3,
 "pixelType": "U8",
 "minValues": [
  1,
  1,
  1
 ],
 "maxValues": [
  255,
  255,
  255
 ],
 "meanValues": [
  188.38844244230066,
  165.25947398845162,
  145.01524422745428
 ],
 "stdvValues": [
  31.42952337333289,
  27.472823229264,
  23.847252114466873
 ],
 "serviceProperties": "Center<\/MosaicMethod>First<\/MosaicOperator>true<\/SortAscending><\/LockImageID><\/TileOrderField>0<\/TileOrderBase>0.000000<\/AvgImageSpacingX>0.000000<\/AvgImageSpacingY>0.0<\/ViewPointX>0.0<\/ViewPointY>0.0<\/ViewPointDefShiftX>0.0<\/ViewPointDefShiftY>None<\/CompressionMethod>75<\/CompressionQuality>0.010000<\/CompressionTolerance>Bilinear<\/SamplingMethod><\/ImageServiceProperties><\/ImageServer>",
 "allowedFields": "",
 "hasMultidimensions": false,
 "pixelSizeX": 0.48885373092983914,
 "pixelSizeY": 0.48885373092984125,
 "meanPixelSize": 0.4888537309298402,
 "datasetFormat": "Cache/LERC2D",
 "uncompressedSize": 1342225512,
 "blockWidth": 256,
 "blockHeight": 256,
 "compressionType": "LERC2D",
 "bandNames": [
  "Band_1",
  "Band_2",
  "Band_3"
 ],
 "allowCopy": true,
 "allowAnalysis": true,
 "itemAccess": false,
 "inspectionCapabilities": "",
 "minPixelSize": 0,
 "maxPixelSize": 0,
 "copyrightText": "",
 "serviceDataType": "esriImageServiceDataTypeRGB",
 "serviceSourceType": "esriImageServiceSourceTypeDataset",
 "objectIdField": "",
 "fields": [],
 "capabilities": "Image, Metadata",
 "defaultMosaicMethod": "Center",
 "allowedMosaicMethods": "",
 "sortField": "",
 "sortValue": null,
 "sortAscending": true,
 "mosaicOperator": "First",
 "defaultCompressionQuality": 75,
 "defaultResamplingMethod": "Bilinear",
 "maxImageHeight": 4100,
 "maxImageWidth": 15000,
 "singleFusedMapCache": true,
 "tileInfo": {
  "rows": 256,
  "cols": 256,
  "dpi": 96,
  "format": "LERC2D",
  "compressionQuality": 100000,
  "lercError": 0.1,
  "origin": {
   "x": -409616.40740000084,
   "y": 1618343.6801000002
  },
  "spatialReference": {
   "wkid": 102100,
   "latestWkid": 3857
  },
  "lods": [
   {
    "level": 0,
    "resolution": 31.286638779509705,
    "scale": 118248.4769999325
   },
   {
    "level": 1,
    "resolution": 15.643319389754852,
    "scale": 59124.23849996625
   },
   {
    "level": 2,
    "resolution": 7.821659694877426,
    "scale": 29562.119249983127
   },
   {
    "level": 3,
    "resolution": 3.910829847438713,
    "scale": 14781.059624991563
   },
   {
    "level": 4,
    "resolution": 1.9554149237193565,
    "scale": 7390.529812495782
   },
   {
    "level": 5,
    "resolution": 0.9777074618596783,
    "scale": 3695.264906247891
   },
   {
    "level": 6,
    "resolution": 0.48885373092983914,
    "scale": 1847.6324531239454
   }
  ]
 },
 "storageInfo": {
  "storageFormat": "esriMapCacheStorageModeCompactV2",
  "packetSize": 16
 },
 "cacheType": "Raster",
 "allowRasterFunction": true,
 "rasterFunctionInfos": [
  {
   "name": "None",
   "description": "",
   "help": ""
  }
 ],
 "rasterTypeInfos": [
  {
   "name": "Raster Dataset",
   "description": "Supports all ArcGIS Raster Datasets",
   "help": ""
  }
 ],
 "mensurationCapabilities": "Basic",
 "hasHistograms": true,
 "hasColormap": false,
 "hasRasterAttributeTable": false,
 "minScale": 0,
 "maxScale": 0,
 "exportTilesAllowed": false,
 "supportsStatistics": false,
 "supportsAdvancedQueries": false,
 "editFieldsInfo": null,
 "ownershipBasedAccessControlForRasters": null,
 "allowComputeTiePoints": false,
 "useStandardizedQueries": true,
 "advancedQueryCapabilities": {
  "useStandardizedQueries": true,
  "supportsStatistics": false,
  "supportsOrderBy": false,
  "supportsDistinct": false,
  "supportsPagination": false
 },
 "spatialReference": {
  "wkid": 102100,
  "latestWkid": 3857
 }
}
