{
 "currentVersion": 11.5,
 "serviceDescription": "Hosted/20201110_MLI_0m41_GE01_Dandoli",
 "serviceItemId": "ed85299f6460462a800e685ff1e94143",
 "name": "Hosted/20201110_MLI_0m41_GE01_Dandoli",
 "description": "",
 "extent": {
  "xmin": -396454.99318439676,
  "ymin": 1619038.6521117347,
  "xmax": -392632.92674196156,
  "ymax": 1620787.6689208075,
  "spatialReference": {
   "wkid": 102100,
   "latestWkid": 3857
  }
 },
 "initialExtent": {
  "xmin": -396454.99318439676,
  "ymin": 1619038.6521117347,
  "xmax": -392632.92674196156,
  "ymax": 1620787.6689208075,
  "spatialReference": {
   "wkid": 102100,
   "latestWkid": 3857
  }
 },
 "fullExtent": {
  "xmin": -396454.99318439676,
  "ymin": 1619038.6521117347,
  "xmax": -392632.92674196156,
  "ymax": 1620787.6689208075,
  "spatialReference": {
   "wkid": 102100,
   "latestWkid": 3857
  }
 },
 "sortableFields": "",
 "bandCount": 3,
 "pixelType": "U8",
 "minValues": [
  1,
  1,
  1
 ],
 "maxValues": [
  255,
  255,
  255
 ],
 "meanValues": [
  191.5411444565149,
  171.74225117248247,
  147.86089146082085
 ],
 "stdvValues": [
  33.949632215684126,
  30.371797460817604,
  25.89055265671556
 ],
 "serviceProperties": "Center<\/MosaicMethod>First<\/MosaicOperator>true<\/SortAscending><\/LockImageID><\/TileOrderField>0<\/TileOrderBase>0.000000<\/AvgImageSpacingX>0.000000<\/AvgImageSpacingY>0.0<\/ViewPointX>0.0<\/ViewPointY>0.0<\/ViewPointDefShiftX>0.0<\/ViewPointDefShiftY>None<\/CompressionMethod>75<\/CompressionQuality>0.010000<\/CompressionTolerance>Bilinear<\/SamplingMethod><\/ImageServiceProperties><\/ImageServer>",
 "allowedFields": "",
 "hasMultidimensions": false,
 "pixelSizeX": 0.4224678282784569,
 "pixelSizeY": 0.4224678282784568,
 "meanPixelSize": 0.42246782827845686,
 "datasetFormat": "Cache/LERC2D",
 "uncompressedSize": 112363740,
 "blockWidth": 256,
 "blockHeight": 256,
 "compressionType": "LERC2D",
 "bandNames": [
  "Band_1",
  "Band_2",
  "Band_3"
 ],
 "allowCopy": true,
 "allowAnalysis": true,
 "itemAccess": false,
 "inspectionCapabilities": "",
 "minPixelSize": 0,
 "maxPixelSize": 0,
 "copyrightText": "",
 "serviceDataType": "esriImageServiceDataTypeRGB",
 "serviceSourceType": "esriImageServiceSourceTypeDataset",
 "objectIdField": "",
 "fields": [],
 "capabilities": "Image, Metadata",
 "defaultMosaicMethod": "Center",
 "allowedMosaicMethods": "",
 "sortField": "",
 "sortValue": null,
 "sortAscending": true,
 "mosaicOperator": "First",
 "defaultCompressionQuality": 75,
 "defaultResamplingMethod": "Bilinear",
 "maxImageHeight": 4100,
 "maxImageWidth": 15000,
 "singleFusedMapCache": true,
 "tileInfo": {
  "rows": 256,
  "cols": 256,
  "dpi": 96,
  "format": "LERC2D",
  "compressionQuality": 100000,
  "lercError": 0.1,
  "origin": {
   "x": -396454.99318439676,
   "y": 1620787.6689208075
  },
  "spatialReference": {
   "wkid": 102100,
   "latestWkid": 3857
  },
  "lods": [
   {
    "level": 0,
    "resolution": 13.518970504910618,
    "scale": 51095.21940271978
   },
   {
    "level": 1,
    "resolution": 6.759485252455309,
    "scale": 25547.60970135989
   },
   {
    "level": 2,
    "resolution": 3.3797426262276544,
    "scale": 12773.804850679944
   },
   {
    "level": 3,
    "resolution": 1.6898713131138272,
    "scale": 6386.902425339972
   },
   {
    "level": 4,
    "resolution": 0.8449356565569136,
    "scale": 3193.451212669986
   },
   {
    "level": 5,
    "resolution": 0.4224678282784568,
    "scale": 1596.725606334993
   }
  ]
 },
 "storageInfo": {
  "storageFormat": "esriMapCacheStorageModeCompactV2",
  "packetSize": 16
 },
 "cacheType": "Raster",
 "allowRasterFunction": true,
 "rasterFunctionInfos": [
  {
   "name": "None",
   "description": "",
   "help": ""
  }
 ],
 "rasterTypeInfos": [
  {
   "name": "Raster Dataset",
   "description": "Supports all ArcGIS Raster Datasets",
   "help": ""
  }
 ],
 "mensurationCapabilities": "Basic",
 "hasHistograms": true,
 "hasColormap": false,
 "hasRasterAttributeTable": false,
 "minScale": 0,
 "maxScale": 0,
 "exportTilesAllowed": false,
 "supportsStatistics": false,
 "supportsAdvancedQueries": false,
 "editFieldsInfo": null,
 "ownershipBasedAccessControlForRasters": null,
 "allowComputeTiePoints": false,
 "useStandardizedQueries": true,
 "advancedQueryCapabilities": {
  "useStandardizedQueries": true,
  "supportsStatistics": false,
  "supportsOrderBy": false,
  "supportsDistinct": false,
  "supportsPagination": false
 },
 "spatialReference": {
  "wkid": 102100,
  "latestWkid": 3857
 }
}
