{
 "currentVersion": 11.5,
 "serviceDescription": "Hosted/20201208_BFA_0m50_WV02_Goulgountou",
 "serviceItemId": "40afc651bab24997bd2451ed61ecf07d",
 "name": "Hosted/20201208_BFA_0m50_WV02_Goulgountou",
 "description": "",
 "extent": {
  "xmin": 679.2714999988675,
  "ymin": 1571935.7507657665,
  "xmax": 20038.00924212506,
  "ymax": 1634176.7600999996,
  "spatialReference": {
   "wkid": 102100,
   "latestWkid": 3857
  }
 },
 "initialExtent": {
  "xmin": 679.2714999988675,
  "ymin": 1571935.7507657665,
  "xmax": 20038.00924212506,
  "ymax": 1634176.7600999996,
  "spatialReference": {
   "wkid": 102100,
   "latestWkid": 3857
  }
 },
 "fullExtent": {
  "xmin": 679.2714999988675,
  "ymin": 1571935.7507657665,
  "xmax": 20038.00924212506,
  "ymax": 1634176.7600999996,
  "spatialReference": {
   "wkid": 102100,
   "latestWkid": 3857
  }
 },
 "sortableFields": "",
 "bandCount": 3,
 "pixelType": "U8",
 "minValues": [
  1,
  1,
  1
 ],
 "maxValues": [
  255,
  255,
  255
 ],
 "meanValues": [
  141.92607738193007,
  126.02962357911052,
  97.74054215315907
 ],
 "stdvValues": [
  24.15219754125951,
  20.255953480287715,
  15.567600599614968
 ],
 "serviceProperties": "Center<\/MosaicMethod>First<\/MosaicOperator>true<\/SortAscending><\/LockImageID><\/TileOrderField>0<\/TileOrderBase>0.000000<\/AvgImageSpacingX>0.000000<\/AvgImageSpacingY>0.0<\/ViewPointX>0.0<\/ViewPointY>0.0<\/ViewPointDefShiftX>0.0<\/ViewPointDefShiftY>None<\/CompressionMethod>75<\/CompressionQuality>0.010000<\/CompressionTolerance>Bilinear<\/SamplingMethod><\/ImageServiceProperties><\/ImageServer>",
 "allowedFields": "",
 "hasMultidimensions": false,
 "pixelSizeX": 0.5009377084260885,
 "pixelSizeY": 0.500937708426089,
 "meanPixelSize": 0.5009377084260888,
 "datasetFormat": "Cache/LERC2D",
 "uncompressedSize": 14404691880,
 "blockWidth": 256,
 "blockHeight": 256,
 "compressionType": "LERC2D",
 "bandNames": [
  "Band_1",
  "Band_2",
  "Band_3"
 ],
 "allowCopy": true,
 "allowAnalysis": true,
 "itemAccess": false,
 "inspectionCapabilities": "",
 "minPixelSize": 0,
 "maxPixelSize": 0,
 "copyrightText": "",
 "serviceDataType": "esriImageServiceDataTypeRGB",
 "serviceSourceType": "esriImageServiceSourceTypeDataset",
 "objectIdField": "",
 "fields": [],
 "capabilities": "Image, Metadata",
 "defaultMosaicMethod": "Center",
 "allowedMosaicMethods": "",
 "sortField": "",
 "sortValue": null,
 "sortAscending": true,
 "mosaicOperator": "First",
 "defaultCompressionQuality": 75,
 "defaultResamplingMethod": "Bilinear",
 "maxImageHeight": 4100,
 "maxImageWidth": 15000,
 "singleFusedMapCache": true,
 "tileInfo": {
  "rows": 256,
  "cols": 256,
  "dpi": 96,
  "format": "LERC2D",
  "compressionQuality": 100000,
  "lercError": 0.1,
  "origin": {
   "x": 679.2714999988675,
   "y": 1634176.7600999996
  },
  "spatialReference": {
   "wkid": 102100,
   "latestWkid": 3857
  },
  "lods": [
   {
    "level": 0,
    "resolution": 128.24005335707866,
    "scale": 484685.8464641459
   },
   {
    "level": 1,
    "resolution": 64.12002667853933,
    "scale": 242342.92323207296
   },
   {
    "level": 2,
    "resolution": 32.060013339269666,
    "scale": 121171.46161603648
   },
   {
    "level": 3,
    "resolution": 16.030006669634833,
    "scale": 60585.73080801824
   },
   {
    "level": 4,
    "resolution": 8.015003334817417,
    "scale": 30292.86540400912
   },
   {
    "level": 5,
    "resolution": 4.007501667408708,
    "scale": 15146.43270200456
   },
   {
    "level": 6,
    "resolution": 2.003750833704354,
    "scale": 7573.21635100228
   },
   {
    "level": 7,
    "resolution": 1.001875416852177,
    "scale": 3786.60817550114
   },
   {
    "level": 8,
    "resolution": 0.5009377084260885,
    "scale": 1893.30408775057
   }
  ]
 },
 "storageInfo": {
  "storageFormat": "esriMapCacheStorageModeCompactV2",
  "packetSize": 16
 },
 "cacheType": "Raster",
 "allowRasterFunction": true,
 "rasterFunctionInfos": [
  {
   "name": "None",
   "description": "",
   "help": ""
  }
 ],
 "rasterTypeInfos": [
  {
   "name": "Raster Dataset",
   "description": "Supports all ArcGIS Raster Datasets",
   "help": ""
  }
 ],
 "mensurationCapabilities": "Basic",
 "hasHistograms": true,
 "hasColormap": false,
 "hasRasterAttributeTable": false,
 "minScale": 0,
 "maxScale": 0,
 "exportTilesAllowed": false,
 "supportsStatistics": false,
 "supportsAdvancedQueries": false,
 "editFieldsInfo": null,
 "ownershipBasedAccessControlForRasters": null,
 "allowComputeTiePoints": false,
 "useStandardizedQueries": true,
 "advancedQueryCapabilities": {
  "useStandardizedQueries": true,
  "supportsStatistics": false,
  "supportsOrderBy": false,
  "supportsDistinct": false,
  "supportsPagination": false
 },
 "spatialReference": {
  "wkid": 102100,
  "latestWkid": 3857
 }
}
