{
 "currentVersion": 11.5,
 "serviceDescription": "Hosted/20201215_NER_0m41_GE01_Gorouol2",
 "serviceItemId": "5c5295aebc434490ad206d24c67f2d44",
 "name": "Hosted/20201215_NER_0m41_GE01_Gorouol2",
 "description": "",
 "extent": {
  "xmin": 102702.84629999846,
  "ymin": 1628315.276820573,
  "xmax": 120927.7310420964,
  "ymax": 1807656.6045000004,
  "spatialReference": {
   "wkid": 102100,
   "latestWkid": 3857
  }
 },
 "initialExtent": {
  "xmin": 102702.84629999846,
  "ymin": 1628315.276820573,
  "xmax": 120927.7310420964,
  "ymax": 1807656.6045000004,
  "spatialReference": {
   "wkid": 102100,
   "latestWkid": 3857
  }
 },
 "fullExtent": {
  "xmin": 102702.84629999846,
  "ymin": 1628315.276820573,
  "xmax": 120927.7310420964,
  "ymax": 1807656.6045000004,
  "spatialReference": {
   "wkid": 102100,
   "latestWkid": 3857
  }
 },
 "sortableFields": "",
 "bandCount": 3,
 "pixelType": "U8",
 "minValues": [
  1,
  1,
  1
 ],
 "maxValues": [
  255,
  255,
  255
 ],
 "meanValues": [
  186.18307229385695,
  164.36328562442318,
  150.63334360099714
 ],
 "stdvValues": [
  28.23203098031849,
  24.291734401900946,
  23.827177646642834
 ],
 "serviceProperties": "Center<\/MosaicMethod>First<\/MosaicOperator>true<\/SortAscending><\/LockImageID><\/TileOrderField>0<\/TileOrderBase>0.000000<\/AvgImageSpacingX>0.000000<\/AvgImageSpacingY>0.0<\/ViewPointX>0.0<\/ViewPointY>0.0<\/ViewPointDefShiftX>0.0<\/ViewPointDefShiftY>None<\/CompressionMethod>75<\/CompressionQuality>0.010000<\/CompressionTolerance>Bilinear<\/SamplingMethod><\/ImageServiceProperties><\/ImageServer>",
 "allowedFields": "",
 "hasMultidimensions": false,
 "pixelSizeX": 0.40997176276820857,
 "pixelSizeY": 0.4099717627682087,
 "meanPixelSize": 0.4099717627682086,
 "datasetFormat": "Cache/LERC2D",
 "uncompressedSize": 58338940176,
 "blockWidth": 256,
 "blockHeight": 256,
 "compressionType": "LERC2D",
 "bandNames": [
  "Band_1",
  "Band_2",
  "Band_3"
 ],
 "allowCopy": true,
 "allowAnalysis": true,
 "itemAccess": false,
 "inspectionCapabilities": "",
 "minPixelSize": 0,
 "maxPixelSize": 0,
 "copyrightText": "",
 "serviceDataType": "esriImageServiceDataTypeRGB",
 "serviceSourceType": "esriImageServiceSourceTypeDataset",
 "objectIdField": "",
 "fields": [],
 "capabilities": "Image, Metadata",
 "defaultMosaicMethod": "Center",
 "allowedMosaicMethods": "",
 "sortField": "",
 "sortValue": null,
 "sortAscending": true,
 "mosaicOperator": "First",
 "defaultCompressionQuality": 75,
 "defaultResamplingMethod": "Bilinear",
 "maxImageHeight": 4100,
 "maxImageWidth": 15000,
 "singleFusedMapCache": true,
 "tileInfo": {
  "rows": 256,
  "cols": 256,
  "dpi": 96,
  "format": "LERC2D",
  "compressionQuality": 100000,
  "lercError": 0.1,
  "origin": {
   "x": 102702.84629999846,
   "y": 1807656.6045000004
  },
  "spatialReference": {
   "wkid": 102100,
   "latestWkid": 3857
  },
  "lods": [
   {
    "level": 0,
    "resolution": 104.95277126866142,
    "scale": 396671.09806533117
   },
   {
    "level": 1,
    "resolution": 52.47638563433071,
    "scale": 198335.54903266559
   },
   {
    "level": 2,
    "resolution": 26.238192817165356,
    "scale": 99167.77451633279
   },
   {
    "level": 3,
    "resolution": 13.119096408582678,
    "scale": 49583.887258166396
   },
   {
    "level": 4,
    "resolution": 6.559548204291339,
    "scale": 24791.943629083198
   },
   {
    "level": 5,
    "resolution": 3.2797741021456694,
    "scale": 12395.971814541599
   },
   {
    "level": 6,
    "resolution": 1.6398870510728347,
    "scale": 6197.9859072707995
   },
   {
    "level": 7,
    "resolution": 0.8199435255364174,
    "scale": 3098.9929536353998
   },
   {
    "level": 8,
    "resolution": 0.4099717627682087,
    "scale": 1549.4964768176999
   }
  ]
 },
 "storageInfo": {
  "storageFormat": "esriMapCacheStorageModeCompactV2",
  "packetSize": 16
 },
 "cacheType": "Raster",
 "allowRasterFunction": true,
 "rasterFunctionInfos": [
  {
   "name": "None",
   "description": "",
   "help": ""
  }
 ],
 "rasterTypeInfos": [
  {
   "name": "Raster Dataset",
   "description": "Supports all ArcGIS Raster Datasets",
   "help": ""
  }
 ],
 "mensurationCapabilities": "Basic",
 "hasHistograms": true,
 "hasColormap": false,
 "hasRasterAttributeTable": false,
 "minScale": 0,
 "maxScale": 0,
 "exportTilesAllowed": false,
 "supportsStatistics": false,
 "supportsAdvancedQueries": false,
 "editFieldsInfo": null,
 "ownershipBasedAccessControlForRasters": null,
 "allowComputeTiePoints": false,
 "useStandardizedQueries": true,
 "advancedQueryCapabilities": {
  "useStandardizedQueries": true,
  "supportsStatistics": false,
  "supportsOrderBy": false,
  "supportsDistinct": false,
  "supportsPagination": false
 },
 "spatialReference": {
  "wkid": 102100,
  "latestWkid": 3857
 }
}
