{
 "currentVersion": 11.5,
 "serviceDescription": "Hosted/20210319_NER_0m35_WV03_VNIIR_Boula_Clip",
 "serviceItemId": "b21d126336b94ae9987455d16e026ba6",
 "name": "Hosted/20210319_NER_0m35_WV03_VNIIR_Boula_Clip",
 "description": "",
 "extent": {
  "xmin": 1423302.7126108746,
  "ymin": 1510326.089935374,
  "xmax": 1427124.550285487,
  "ymax": 1512075.0421506872,
  "spatialReference": {
   "wkid": 102100,
   "latestWkid": 3857
  }
 },
 "initialExtent": {
  "xmin": 1423302.7126108746,
  "ymin": 1510326.089935374,
  "xmax": 1427124.550285487,
  "ymax": 1512075.0421506872,
  "spatialReference": {
   "wkid": 102100,
   "latestWkid": 3857
  }
 },
 "fullExtent": {
  "xmin": 1423302.7126108746,
  "ymin": 1510326.089935374,
  "xmax": 1427124.550285487,
  "ymax": 1512075.0421506872,
  "spatialReference": {
   "wkid": 102100,
   "latestWkid": 3857
  }
 },
 "sortableFields": "",
 "bandCount": 3,
 "pixelType": "U8",
 "minValues": [
  2,
  1,
  1
 ],
 "maxValues": [
  255,
  255,
  255
 ],
 "meanValues": [
  143.08480779393147,
  142.8967801735289,
  144.37334445115627
 ],
 "stdvValues": [
  33.521310652690765,
  33.04318738401534,
  31.27834708430525
 ],
 "serviceProperties": "Center<\/MosaicMethod>First<\/MosaicOperator>true<\/SortAscending><\/LockImageID><\/TileOrderField>0<\/TileOrderBase>0.000000<\/AvgImageSpacingX>0.000000<\/AvgImageSpacingY>0.0<\/ViewPointX>0.0<\/ViewPointY>0.0<\/ViewPointDefShiftX>0.0<\/ViewPointDefShiftY>None<\/CompressionMethod>75<\/CompressionQuality>0.010000<\/CompressionTolerance>Bilinear<\/SamplingMethod><\/ImageServiceProperties><\/ImageServer>",
 "allowedFields": "",
 "hasMultidimensions": false,
 "pixelSizeX": 0.35912776495136367,
 "pixelSizeY": 0.35912776495137844,
 "meanPixelSize": 0.35912776495137105,
 "datasetFormat": "Cache/LERC2D",
 "uncompressedSize": 155479620,
 "blockWidth": 256,
 "blockHeight": 256,
 "compressionType": "LERC2D",
 "bandNames": [
  "Band_1",
  "Band_2",
  "Band_3"
 ],
 "allowCopy": true,
 "allowAnalysis": true,
 "itemAccess": false,
 "inspectionCapabilities": "",
 "minPixelSize": 0,
 "maxPixelSize": 0,
 "copyrightText": "",
 "serviceDataType": "esriImageServiceDataTypeRGB",
 "serviceSourceType": "esriImageServiceSourceTypeDataset",
 "objectIdField": "",
 "fields": [],
 "capabilities": "Image, Metadata",
 "defaultMosaicMethod": "Center",
 "allowedMosaicMethods": "",
 "sortField": "",
 "sortValue": null,
 "sortAscending": true,
 "mosaicOperator": "First",
 "defaultCompressionQuality": 75,
 "defaultResamplingMethod": "Bilinear",
 "maxImageHeight": 4100,
 "maxImageWidth": 15000,
 "singleFusedMapCache": true,
 "tileInfo": {
  "rows": 256,
  "cols": 256,
  "dpi": 96,
  "format": "LERC2D",
  "compressionQuality": 100000,
  "lercError": 0.1,
  "origin": {
   "x": 1423302.7126108746,
   "y": 1512075.0421506872
  },
  "spatialReference": {
   "wkid": 102100,
   "latestWkid": 3857
  },
  "lods": [
   {
    "level": 0,
    "resolution": 11.492088478443637,
    "scale": 43434.57824604729
   },
   {
    "level": 1,
    "resolution": 5.746044239221819,
    "scale": 21717.289123023646
   },
   {
    "level": 2,
    "resolution": 2.8730221196109094,
    "scale": 10858.644561511823
   },
   {
    "level": 3,
    "resolution": 1.4365110598054547,
    "scale": 5429.322280755911
   },
   {
    "level": 4,
    "resolution": 0.7182555299027273,
    "scale": 2714.6611403779557
   },
   {
    "level": 5,
    "resolution": 0.35912776495136367,
    "scale": 1357.3305701889778
   }
  ]
 },
 "storageInfo": {
  "storageFormat": "esriMapCacheStorageModeCompactV2",
  "packetSize": 16
 },
 "cacheType": "Raster",
 "allowRasterFunction": true,
 "rasterFunctionInfos": [
  {
   "name": "None",
   "description": "",
   "help": ""
  }
 ],
 "rasterTypeInfos": [
  {
   "name": "Raster Dataset",
   "description": "Supports all ArcGIS Raster Datasets",
   "help": ""
  }
 ],
 "mensurationCapabilities": "Basic",
 "hasHistograms": true,
 "hasColormap": false,
 "hasRasterAttributeTable": false,
 "minScale": 0,
 "maxScale": 0,
 "exportTilesAllowed": false,
 "supportsStatistics": false,
 "supportsAdvancedQueries": false,
 "editFieldsInfo": null,
 "ownershipBasedAccessControlForRasters": null,
 "allowComputeTiePoints": false,
 "useStandardizedQueries": true,
 "advancedQueryCapabilities": {
  "useStandardizedQueries": true,
  "supportsStatistics": false,
  "supportsOrderBy": false,
  "supportsDistinct": false,
  "supportsPagination": false
 },
 "spatialReference": {
  "wkid": 102100,
  "latestWkid": 3857
 }
}
