{
 "currentVersion": 11.4,
 "serviceDescription": "Hosted/20210524_NGA_0m44_GE01_Damasak_Clip",
 "name": "Hosted/20210524_NGA_0m44_GE01_Damasak_Clip",
 "description": "",
 "extent": {
  "xmin": 1383768.1107,
  "ymin": 1467772.7321509263,
  "xmax": 1399055.5832329127,
  "ymax": 1474766.4146000007,
  "spatialReference": {
   "wkid": 102100,
   "latestWkid": 3857
  }
 },
 "initialExtent": {
  "xmin": 1383768.1107,
  "ymin": 1467772.7321509263,
  "xmax": 1399055.5832329127,
  "ymax": 1474766.4146000007,
  "spatialReference": {
   "wkid": 102100,
   "latestWkid": 3857
  }
 },
 "fullExtent": {
  "xmin": 1383768.1107,
  "ymin": 1467772.7321509263,
  "xmax": 1399055.5832329127,
  "ymax": 1474766.4146000007,
  "spatialReference": {
   "wkid": 102100,
   "latestWkid": 3857
  }
 },
 "sortableFields": "",
 "bandCount": 3,
 "pixelType": "U8",
 "minValues": [
  1,
  1,
  1
 ],
 "maxValues": [
  255,
  255,
  255
 ],
 "meanValues": [
  165.18864183150833,
  148.49150527248702,
  130.05212927686114
 ],
 "stdvValues": [
  43.67059296292461,
  37.28647639107514,
  34.57692696465345
 ],
 "hasMultidimensions": false,
 "pixelSizeX": 0.4395225269654598,
 "pixelSizeY": 0.43952252696546396,
 "meanPixelSize": 0.4395225269654619,
 "datasetFormat": "Cache/LERC2D",
 "uncompressedSize": 1660249206,
 "blockWidth": 256,
 "blockHeight": 256,
 "compressionType": "LERC2D",
 "bandNames": [
  "Band_1",
  "Band_2",
  "Band_3"
 ],
 "allowCopy": true,
 "allowAnalysis": true,
 "itemAccess": false,
 "inspectionCapabilities": "",
 "minPixelSize": 0,
 "maxPixelSize": 0,
 "copyrightText": "",
 "serviceDataType": "esriImageServiceDataTypeRGB",
 "serviceSourceType": "esriImageServiceSourceTypeDataset",
 "objectIdField": "",
 "fields": [],
 "capabilities": "Image, Metadata",
 "defaultMosaicMethod": "Center",
 "allowedMosaicMethods": "",
 "sortField": "",
 "sortValue": null,
 "sortAscending": true,
 "mosaicOperator": "First",
 "defaultCompressionQuality": 75,
 "defaultResamplingMethod": "Bilinear",
 "maxImageHeight": 4100,
 "maxImageWidth": 15000,
 "singleFusedMapCache": true,
 "tileInfo": {
  "rows": 256,
  "cols": 256,
  "dpi": 96,
  "format": "LERC2D",
  "compressionQuality": 100000,
  "lercError": 0.1,
  "origin": {
   "x": 1383768.1107,
   "y": 1474766.4146000007
  },
  "spatialReference": {
   "wkid": 102100,
   "latestWkid": 3857
  },
  "lods": [
   {
    "level": 0,
    "resolution": 28.129441725789427,
    "scale": 106315.78759145565
   },
   {
    "level": 1,
    "resolution": 14.064720862894713,
    "scale": 53157.893795727825
   },
   {
    "level": 2,
    "resolution": 7.032360431447357,
    "scale": 26578.946897863912
   },
   {
    "level": 3,
    "resolution": 3.5161802157236783,
    "scale": 13289.473448931956
   },
   {
    "level": 4,
    "resolution": 1.7580901078618392,
    "scale": 6644.736724465978
   },
   {
    "level": 5,
    "resolution": 0.8790450539309196,
    "scale": 3322.368362232989
   },
   {
    "level": 6,
    "resolution": 0.4395225269654598,
    "scale": 1661.1841811164945
   }
  ]
 },
 "storageInfo": {
  "storageFormat": "esriMapCacheStorageModeCompactV2",
  "packetSize": 16
 },
 "cacheType": "Raster",
 "allowRasterFunction": true,
 "rasterFunctionInfos": [
  {
   "name": "None",
   "description": "",
   "help": ""
  }
 ],
 "rasterTypeInfos": [
  {
   "name": "Raster Dataset",
   "description": "Supports all ArcGIS Raster Datasets",
   "help": ""
  }
 ],
 "mensurationCapabilities": "Basic",
 "hasHistograms": true,
 "hasColormap": false,
 "hasRasterAttributeTable": false,
 "minScale": 0,
 "maxScale": 0,
 "exportTilesAllowed": false,
 "supportsStatistics": false,
 "supportsAdvancedQueries": false,
 "editFieldsInfo": null,
 "ownershipBasedAccessControlForRasters": null,
 "allowComputeTiePoints": false,
 "useStandardizedQueries": true,
 "advancedQueryCapabilities": {
  "useStandardizedQueries": true,
  "supportsStatistics": false,
  "supportsOrderBy": false,
  "supportsDistinct": false,
  "supportsPagination": false
 },
 "spatialReference": {
  "wkid": 102100,
  "latestWkid": 3857
 }
}
