{
 "currentVersion": 11.5,
 "serviceDescription": "Hosted/20210623_MLI_0m55_WV02_Bandiagara",
 "serviceItemId": "2b88ea10e9584b57909d9fd73a6fa036",
 "name": "Hosted/20210623_MLI_0m55_WV02_Bandiagara",
 "description": "",
 "extent": {
  "xmin": -409616.2633999996,
  "ymin": 1611349.8878149553,
  "xmax": -394329.1473519605,
  "ymax": 1618343.9801000005,
  "spatialReference": {
   "wkid": 102100,
   "latestWkid": 3857
  }
 },
 "initialExtent": {
  "xmin": -409616.2633999996,
  "ymin": 1611349.8878149553,
  "xmax": -394329.1473519605,
  "ymax": 1618343.9801000005,
  "spatialReference": {
   "wkid": 102100,
   "latestWkid": 3857
  }
 },
 "fullExtent": {
  "xmin": -409616.2633999996,
  "ymin": 1611349.8878149553,
  "xmax": -394329.1473519605,
  "ymax": 1618343.9801000005,
  "spatialReference": {
   "wkid": 102100,
   "latestWkid": 3857
  }
 },
 "sortableFields": "",
 "bandCount": 3,
 "pixelType": "U8",
 "minValues": [
  1,
  1,
  1
 ],
 "maxValues": [
  255,
  255,
  255
 ],
 "meanValues": [
  170.03003976587843,
  151.8950889206632,
  123.48748561631933
 ],
 "stdvValues": [
  32.147362857478335,
  28.68050902774814,
  22.552427329572623
 ],
 "serviceProperties": "Center<\/MosaicMethod>First<\/MosaicOperator>true<\/SortAscending><\/LockImageID><\/TileOrderField>0<\/TileOrderBase>0.000000<\/AvgImageSpacingX>0.000000<\/AvgImageSpacingY>0.0<\/ViewPointX>0.0<\/ViewPointY>0.0<\/ViewPointDefShiftX>0.0<\/ViewPointDefShiftY>None<\/CompressionMethod>75<\/CompressionQuality>0.010000<\/CompressionTolerance>Bilinear<\/SamplingMethod><\/ImageServiceProperties><\/ImageServer>",
 "allowedFields": "",
 "hasMultidimensions": false,
 "pixelSizeX": 0.5009377084260941,
 "pixelSizeY": 0.5009377084260986,
 "meanPixelSize": 0.5009377084260964,
 "datasetFormat": "Cache/LERC2D",
 "uncompressedSize": 1278193176,
 "blockWidth": 256,
 "blockHeight": 256,
 "compressionType": "LERC2D",
 "bandNames": [
  "Band_1",
  "Band_2",
  "Band_3"
 ],
 "allowCopy": true,
 "allowAnalysis": true,
 "itemAccess": false,
 "inspectionCapabilities": "",
 "minPixelSize": 0,
 "maxPixelSize": 0,
 "copyrightText": "",
 "serviceDataType": "esriImageServiceDataTypeRGB",
 "serviceSourceType": "esriImageServiceSourceTypeDataset",
 "objectIdField": "",
 "fields": [],
 "capabilities": "Image, Metadata",
 "defaultMosaicMethod": "Center",
 "allowedMosaicMethods": "",
 "sortField": "",
 "sortValue": null,
 "sortAscending": true,
 "mosaicOperator": "First",
 "defaultCompressionQuality": 75,
 "defaultResamplingMethod": "Bilinear",
 "maxImageHeight": 4100,
 "maxImageWidth": 15000,
 "singleFusedMapCache": true,
 "tileInfo": {
  "rows": 256,
  "cols": 256,
  "dpi": 96,
  "format": "LERC2D",
  "compressionQuality": 100000,
  "lercError": 0.1,
  "origin": {
   "x": -409616.2633999996,
   "y": 1618343.9801000005
  },
  "spatialReference": {
   "wkid": 102100,
   "latestWkid": 3857
  },
  "lods": [
   {
    "level": 0,
    "resolution": 32.06001333927002,
    "scale": 121171.46161603782
   },
   {
    "level": 1,
    "resolution": 16.03000666963501,
    "scale": 60585.73080801891
   },
   {
    "level": 2,
    "resolution": 8.015003334817505,
    "scale": 30292.865404009455
   },
   {
    "level": 3,
    "resolution": 4.007501667408753,
    "scale": 15146.432702004728
   },
   {
    "level": 4,
    "resolution": 2.0037508337043763,
    "scale": 7573.216351002364
   },
   {
    "level": 5,
    "resolution": 1.0018754168521882,
    "scale": 3786.608175501182
   },
   {
    "level": 6,
    "resolution": 0.5009377084260941,
    "scale": 1893.304087750591
   }
  ]
 },
 "storageInfo": {
  "storageFormat": "esriMapCacheStorageModeCompactV2",
  "packetSize": 16
 },
 "cacheType": "Raster",
 "allowRasterFunction": true,
 "rasterFunctionInfos": [
  {
   "name": "None",
   "description": "",
   "help": ""
  }
 ],
 "rasterTypeInfos": [
  {
   "name": "Raster Dataset",
   "description": "Supports all ArcGIS Raster Datasets",
   "help": ""
  }
 ],
 "mensurationCapabilities": "Basic",
 "hasHistograms": true,
 "hasColormap": false,
 "hasRasterAttributeTable": false,
 "minScale": 0,
 "maxScale": 0,
 "exportTilesAllowed": false,
 "supportsStatistics": false,
 "supportsAdvancedQueries": false,
 "editFieldsInfo": null,
 "ownershipBasedAccessControlForRasters": null,
 "allowComputeTiePoints": false,
 "useStandardizedQueries": true,
 "advancedQueryCapabilities": {
  "useStandardizedQueries": true,
  "supportsStatistics": false,
  "supportsOrderBy": false,
  "supportsDistinct": false,
  "supportsPagination": false
 },
 "spatialReference": {
  "wkid": 102100,
  "latestWkid": 3857
 }
}
