{
 "currentVersion": 11.5,
 "serviceDescription": "Hosted/20210823_NER_0m38_WV03_VNIIR_GarinDogo_Clip",
 "serviceItemId": "2d5992362a73400199c95e043b992b65",
 "name": "Hosted/20210823_NER_0m38_WV03_VNIIR_GarinDogo_Clip",
 "description": "",
 "extent": {
  "xmin": 1417715.6860000007,
  "ymin": 1505173.7862183747,
  "xmax": 1425341.9917760093,
  "ymax": 1508671.1340999994,
  "spatialReference": {
   "wkid": 102100,
   "latestWkid": 3857
  }
 },
 "initialExtent": {
  "xmin": 1417715.6860000007,
  "ymin": 1505173.7862183747,
  "xmax": 1425341.9917760093,
  "ymax": 1508671.1340999994,
  "spatialReference": {
   "wkid": 102100,
   "latestWkid": 3857
  }
 },
 "fullExtent": {
  "xmin": 1417715.6860000007,
  "ymin": 1505173.7862183747,
  "xmax": 1425341.9917760093,
  "ymax": 1508671.1340999994,
  "spatialReference": {
   "wkid": 102100,
   "latestWkid": 3857
  }
 },
 "sortableFields": "",
 "bandCount": 3,
 "pixelType": "U8",
 "minValues": [
  1,
  1,
  1
 ],
 "maxValues": [
  255,
  255,
  255
 ],
 "meanValues": [
  138.22525964180073,
  132.78919854658236,
  121.69599202631863
 ],
 "stdvValues": [
  32.44955822087624,
  28.734374649715786,
  28.27101402194067
 ],
 "serviceProperties": "Center<\/MosaicMethod>First<\/MosaicOperator>true<\/SortAscending><\/LockImageID><\/TileOrderField>0<\/TileOrderBase>0.000000<\/AvgImageSpacingX>0.000000<\/AvgImageSpacingY>0.0<\/ViewPointX>0.0<\/ViewPointY>0.0<\/ViewPointDefShiftX>0.0<\/ViewPointDefShiftY>None<\/CompressionMethod>75<\/CompressionQuality>0.010000<\/CompressionTolerance>Bilinear<\/SamplingMethod><\/ImageServiceProperties><\/ImageServer>",
 "allowedFields": "",
 "hasMultidimensions": false,
 "pixelSizeX": 0.38512805656037963,
 "pixelSizeY": 0.3851280565603687,
 "meanPixelSize": 0.3851280565603742,
 "datasetFormat": "Cache/LERC2D",
 "uncompressedSize": 539465886,
 "blockWidth": 256,
 "blockHeight": 256,
 "compressionType": "LERC2D",
 "bandNames": [
  "Band_1",
  "Band_2",
  "Band_3"
 ],
 "allowCopy": true,
 "allowAnalysis": true,
 "itemAccess": false,
 "inspectionCapabilities": "",
 "minPixelSize": 0,
 "maxPixelSize": 0,
 "copyrightText": "",
 "serviceDataType": "esriImageServiceDataTypeRGB",
 "serviceSourceType": "esriImageServiceSourceTypeDataset",
 "objectIdField": "",
 "fields": [],
 "capabilities": "Image, Metadata",
 "defaultMosaicMethod": "Center",
 "allowedMosaicMethods": "",
 "sortField": "",
 "sortValue": null,
 "sortAscending": true,
 "mosaicOperator": "First",
 "defaultCompressionQuality": 75,
 "defaultResamplingMethod": "Bilinear",
 "maxImageHeight": 4100,
 "maxImageWidth": 15000,
 "singleFusedMapCache": true,
 "tileInfo": {
  "rows": 256,
  "cols": 256,
  "dpi": 96,
  "format": "LERC2D",
  "compressionQuality": 100000,
  "lercError": 0.1,
  "origin": {
   "x": 1417715.6860000007,
   "y": 1508671.1340999994
  },
  "spatialReference": {
   "wkid": 102100,
   "latestWkid": 3857
  },
  "lods": [
   {
    "level": 0,
    "resolution": 24.648195619864296,
    "scale": 93158.3483091895
   },
   {
    "level": 1,
    "resolution": 12.324097809932148,
    "scale": 46579.17415459475
   },
   {
    "level": 2,
    "resolution": 6.162048904966074,
    "scale": 23289.587077297376
   },
   {
    "level": 3,
    "resolution": 3.081024452483037,
    "scale": 11644.793538648688
   },
   {
    "level": 4,
    "resolution": 1.5405122262415185,
    "scale": 5822.396769324344
   },
   {
    "level": 5,
    "resolution": 0.7702561131207593,
    "scale": 2911.198384662172
   },
   {
    "level": 6,
    "resolution": 0.38512805656037963,
    "scale": 1455.599192331086
   }
  ]
 },
 "storageInfo": {
  "storageFormat": "esriMapCacheStorageModeCompactV2",
  "packetSize": 16
 },
 "cacheType": "Raster",
 "allowRasterFunction": true,
 "rasterFunctionInfos": [
  {
   "name": "None",
   "description": "",
   "help": ""
  }
 ],
 "rasterTypeInfos": [
  {
   "name": "Raster Dataset",
   "description": "Supports all ArcGIS Raster Datasets",
   "help": ""
  }
 ],
 "mensurationCapabilities": "Basic",
 "hasHistograms": true,
 "hasColormap": false,
 "hasRasterAttributeTable": false,
 "minScale": 0,
 "maxScale": 0,
 "exportTilesAllowed": false,
 "supportsStatistics": false,
 "supportsAdvancedQueries": false,
 "editFieldsInfo": null,
 "ownershipBasedAccessControlForRasters": null,
 "allowComputeTiePoints": false,
 "useStandardizedQueries": true,
 "advancedQueryCapabilities": {
  "useStandardizedQueries": true,
  "supportsStatistics": false,
  "supportsOrderBy": false,
  "supportsDistinct": false,
  "supportsPagination": false
 },
 "spatialReference": {
  "wkid": 102100,
  "latestWkid": 3857
 }
}
