{
 "currentVersion": 11.5,
 "serviceDescription": "Hosted/20210823_UNDP_0m38_WV03_GarinDogo_Niger",
 "serviceItemId": "faea37bb25ba4cc2a06f79ce3ecf7aa3",
 "name": "Hosted/20210823_UNDP_0m38_WV03_GarinDogo_Niger",
 "description": "",
 "extent": {
  "xmin": 1407943.0834,
  "ymin": 1399321.3339589313,
  "xmax": 1425475.8286228532,
  "ymax": 1577724.4730999996,
  "spatialReference": {
   "wkid": 102100,
   "latestWkid": 3857
  }
 },
 "initialExtent": {
  "xmin": 1407943.0834,
  "ymin": 1399321.3339589313,
  "xmax": 1425475.8286228532,
  "ymax": 1577724.4730999996,
  "spatialReference": {
   "wkid": 102100,
   "latestWkid": 3857
  }
 },
 "fullExtent": {
  "xmin": 1407943.0834,
  "ymin": 1399321.3339589313,
  "xmax": 1425475.8286228532,
  "ymax": 1577724.4730999996,
  "spatialReference": {
   "wkid": 102100,
   "latestWkid": 3857
  }
 },
 "sortableFields": "",
 "bandCount": 3,
 "pixelType": "U8",
 "minValues": [
  1,
  1,
  1
 ],
 "maxValues": [
  255,
  255,
  255
 ],
 "meanValues": [
  142.70351808244638,
  138.13103270708964,
  127.1363001848757
 ],
 "stdvValues": [
  37.932265321863476,
  31.169400919549194,
  31.966854270812924
 ],
 "serviceProperties": "Center<\/MosaicMethod>First<\/MosaicOperator>true<\/SortAscending><\/LockImageID><\/TileOrderField>0<\/TileOrderBase>0.000000<\/AvgImageSpacingX>0.000000<\/AvgImageSpacingY>0.0<\/ViewPointX>0.0<\/ViewPointY>0.0<\/ViewPointDefShiftX>0.0<\/ViewPointDefShiftY>None<\/CompressionMethod>75<\/CompressionQuality>0.010000<\/CompressionTolerance>Bilinear<\/SamplingMethod><\/ImageServiceProperties><\/ImageServer>",
 "allowedFields": "",
 "hasMultidimensions": false,
 "pixelSizeX": 0.3799489700477465,
 "pixelSizeY": 0.3799489700477448,
 "meanPixelSize": 0.37994897004774564,
 "datasetFormat": "Cache/LERC2D",
 "uncompressedSize": 65001462075,
 "blockWidth": 256,
 "blockHeight": 256,
 "compressionType": "LERC2D",
 "bandNames": [
  "Band_1",
  "Band_2",
  "Band_3"
 ],
 "allowCopy": true,
 "allowAnalysis": true,
 "itemAccess": false,
 "inspectionCapabilities": "",
 "minPixelSize": 0,
 "maxPixelSize": 0,
 "copyrightText": "",
 "serviceDataType": "esriImageServiceDataTypeRGB",
 "serviceSourceType": "esriImageServiceSourceTypeDataset",
 "objectIdField": "",
 "fields": [],
 "capabilities": "Image, Metadata",
 "defaultMosaicMethod": "Center",
 "allowedMosaicMethods": "",
 "sortField": "",
 "sortValue": null,
 "sortAscending": true,
 "mosaicOperator": "First",
 "defaultCompressionQuality": 75,
 "defaultResamplingMethod": "Bilinear",
 "maxImageHeight": 4100,
 "maxImageWidth": 15000,
 "singleFusedMapCache": true,
 "tileInfo": {
  "rows": 256,
  "cols": 256,
  "dpi": 96,
  "format": "LERC2D",
  "compressionQuality": 100000,
  "lercError": 0.1,
  "origin": {
   "x": 1407943.0834,
   "y": 1577724.4730999996
  },
  "spatialReference": {
   "wkid": 102100,
   "latestWkid": 3857
  },
  "lods": [
   {
    "level": 0,
    "resolution": 97.26693633222267,
    "scale": 367622.3312063622
   },
   {
    "level": 1,
    "resolution": 48.633468166111335,
    "scale": 183811.1656031811
   },
   {
    "level": 2,
    "resolution": 24.316734083055668,
    "scale": 91905.58280159056
   },
   {
    "level": 3,
    "resolution": 12.158367041527834,
    "scale": 45952.79140079528
   },
   {
    "level": 4,
    "resolution": 6.079183520763917,
    "scale": 22976.39570039764
   },
   {
    "level": 5,
    "resolution": 3.0395917603819584,
    "scale": 11488.19785019882
   },
   {
    "level": 6,
    "resolution": 1.5197958801909792,
    "scale": 5744.09892509941
   },
   {
    "level": 7,
    "resolution": 0.7598979400954896,
    "scale": 2872.049462549705
   },
   {
    "level": 8,
    "resolution": 0.3799489700477448,
    "scale": 1436.0247312748525
   }
  ]
 },
 "storageInfo": {
  "storageFormat": "esriMapCacheStorageModeCompactV2",
  "packetSize": 16
 },
 "cacheType": "Raster",
 "allowRasterFunction": true,
 "rasterFunctionInfos": [
  {
   "name": "None",
   "description": "",
   "help": ""
  }
 ],
 "rasterTypeInfos": [
  {
   "name": "Raster Dataset",
   "description": "Supports all ArcGIS Raster Datasets",
   "help": ""
  }
 ],
 "mensurationCapabilities": "Basic",
 "hasHistograms": true,
 "hasColormap": false,
 "hasRasterAttributeTable": false,
 "minScale": 0,
 "maxScale": 0,
 "exportTilesAllowed": false,
 "supportsStatistics": false,
 "supportsAdvancedQueries": false,
 "editFieldsInfo": null,
 "ownershipBasedAccessControlForRasters": null,
 "allowComputeTiePoints": false,
 "useStandardizedQueries": true,
 "advancedQueryCapabilities": {
  "useStandardizedQueries": true,
  "supportsStatistics": false,
  "supportsOrderBy": false,
  "supportsDistinct": false,
  "supportsPagination": false
 },
 "spatialReference": {
  "wkid": 102100,
  "latestWkid": 3857
 }
}
