{
 "currentVersion": 11.5,
 "serviceDescription": "Hosted/20210827_CMR_0m50_WV02_Amchida",
 "serviceItemId": "496eae9333a14e2b856e232fab15d743",
 "name": "Hosted/20210827_CMR_0m50_WV02_Amchida",
 "description": "",
 "extent": {
  "xmin": -0.5,
  "ymin": -869.6287995360326,
  "xmax": 1585848.5607646399,
  "ymax": 1349912.909473043,
  "spatialReference": {
   "wkid": 102100,
   "latestWkid": 3857
  }
 },
 "initialExtent": {
  "xmin": -0.5,
  "ymin": -869.6287995360326,
  "xmax": 1585848.5607646399,
  "ymax": 1349912.909473043,
  "spatialReference": {
   "wkid": 102100,
   "latestWkid": 3857
  }
 },
 "fullExtent": {
  "xmin": -0.5,
  "ymin": -869.6287995360326,
  "xmax": 1585848.5607646399,
  "ymax": 1349912.909473043,
  "spatialReference": {
   "wkid": 102100,
   "latestWkid": 3857
  }
 },
 "sortableFields": "",
 "bandCount": 3,
 "pixelType": "U8",
 "minValues": [
  1,
  1,
  1
 ],
 "maxValues": [
  255,
  255,
  255
 ],
 "meanValues": [
  111.74547087814808,
  126.02555446647787,
  89.51459209036221
 ],
 "stdvValues": [
  33.037944959916516,
  27.566693299635965,
  27.30483381365219
 ],
 "serviceProperties": "Center<\/MosaicMethod>First<\/MosaicOperator>true<\/SortAscending><\/LockImageID><\/TileOrderField>0<\/TileOrderBase>0.000000<\/AvgImageSpacingX>0.000000<\/AvgImageSpacingY>0.0<\/ViewPointX>0.0<\/ViewPointY>0.0<\/ViewPointDefShiftX>0.0<\/ViewPointDefShiftY>None<\/CompressionMethod>75<\/CompressionQuality>0.010000<\/CompressionTolerance>Bilinear<\/SamplingMethod><\/ImageServiceProperties><\/ImageServer>",
 "allowedFields": "",
 "hasMultidimensions": false,
 "pixelSizeX": 0.5009377084260751,
 "pixelSizeY": 0.5009377084260751,
 "meanPixelSize": 0.5009377084260751,
 "datasetFormat": "Cache/LERC2D",
 "uncompressedSize": 25609499587764,
 "blockWidth": 256,
 "blockHeight": 256,
 "compressionType": "LERC2D",
 "bandNames": [
  "Band_1",
  "Band_2",
  "Band_3"
 ],
 "allowCopy": true,
 "allowAnalysis": true,
 "itemAccess": false,
 "inspectionCapabilities": "",
 "minPixelSize": 0,
 "maxPixelSize": 0,
 "copyrightText": "",
 "serviceDataType": "esriImageServiceDataTypeRGB",
 "serviceSourceType": "esriImageServiceSourceTypeDataset",
 "objectIdField": "",
 "fields": [],
 "capabilities": "Image, Metadata",
 "defaultMosaicMethod": "Center",
 "allowedMosaicMethods": "",
 "sortField": "",
 "sortValue": null,
 "sortAscending": true,
 "mosaicOperator": "First",
 "defaultCompressionQuality": 75,
 "defaultResamplingMethod": "Bilinear",
 "maxImageHeight": 4100,
 "maxImageWidth": 15000,
 "singleFusedMapCache": true,
 "tileInfo": {
  "rows": 256,
  "cols": 256,
  "dpi": 96,
  "format": "LERC2D",
  "compressionQuality": 100000,
  "lercError": 0.1,
  "origin": {
   "x": -0.5,
   "y": 1349912.909473043
  },
  "spatialReference": {
   "wkid": 102100,
   "latestWkid": 3857
  },
  "lods": [
   {
    "level": 0,
    "resolution": 8207.363414852814,
    "scale": 3.101989417370451E7
   },
   {
    "level": 1,
    "resolution": 4103.681707426407,
    "scale": 1.5509947086852254E7
   },
   {
    "level": 2,
    "resolution": 2051.8408537132036,
    "scale": 7754973.543426127
   },
   {
    "level": 3,
    "resolution": 1025.9204268566018,
    "scale": 3877486.7717130636
   },
   {
    "level": 4,
    "resolution": 512.9602134283009,
    "scale": 1938743.3858565318
   },
   {
    "level": 5,
    "resolution": 256.48010671415045,
    "scale": 969371.6929282659
   },
   {
    "level": 6,
    "resolution": 128.24005335707523,
    "scale": 484685.84646413295
   },
   {
    "level": 7,
    "resolution": 64.12002667853761,
    "scale": 242342.92323206647
   },
   {
    "level": 8,
    "resolution": 32.06001333926881,
    "scale": 121171.46161603324
   },
   {
    "level": 9,
    "resolution": 16.030006669634403,
    "scale": 60585.73080801662
   },
   {
    "level": 10,
    "resolution": 8.015003334817202,
    "scale": 30292.86540400831
   },
   {
    "level": 11,
    "resolution": 4.007501667408601,
    "scale": 15146.432702004155
   },
   {
    "level": 12,
    "resolution": 2.0037508337043004,
    "scale": 7573.216351002077
   },
   {
    "level": 13,
    "resolution": 1.0018754168521502,
    "scale": 3786.6081755010387
   },
   {
    "level": 14,
    "resolution": 0.5009377084260751,
    "scale": 1893.3040877505193
   }
  ]
 },
 "storageInfo": {
  "storageFormat": "esriMapCacheStorageModeCompactV2",
  "packetSize": 16
 },
 "cacheType": "Raster",
 "allowRasterFunction": true,
 "rasterFunctionInfos": [
  {
   "name": "None",
   "description": "",
   "help": ""
  }
 ],
 "rasterTypeInfos": [
  {
   "name": "Raster Dataset",
   "description": "Supports all ArcGIS Raster Datasets",
   "help": ""
  }
 ],
 "mensurationCapabilities": "Basic",
 "hasHistograms": true,
 "hasColormap": false,
 "hasRasterAttributeTable": false,
 "minScale": 0,
 "maxScale": 0,
 "exportTilesAllowed": false,
 "supportsStatistics": false,
 "supportsAdvancedQueries": false,
 "editFieldsInfo": null,
 "ownershipBasedAccessControlForRasters": null,
 "allowComputeTiePoints": false,
 "useStandardizedQueries": true,
 "advancedQueryCapabilities": {
  "useStandardizedQueries": true,
  "supportsStatistics": false,
  "supportsOrderBy": false,
  "supportsDistinct": false,
  "supportsPagination": false
 },
 "spatialReference": {
  "wkid": 102100,
  "latestWkid": 3857
 }
}
