{
 "currentVersion": 11.5,
 "serviceDescription": "Hosted/20210917_NER_0m50_WV02_NGuigmi2",
 "serviceItemId": "6cfb4b5763bb42d88844eb46d8da0d51",
 "name": "Hosted/20210917_NER_0m50_WV02_NGuigmi2",
 "description": "",
 "extent": {
  "xmin": 1442182.1301999986,
  "ymin": 1586144.3964499326,
  "xmax": 1462002.2315785892,
  "ymax": 1614120.7655999989,
  "spatialReference": {
   "wkid": 102100,
   "latestWkid": 3857
  }
 },
 "initialExtent": {
  "xmin": 1442182.1301999986,
  "ymin": 1586144.3964499326,
  "xmax": 1462002.2315785892,
  "ymax": 1614120.7655999989,
  "spatialReference": {
   "wkid": 102100,
   "latestWkid": 3857
  }
 },
 "fullExtent": {
  "xmin": 1442182.1301999986,
  "ymin": 1586144.3964499326,
  "xmax": 1462002.2315785892,
  "ymax": 1614120.7655999989,
  "spatialReference": {
   "wkid": 102100,
   "latestWkid": 3857
  }
 },
 "sortableFields": "",
 "bandCount": 3,
 "pixelType": "U8",
 "minValues": [
  0,
  0,
  0
 ],
 "maxValues": [
  255,
  255,
  255
 ],
 "meanValues": [
  193.15764890674703,
  192.83000447026998,
  193.75748383318316
 ],
 "stdvValues": [
  47.215974518079186,
  50.253456570257924,
  48.99698135576913
 ],
 "serviceProperties": "Center<\/MosaicMethod>First<\/MosaicOperator>true<\/SortAscending><\/LockImageID><\/TileOrderField>0<\/TileOrderBase>0.000000<\/AvgImageSpacingX>0.000000<\/AvgImageSpacingY>0.0<\/ViewPointX>0.0<\/ViewPointY>0.0<\/ViewPointDefShiftX>0.0<\/ViewPointDefShiftY>None<\/CompressionMethod>75<\/CompressionQuality>0.010000<\/CompressionTolerance>Bilinear<\/SamplingMethod><\/ImageServiceProperties><\/ImageServer>",
 "allowedFields": "",
 "hasMultidimensions": false,
 "pixelSizeX": 0.5009377086031079,
 "pixelSizeY": 0.5009377086031064,
 "meanPixelSize": 0.5009377086031072,
 "datasetFormat": "Cache/LERC2D",
 "uncompressedSize": 6628927206,
 "blockWidth": 256,
 "blockHeight": 256,
 "compressionType": "LERC2D",
 "bandNames": [
  "Band_1",
  "Band_2",
  "Band_3"
 ],
 "allowCopy": true,
 "allowAnalysis": true,
 "itemAccess": false,
 "inspectionCapabilities": "",
 "minPixelSize": 0,
 "maxPixelSize": 0,
 "copyrightText": "",
 "serviceDataType": "esriImageServiceDataTypeRGB",
 "serviceSourceType": "esriImageServiceSourceTypeDataset",
 "objectIdField": "",
 "fields": [],
 "capabilities": "Image, Metadata",
 "defaultMosaicMethod": "Center",
 "allowedMosaicMethods": "",
 "sortField": "",
 "sortValue": null,
 "sortAscending": true,
 "mosaicOperator": "First",
 "defaultCompressionQuality": 75,
 "defaultResamplingMethod": "Bilinear",
 "maxImageHeight": 4100,
 "maxImageWidth": 15000,
 "singleFusedMapCache": true,
 "tileInfo": {
  "rows": 256,
  "cols": 256,
  "dpi": 96,
  "format": "LERC2D",
  "compressionQuality": 100000,
  "lercError": 0.1,
  "origin": {
   "x": 1442182.1301999986,
   "y": 1614120.7655999989
  },
  "spatialReference": {
   "wkid": 102100,
   "latestWkid": 3857
  },
  "lods": [
   {
    "level": 0,
    "resolution": 128.24005340239563,
    "scale": 484685.8466354223
   },
   {
    "level": 1,
    "resolution": 64.12002670119782,
    "scale": 242342.92331771116
   },
   {
    "level": 2,
    "resolution": 32.06001335059891,
    "scale": 121171.46165885558
   },
   {
    "level": 3,
    "resolution": 16.030006675299454,
    "scale": 60585.73082942779
   },
   {
    "level": 4,
    "resolution": 8.015003337649727,
    "scale": 30292.865414713895
   },
   {
    "level": 5,
    "resolution": 4.0075016688248635,
    "scale": 15146.432707356948
   },
   {
    "level": 6,
    "resolution": 2.0037508344124317,
    "scale": 7573.216353678474
   },
   {
    "level": 7,
    "resolution": 1.0018754172062159,
    "scale": 3786.608176839237
   },
   {
    "level": 8,
    "resolution": 0.5009377086031079,
    "scale": 1893.3040884196184
   }
  ]
 },
 "storageInfo": {
  "storageFormat": "esriMapCacheStorageModeCompactV2",
  "packetSize": 16
 },
 "cacheType": "Raster",
 "allowRasterFunction": true,
 "rasterFunctionInfos": [
  {
   "name": "None",
   "description": "",
   "help": ""
  }
 ],
 "rasterTypeInfos": [
  {
   "name": "Raster Dataset",
   "description": "Supports all ArcGIS Raster Datasets",
   "help": ""
  }
 ],
 "mensurationCapabilities": "Basic",
 "hasHistograms": true,
 "hasColormap": false,
 "hasRasterAttributeTable": false,
 "minScale": 0,
 "maxScale": 0,
 "exportTilesAllowed": false,
 "supportsStatistics": false,
 "supportsAdvancedQueries": false,
 "editFieldsInfo": null,
 "ownershipBasedAccessControlForRasters": null,
 "allowComputeTiePoints": false,
 "useStandardizedQueries": true,
 "advancedQueryCapabilities": {
  "useStandardizedQueries": true,
  "supportsStatistics": false,
  "supportsOrderBy": false,
  "supportsDistinct": false,
  "supportsPagination": false
 },
 "spatialReference": {
  "wkid": 102100,
  "latestWkid": 3857
 }
}
