{
 "currentVersion": 11.5,
 "serviceDescription": "Hosted/20211009_NER_0m50_WV02_Bosso_Clip",
 "serviceItemId": "4a895b9930134072806ba05dc39c0790",
 "name": "Hosted/20211009_NER_0m50_WV02_Bosso_Clip",
 "description": "",
 "extent": {
  "xmin": 1458882.8924184623,
  "ymin": 1556897.7467257143,
  "xmax": 1467090.2350318895,
  "ymax": 1563892.0112572708,
  "spatialReference": {
   "wkid": 102100,
   "latestWkid": 3857
  }
 },
 "initialExtent": {
  "xmin": 1458882.8924184623,
  "ymin": 1556897.7467257143,
  "xmax": 1467090.2350318895,
  "ymax": 1563892.0112572708,
  "spatialReference": {
   "wkid": 102100,
   "latestWkid": 3857
  }
 },
 "fullExtent": {
  "xmin": 1458882.8924184623,
  "ymin": 1556897.7467257143,
  "xmax": 1467090.2350318895,
  "ymax": 1563892.0112572708,
  "spatialReference": {
   "wkid": 102100,
   "latestWkid": 3857
  }
 },
 "sortableFields": "",
 "bandCount": 3,
 "pixelType": "U8",
 "minValues": [
  1,
  3,
  5
 ],
 "maxValues": [
  255,
  255,
  255
 ],
 "meanValues": [
  167.51020717923024,
  155.88179786109163,
  147.6426627324367
 ],
 "stdvValues": [
  25.303225744873146,
  24.371753057558163,
  23.16465598343733
 ],
 "serviceProperties": "Center<\/MosaicMethod>First<\/MosaicOperator>true<\/SortAscending><\/LockImageID><\/TileOrderField>0<\/TileOrderBase>0.000000<\/AvgImageSpacingX>0.000000<\/AvgImageSpacingY>0.0<\/ViewPointX>0.0<\/ViewPointY>0.0<\/ViewPointDefShiftX>0.0<\/ViewPointDefShiftY>None<\/CompressionMethod>75<\/CompressionQuality>0.010000<\/CompressionTolerance>Bilinear<\/SamplingMethod><\/ImageServiceProperties><\/ImageServer>",
 "allowedFields": "",
 "hasMultidimensions": false,
 "pixelSizeX": 0.5084149546817321,
 "pixelSizeY": 0.5084149546817269,
 "meanPixelSize": 0.5084149546817296,
 "datasetFormat": "Cache/LERC2D",
 "uncompressedSize": 666196482,
 "blockWidth": 256,
 "blockHeight": 256,
 "compressionType": "LERC2D",
 "bandNames": [
  "Band_1",
  "Band_2",
  "Band_3"
 ],
 "allowCopy": true,
 "allowAnalysis": true,
 "itemAccess": false,
 "inspectionCapabilities": "",
 "minPixelSize": 0,
 "maxPixelSize": 0,
 "copyrightText": "",
 "serviceDataType": "esriImageServiceDataTypeRGB",
 "serviceSourceType": "esriImageServiceSourceTypeDataset",
 "objectIdField": "",
 "fields": [],
 "capabilities": "Image, Metadata",
 "defaultMosaicMethod": "Center",
 "allowedMosaicMethods": "",
 "sortField": "",
 "sortValue": null,
 "sortAscending": true,
 "mosaicOperator": "First",
 "defaultCompressionQuality": 75,
 "defaultResamplingMethod": "Bilinear",
 "maxImageHeight": 4100,
 "maxImageWidth": 15000,
 "singleFusedMapCache": true,
 "tileInfo": {
  "rows": 256,
  "cols": 256,
  "dpi": 96,
  "format": "LERC2D",
  "compressionQuality": 100000,
  "lercError": 0.1,
  "origin": {
   "x": 1458882.8924184623,
   "y": 1563892.0112572708
  },
  "spatialReference": {
   "wkid": 102100,
   "latestWkid": 3857
  },
  "lods": [
   {
    "level": 0,
    "resolution": 32.53855709963086,
    "scale": 122980.12732919681
   },
   {
    "level": 1,
    "resolution": 16.26927854981543,
    "scale": 61490.063664598405
   },
   {
    "level": 2,
    "resolution": 8.134639274907714,
    "scale": 30745.031832299203
   },
   {
    "level": 3,
    "resolution": 4.067319637453857,
    "scale": 15372.515916149601
   },
   {
    "level": 4,
    "resolution": 2.0336598187269286,
    "scale": 7686.257958074801
   },
   {
    "level": 5,
    "resolution": 1.0168299093634643,
    "scale": 3843.1289790374003
   },
   {
    "level": 6,
    "resolution": 0.5084149546817321,
    "scale": 1921.5644895187002
   }
  ]
 },
 "storageInfo": {
  "storageFormat": "esriMapCacheStorageModeCompactV2",
  "packetSize": 16
 },
 "cacheType": "Raster",
 "allowRasterFunction": true,
 "rasterFunctionInfos": [
  {
   "name": "None",
   "description": "",
   "help": ""
  }
 ],
 "rasterTypeInfos": [
  {
   "name": "Raster Dataset",
   "description": "Supports all ArcGIS Raster Datasets",
   "help": ""
  }
 ],
 "mensurationCapabilities": "Basic",
 "hasHistograms": true,
 "hasColormap": false,
 "hasRasterAttributeTable": false,
 "minScale": 0,
 "maxScale": 0,
 "exportTilesAllowed": false,
 "supportsStatistics": false,
 "supportsAdvancedQueries": false,
 "editFieldsInfo": null,
 "ownershipBasedAccessControlForRasters": null,
 "allowComputeTiePoints": false,
 "useStandardizedQueries": true,
 "advancedQueryCapabilities": {
  "useStandardizedQueries": true,
  "supportsStatistics": false,
  "supportsOrderBy": false,
  "supportsDistinct": false,
  "supportsPagination": false
 },
 "spatialReference": {
  "wkid": 102100,
  "latestWkid": 3857
 }
}
