{
 "currentVersion": 11.5,
 "serviceDescription": "Hosted/20211031_CMR_0m37_WV03_VNIR_Mokolo",
 "serviceItemId": "a31b93c5776b4e118b9dd2365e121caf",
 "name": "Hosted/20211031_CMR_0m37_WV03_VNIR_Mokolo",
 "description": "",
 "extent": {
  "xmin": 1524935.8126000017,
  "ymin": 1172974.8564780492,
  "xmax": 1541748.1043682203,
  "ymax": 1234302.6417000003,
  "spatialReference": {
   "wkid": 102100,
   "latestWkid": 3857
  }
 },
 "initialExtent": {
  "xmin": 1524935.8126000017,
  "ymin": 1172974.8564780492,
  "xmax": 1541748.1043682203,
  "ymax": 1234302.6417000003,
  "spatialReference": {
   "wkid": 102100,
   "latestWkid": 3857
  }
 },
 "fullExtent": {
  "xmin": 1524935.8126000017,
  "ymin": 1172974.8564780492,
  "xmax": 1541748.1043682203,
  "ymax": 1234302.6417000003,
  "spatialReference": {
   "wkid": 102100,
   "latestWkid": 3857
  }
 },
 "sortableFields": "",
 "bandCount": 3,
 "pixelType": "U8",
 "minValues": [
  1,
  1,
  1
 ],
 "maxValues": [
  255,
  255,
  255
 ],
 "meanValues": [
  147.28919883586389,
  145.44246113080933,
  149.55328297799082
 ],
 "stdvValues": [
  21.386716107599312,
  21.618577581802633,
  21.945956127195664
 ],
 "serviceProperties": "Center<\/MosaicMethod>First<\/MosaicOperator>true<\/SortAscending><\/LockImageID><\/TileOrderField>0<\/TileOrderBase>0.000000<\/AvgImageSpacingX>0.000000<\/AvgImageSpacingY>0.0<\/ViewPointX>0.0<\/ViewPointY>0.0<\/ViewPointDefShiftX>0.0<\/ViewPointDefShiftY>None<\/CompressionMethod>75<\/CompressionQuality>0.010000<\/CompressionTolerance>Bilinear<\/SamplingMethod><\/ImageServiceProperties><\/ImageServer>",
 "allowedFields": "",
 "hasMultidimensions": false,
 "pixelSizeX": 0.3669444042215471,
 "pixelSizeY": 0.3669444042215453,
 "meanPixelSize": 0.36694440422154617,
 "datasetFormat": "Cache/LERC2D",
 "uncompressedSize": 22972323081,
 "blockWidth": 256,
 "blockHeight": 256,
 "compressionType": "LERC2D",
 "bandNames": [
  "Band_1",
  "Band_2",
  "Band_3"
 ],
 "allowCopy": true,
 "allowAnalysis": true,
 "itemAccess": false,
 "inspectionCapabilities": "",
 "minPixelSize": 0,
 "maxPixelSize": 0,
 "copyrightText": "",
 "serviceDataType": "esriImageServiceDataTypeRGB",
 "serviceSourceType": "esriImageServiceSourceTypeDataset",
 "objectIdField": "",
 "fields": [],
 "capabilities": "Image, Metadata",
 "defaultMosaicMethod": "Center",
 "allowedMosaicMethods": "",
 "sortField": "",
 "sortValue": null,
 "sortAscending": true,
 "mosaicOperator": "First",
 "defaultCompressionQuality": 75,
 "defaultResamplingMethod": "Bilinear",
 "maxImageHeight": 4100,
 "maxImageWidth": 15000,
 "singleFusedMapCache": true,
 "tileInfo": {
  "rows": 256,
  "cols": 256,
  "dpi": 96,
  "format": "LERC2D",
  "compressionQuality": 100000,
  "lercError": 0.1,
  "origin": {
   "x": 1524935.8126000017,
   "y": 1234302.6417000003
  },
  "spatialReference": {
   "wkid": 102100,
   "latestWkid": 3857
  },
  "lods": [
   {
    "level": 0,
    "resolution": 93.93776748071559,
    "scale": 355039.6709487142
   },
   {
    "level": 1,
    "resolution": 46.968883740357796,
    "scale": 177519.8354743571
   },
   {
    "level": 2,
    "resolution": 23.484441870178898,
    "scale": 88759.91773717855
   },
   {
    "level": 3,
    "resolution": 11.742220935089449,
    "scale": 44379.958868589274
   },
   {
    "level": 4,
    "resolution": 5.8711104675447245,
    "scale": 22189.979434294637
   },
   {
    "level": 5,
    "resolution": 2.9355552337723623,
    "scale": 11094.989717147319
   },
   {
    "level": 6,
    "resolution": 1.4677776168861811,
    "scale": 5547.494858573659
   },
   {
    "level": 7,
    "resolution": 0.7338888084430906,
    "scale": 2773.7474292868296
   },
   {
    "level": 8,
    "resolution": 0.3669444042215453,
    "scale": 1386.8737146434148
   }
  ]
 },
 "storageInfo": {
  "storageFormat": "esriMapCacheStorageModeCompactV2",
  "packetSize": 16
 },
 "cacheType": "Raster",
 "allowRasterFunction": true,
 "rasterFunctionInfos": [
  {
   "name": "None",
   "description": "",
   "help": ""
  }
 ],
 "rasterTypeInfos": [
  {
   "name": "Raster Dataset",
   "description": "Supports all ArcGIS Raster Datasets",
   "help": ""
  }
 ],
 "mensurationCapabilities": "Basic",
 "hasHistograms": true,
 "hasColormap": false,
 "hasRasterAttributeTable": false,
 "minScale": 0,
 "maxScale": 0,
 "exportTilesAllowed": false,
 "supportsStatistics": false,
 "supportsAdvancedQueries": false,
 "editFieldsInfo": null,
 "ownershipBasedAccessControlForRasters": null,
 "allowComputeTiePoints": false,
 "useStandardizedQueries": true,
 "advancedQueryCapabilities": {
  "useStandardizedQueries": true,
  "supportsStatistics": false,
  "supportsOrderBy": false,
  "supportsDistinct": false,
  "supportsPagination": false
 },
 "spatialReference": {
  "wkid": 102100,
  "latestWkid": 3857
 }
}
