{
 "currentVersion": 11.5,
 "serviceDescription": "Hosted/20211105_MLI_0m35_WV03_VNIIR_Dourou2",
 "serviceItemId": "4650ad0ccadc4e558275dea176acbc00",
 "name": "Hosted/20211105_MLI_0m35_WV03_VNIIR_Dourou2",
 "description": "",
 "extent": {
  "xmin": -384916.20329999924,
  "ymin": 1577962.6921828536,
  "xmax": -369425.8249403228,
  "ymax": 1692344.8961000005,
  "spatialReference": {
   "wkid": 102100,
   "latestWkid": 3857
  }
 },
 "initialExtent": {
  "xmin": -384916.20329999924,
  "ymin": 1577962.6921828536,
  "xmax": -369425.8249403228,
  "ymax": 1692344.8961000005,
  "spatialReference": {
   "wkid": 102100,
   "latestWkid": 3857
  }
 },
 "fullExtent": {
  "xmin": -384916.20329999924,
  "ymin": 1577962.6921828536,
  "xmax": -369425.8249403228,
  "ymax": 1692344.8961000005,
  "spatialReference": {
   "wkid": 102100,
   "latestWkid": 3857
  }
 },
 "sortableFields": "",
 "bandCount": 1,
 "pixelType": "U8",
 "minValues": [
  1
 ],
 "maxValues": [
  255
 ],
 "meanValues": [
  153.50513098570408
 ],
 "stdvValues": [
  44.735568535858974
 ],
 "serviceProperties": "Center<\/MosaicMethod>First<\/MosaicOperator>true<\/SortAscending><\/LockImageID><\/TileOrderField>0<\/TileOrderBase>0.000000<\/AvgImageSpacingX>0.000000<\/AvgImageSpacingY>0.0<\/ViewPointX>0.0<\/ViewPointY>0.0<\/ViewPointDefShiftX>0.0<\/ViewPointDefShiftY>None<\/CompressionMethod>75<\/CompressionQuality>0.010000<\/CompressionTolerance>Bilinear<\/SamplingMethod><\/ImageServiceProperties><\/ImageServer>",
 "allowedFields": "",
 "hasMultidimensions": false,
 "pixelSizeX": 0.3495831364599412,
 "pixelSizeY": 0.3495831364599411,
 "meanPixelSize": 0.34958313645994116,
 "datasetFormat": "Cache/LERC2D",
 "uncompressedSize": 14498381956,
 "blockWidth": 256,
 "blockHeight": 256,
 "compressionType": "LERC2D",
 "bandNames": [
  "Band_1"
 ],
 "allowCopy": true,
 "allowAnalysis": true,
 "itemAccess": false,
 "inspectionCapabilities": "",
 "minPixelSize": 0,
 "maxPixelSize": 0,
 "copyrightText": "",
 "serviceDataType": "esriImageServiceDataTypeGeneric",
 "serviceSourceType": "esriImageServiceSourceTypeDataset",
 "objectIdField": "",
 "fields": [],
 "capabilities": "Image, Metadata",
 "defaultMosaicMethod": "Center",
 "allowedMosaicMethods": "",
 "sortField": "",
 "sortValue": null,
 "sortAscending": true,
 "mosaicOperator": "First",
 "defaultCompressionQuality": 75,
 "defaultResamplingMethod": "Bilinear",
 "maxImageHeight": 4100,
 "maxImageWidth": 15000,
 "singleFusedMapCache": true,
 "tileInfo": {
  "rows": 256,
  "cols": 256,
  "dpi": 96,
  "format": "LERC2D",
  "compressionQuality": 100000,
  "lercError": 0.1,
  "origin": {
   "x": -384916.20329999924,
   "y": 1692344.8961000005
  },
  "spatialReference": {
   "wkid": 102100,
   "latestWkid": 3857
  },
  "lods": [
   {
    "level": 0,
    "resolution": 89.49328293374495,
    "scale": 338241.6527137477
   },
   {
    "level": 1,
    "resolution": 44.746641466872475,
    "scale": 169120.82635687385
   },
   {
    "level": 2,
    "resolution": 22.373320733436238,
    "scale": 84560.41317843692
   },
   {
    "level": 3,
    "resolution": 11.186660366718119,
    "scale": 42280.20658921846
   },
   {
    "level": 4,
    "resolution": 5.593330183359059,
    "scale": 21140.10329460923
   },
   {
    "level": 5,
    "resolution": 2.7966650916795297,
    "scale": 10570.051647304615
   },
   {
    "level": 6,
    "resolution": 1.3983325458397649,
    "scale": 5285.025823652308
   },
   {
    "level": 7,
    "resolution": 0.6991662729198824,
    "scale": 2642.512911826154
   },
   {
    "level": 8,
    "resolution": 0.3495831364599412,
    "scale": 1321.256455913077
   }
  ]
 },
 "storageInfo": {
  "storageFormat": "esriMapCacheStorageModeCompactV2",
  "packetSize": 16
 },
 "cacheType": "Raster",
 "allowRasterFunction": true,
 "rasterFunctionInfos": [
  {
   "name": "None",
   "description": "",
   "help": ""
  }
 ],
 "rasterTypeInfos": [
  {
   "name": "Raster Dataset",
   "description": "Supports all ArcGIS Raster Datasets",
   "help": ""
  }
 ],
 "mensurationCapabilities": "Basic",
 "hasHistograms": true,
 "hasColormap": false,
 "hasRasterAttributeTable": false,
 "minScale": 0,
 "maxScale": 0,
 "exportTilesAllowed": false,
 "supportsStatistics": false,
 "supportsAdvancedQueries": false,
 "editFieldsInfo": null,
 "ownershipBasedAccessControlForRasters": null,
 "allowComputeTiePoints": false,
 "useStandardizedQueries": true,
 "advancedQueryCapabilities": {
  "useStandardizedQueries": true,
  "supportsStatistics": false,
  "supportsOrderBy": false,
  "supportsDistinct": false,
  "supportsPagination": false
 },
 "spatialReference": {
  "wkid": 102100,
  "latestWkid": 3857
 }
}
