{
 "currentVersion": 11.5,
 "serviceDescription": "Hosted/20211109_BFA_0m48_WV02_Goulgountou",
 "serviceItemId": "e27540faef8d43459515f90238516638",
 "name": "Hosted/20211109_BFA_0m48_WV02_Goulgountou",
 "description": "",
 "extent": {
  "xmin": 866.4723000004888,
  "ymin": 1605112.4225556885,
  "xmax": 18539.817773053357,
  "ymax": 1619828.5229999996,
  "spatialReference": {
   "wkid": 102100,
   "latestWkid": 3857
  }
 },
 "initialExtent": {
  "xmin": 866.4723000004888,
  "ymin": 1605112.4225556885,
  "xmax": 18539.817773053357,
  "ymax": 1619828.5229999996,
  "spatialReference": {
   "wkid": 102100,
   "latestWkid": 3857
  }
 },
 "fullExtent": {
  "xmin": 866.4723000004888,
  "ymin": 1605112.4225556885,
  "xmax": 18539.817773053357,
  "ymax": 1619828.5229999996,
  "spatialReference": {
   "wkid": 102100,
   "latestWkid": 3857
  }
 },
 "sortableFields": "",
 "bandCount": 3,
 "pixelType": "U8",
 "minValues": [
  1,
  1,
  1
 ],
 "maxValues": [
  255,
  255,
  255
 ],
 "meanValues": [
  185.69289809863957,
  147.39556570234626,
  117.89639962259739
 ],
 "stdvValues": [
  38.44525238101147,
  31.63174476353799,
  26.85692300742724
 ],
 "serviceProperties": "Center<\/MosaicMethod>First<\/MosaicOperator>true<\/SortAscending><\/LockImageID><\/TileOrderField>0<\/TileOrderBase>0.000000<\/AvgImageSpacingX>0.000000<\/AvgImageSpacingY>0.0<\/ViewPointX>0.0<\/ViewPointY>0.0<\/ViewPointDefShiftX>0.0<\/ViewPointDefShiftY>None<\/CompressionMethod>75<\/CompressionQuality>0.010000<\/CompressionTolerance>Bilinear<\/SamplingMethod><\/ImageServiceProperties><\/ImageServer>",
 "allowedFields": "",
 "hasMultidimensions": false,
 "pixelSizeX": 0.48030616026342177,
 "pixelSizeY": 0.4803061602634238,
 "meanPixelSize": 0.48030616026342277,
 "datasetFormat": "Cache/LERC2D",
 "uncompressedSize": 3382177932,
 "blockWidth": 256,
 "blockHeight": 256,
 "compressionType": "LERC2D",
 "bandNames": [
  "Band_1",
  "Band_2",
  "Band_3"
 ],
 "allowCopy": true,
 "allowAnalysis": true,
 "itemAccess": false,
 "inspectionCapabilities": "",
 "minPixelSize": 0,
 "maxPixelSize": 0,
 "copyrightText": "",
 "serviceDataType": "esriImageServiceDataTypeRGB",
 "serviceSourceType": "esriImageServiceSourceTypeDataset",
 "objectIdField": "",
 "fields": [],
 "capabilities": "Image, Metadata",
 "defaultMosaicMethod": "Center",
 "allowedMosaicMethods": "",
 "sortField": "",
 "sortValue": null,
 "sortAscending": true,
 "mosaicOperator": "First",
 "defaultCompressionQuality": 75,
 "defaultResamplingMethod": "Bilinear",
 "maxImageHeight": 4100,
 "maxImageWidth": 15000,
 "singleFusedMapCache": true,
 "tileInfo": {
  "rows": 256,
  "cols": 256,
  "dpi": 96,
  "format": "LERC2D",
  "compressionQuality": 100000,
  "lercError": 0.1,
  "origin": {
   "x": 866.4723000004888,
   "y": 1619828.5229999996
  },
  "spatialReference": {
   "wkid": 102100,
   "latestWkid": 3857
  },
  "lods": [
   {
    "level": 0,
    "resolution": 61.479188513717986,
    "scale": 232361.82257136737
   },
   {
    "level": 1,
    "resolution": 30.739594256858993,
    "scale": 116180.91128568369
   },
   {
    "level": 2,
    "resolution": 15.369797128429497,
    "scale": 58090.455642841844
   },
   {
    "level": 3,
    "resolution": 7.684898564214748,
    "scale": 29045.227821420922
   },
   {
    "level": 4,
    "resolution": 3.842449282107374,
    "scale": 14522.613910710461
   },
   {
    "level": 5,
    "resolution": 1.921224641053687,
    "scale": 7261.3069553552305
   },
   {
    "level": 6,
    "resolution": 0.9606123205268435,
    "scale": 3630.6534776776152
   },
   {
    "level": 7,
    "resolution": 0.48030616026342177,
    "scale": 1815.3267388388076
   }
  ]
 },
 "storageInfo": {
  "storageFormat": "esriMapCacheStorageModeCompactV2",
  "packetSize": 16
 },
 "cacheType": "Raster",
 "allowRasterFunction": true,
 "rasterFunctionInfos": [
  {
   "name": "None",
   "description": "",
   "help": ""
  }
 ],
 "rasterTypeInfos": [
  {
   "name": "Raster Dataset",
   "description": "Supports all ArcGIS Raster Datasets",
   "help": ""
  }
 ],
 "mensurationCapabilities": "Basic",
 "hasHistograms": true,
 "hasColormap": false,
 "hasRasterAttributeTable": false,
 "minScale": 0,
 "maxScale": 0,
 "exportTilesAllowed": false,
 "supportsStatistics": false,
 "supportsAdvancedQueries": false,
 "editFieldsInfo": null,
 "ownershipBasedAccessControlForRasters": null,
 "allowComputeTiePoints": false,
 "useStandardizedQueries": true,
 "advancedQueryCapabilities": {
  "useStandardizedQueries": true,
  "supportsStatistics": false,
  "supportsOrderBy": false,
  "supportsDistinct": false,
  "supportsPagination": false
 },
 "spatialReference": {
  "wkid": 102100,
  "latestWkid": 3857
 }
}
