{
 "currentVersion": 11.5,
 "serviceDescription": "Hosted/20211230_UNDP_0m57_WV02_Nagla_Nigeria",
 "serviceItemId": "4ec9dac12561431c8ea87def80bde181",
 "name": "Hosted/20211230_UNDP_0m57_WV02_Nagla_Nigeria",
 "description": "",
 "extent": {
  "xmin": 1568169.4666999988,
  "ymin": 1367358.4692849761,
  "xmax": 1590370.5249997347,
  "ymax": 1404617.7151000001,
  "spatialReference": {
   "wkid": 102100,
   "latestWkid": 3857
  }
 },
 "initialExtent": {
  "xmin": 1568169.4666999988,
  "ymin": 1367358.4692849761,
  "xmax": 1590370.5249997347,
  "ymax": 1404617.7151000001,
  "spatialReference": {
   "wkid": 102100,
   "latestWkid": 3857
  }
 },
 "fullExtent": {
  "xmin": 1568169.4666999988,
  "ymin": 1367358.4692849761,
  "xmax": 1590370.5249997347,
  "ymax": 1404617.7151000001,
  "spatialReference": {
   "wkid": 102100,
   "latestWkid": 3857
  }
 },
 "sortableFields": "",
 "bandCount": 3,
 "pixelType": "U8",
 "minValues": [
  1,
  1,
  1
 ],
 "maxValues": [
  255,
  255,
  255
 ],
 "meanValues": [
  156.1322844535308,
  137.8822142215826,
  116.72892650513519
 ],
 "stdvValues": [
  27.810754544002634,
  24.96215303879585,
  21.62240121410291
 ],
 "serviceProperties": "Center<\/MosaicMethod>First<\/MosaicOperator>true<\/SortAscending><\/LockImageID><\/TileOrderField>0<\/TileOrderBase>0.000000<\/AvgImageSpacingX>0.000000<\/AvgImageSpacingY>0.0<\/ViewPointX>0.0<\/ViewPointY>0.0<\/ViewPointDefShiftX>0.0<\/ViewPointDefShiftY>None<\/CompressionMethod>75<\/CompressionQuality>0.010000<\/CompressionTolerance>Bilinear<\/SamplingMethod><\/ImageServiceProperties><\/ImageServer>",
 "allowedFields": "",
 "hasMultidimensions": false,
 "pixelSizeX": 0.5009377084260901,
 "pixelSizeY": 0.5009377084260882,
 "meanPixelSize": 0.5009377084260891,
 "datasetFormat": "Cache/LERC2D",
 "uncompressedSize": 9889208703,
 "blockWidth": 256,
 "blockHeight": 256,
 "compressionType": "LERC2D",
 "bandNames": [
  "Band_1",
  "Band_2",
  "Band_3"
 ],
 "allowCopy": true,
 "allowAnalysis": true,
 "itemAccess": false,
 "inspectionCapabilities": "",
 "minPixelSize": 0,
 "maxPixelSize": 0,
 "copyrightText": "",
 "serviceDataType": "esriImageServiceDataTypeRGB",
 "serviceSourceType": "esriImageServiceSourceTypeDataset",
 "objectIdField": "",
 "fields": [],
 "capabilities": "Image, Metadata",
 "defaultMosaicMethod": "Center",
 "allowedMosaicMethods": "",
 "sortField": "",
 "sortValue": null,
 "sortAscending": true,
 "mosaicOperator": "First",
 "defaultCompressionQuality": 75,
 "defaultResamplingMethod": "Bilinear",
 "maxImageHeight": 4100,
 "maxImageWidth": 15000,
 "singleFusedMapCache": true,
 "tileInfo": {
  "rows": 256,
  "cols": 256,
  "dpi": 96,
  "format": "LERC2D",
  "compressionQuality": 100000,
  "lercError": 0.1,
  "origin": {
   "x": 1568169.4666999988,
   "y": 1404617.7151000001
  },
  "spatialReference": {
   "wkid": 102100,
   "latestWkid": 3857
  },
  "lods": [
   {
    "level": 0,
    "resolution": 128.24005335707858,
    "scale": 484685.8464641456
   },
   {
    "level": 1,
    "resolution": 64.12002667853929,
    "scale": 242342.9232320728
   },
   {
    "level": 2,
    "resolution": 32.060013339269645,
    "scale": 121171.4616160364
   },
   {
    "level": 3,
    "resolution": 16.030006669634822,
    "scale": 60585.7308080182
   },
   {
    "level": 4,
    "resolution": 8.015003334817411,
    "scale": 30292.8654040091
   },
   {
    "level": 5,
    "resolution": 4.007501667408706,
    "scale": 15146.43270200455
   },
   {
    "level": 6,
    "resolution": 2.003750833704353,
    "scale": 7573.216351002275
   },
   {
    "level": 7,
    "resolution": 1.0018754168521764,
    "scale": 3786.6081755011373
   },
   {
    "level": 8,
    "resolution": 0.5009377084260882,
    "scale": 1893.3040877505687
   }
  ]
 },
 "storageInfo": {
  "storageFormat": "esriMapCacheStorageModeCompactV2",
  "packetSize": 16
 },
 "cacheType": "Raster",
 "allowRasterFunction": true,
 "rasterFunctionInfos": [
  {
   "name": "None",
   "description": "",
   "help": ""
  }
 ],
 "rasterTypeInfos": [
  {
   "name": "Raster Dataset",
   "description": "Supports all ArcGIS Raster Datasets",
   "help": ""
  }
 ],
 "mensurationCapabilities": "Basic",
 "hasHistograms": true,
 "hasColormap": false,
 "hasRasterAttributeTable": false,
 "minScale": 0,
 "maxScale": 0,
 "exportTilesAllowed": false,
 "supportsStatistics": false,
 "supportsAdvancedQueries": false,
 "editFieldsInfo": null,
 "ownershipBasedAccessControlForRasters": null,
 "allowComputeTiePoints": false,
 "useStandardizedQueries": true,
 "advancedQueryCapabilities": {
  "useStandardizedQueries": true,
  "supportsStatistics": false,
  "supportsOrderBy": false,
  "supportsDistinct": false,
  "supportsPagination": false
 },
 "spatialReference": {
  "wkid": 102100,
  "latestWkid": 3857
 }
}
