{
 "currentVersion": 11.5,
 "serviceDescription": "Hosted/20220122_0m38_WV03_VNIR_Kablewa_Clip",
 "serviceItemId": "bce9da5935354ba8bd25efd4e3d7038e",
 "name": "Hosted/20220122_0m38_WV03_VNIR_Kablewa_Clip",
 "description": "",
 "extent": {
  "xmin": 1437140.0102999993,
  "ymin": 1567866.6380261627,
  "xmax": 1451701.498703965,
  "ymax": 1574860.8160000003,
  "spatialReference": {
   "wkid": 102100,
   "latestWkid": 3857
  }
 },
 "initialExtent": {
  "xmin": 1437140.0102999993,
  "ymin": 1567866.6380261627,
  "xmax": 1451701.498703965,
  "ymax": 1574860.8160000003,
  "spatialReference": {
   "wkid": 102100,
   "latestWkid": 3857
  }
 },
 "fullExtent": {
  "xmin": 1437140.0102999993,
  "ymin": 1567866.6380261627,
  "xmax": 1451701.498703965,
  "ymax": 1574860.8160000003,
  "spatialReference": {
   "wkid": 102100,
   "latestWkid": 3857
  }
 },
 "sortableFields": "",
 "bandCount": 3,
 "pixelType": "U8",
 "minValues": [
  1,
  1,
  1
 ],
 "maxValues": [
  255,
  255,
  255
 ],
 "meanValues": [
  165.99722221872833,
  155.69125838355765,
  136.27648690689466
 ],
 "stdvValues": [
  22.3407626065926,
  21.05916937275146,
  18.36609759839435
 ],
 "serviceProperties": "Center<\/MosaicMethod>First<\/MosaicOperator>true<\/SortAscending><\/LockImageID><\/TileOrderField>0<\/TileOrderBase>0.000000<\/AvgImageSpacingX>0.000000<\/AvgImageSpacingY>0.0<\/ViewPointX>0.0<\/ViewPointY>0.0<\/ViewPointDefShiftX>0.0<\/ViewPointDefShiftY>None<\/CompressionMethod>75<\/CompressionQuality>0.010000<\/CompressionTolerance>Bilinear<\/SamplingMethod><\/ImageServiceProperties><\/ImageServer>",
 "allowedFields": "",
 "hasMultidimensions": false,
 "pixelSizeX": 0.37730905614919075,
 "pixelSizeY": 0.3773090561491931,
 "meanPixelSize": 0.3773090561491919,
 "datasetFormat": "Cache/LERC2D",
 "uncompressedSize": 2146195323,
 "blockWidth": 256,
 "blockHeight": 256,
 "compressionType": "LERC2D",
 "bandNames": [
  "Band_1",
  "Band_2",
  "Band_3"
 ],
 "allowCopy": true,
 "allowAnalysis": true,
 "itemAccess": false,
 "inspectionCapabilities": "",
 "minPixelSize": 0,
 "maxPixelSize": 0,
 "copyrightText": "",
 "serviceDataType": "esriImageServiceDataTypeRGB",
 "serviceSourceType": "esriImageServiceSourceTypeDataset",
 "objectIdField": "",
 "fields": [],
 "capabilities": "Image, Metadata",
 "defaultMosaicMethod": "Center",
 "allowedMosaicMethods": "",
 "sortField": "",
 "sortValue": null,
 "sortAscending": true,
 "mosaicOperator": "First",
 "defaultCompressionQuality": 75,
 "defaultResamplingMethod": "Bilinear",
 "maxImageHeight": 4100,
 "maxImageWidth": 15000,
 "singleFusedMapCache": true,
 "tileInfo": {
  "rows": 256,
  "cols": 256,
  "dpi": 96,
  "format": "LERC2D",
  "compressionQuality": 100000,
  "lercError": 0.1,
  "origin": {
   "x": 1437140.0102999993,
   "y": 1574860.8160000003
  },
  "spatialReference": {
   "wkid": 102100,
   "latestWkid": 3857
  },
  "lods": [
   {
    "level": 0,
    "resolution": 48.295559187096416,
    "scale": 182534.03185881465
   },
   {
    "level": 1,
    "resolution": 24.147779593548208,
    "scale": 91267.01592940732
   },
   {
    "level": 2,
    "resolution": 12.073889796774104,
    "scale": 45633.50796470366
   },
   {
    "level": 3,
    "resolution": 6.036944898387052,
    "scale": 22816.75398235183
   },
   {
    "level": 4,
    "resolution": 3.018472449193526,
    "scale": 11408.376991175915
   },
   {
    "level": 5,
    "resolution": 1.509236224596763,
    "scale": 5704.188495587958
   },
   {
    "level": 6,
    "resolution": 0.7546181122983815,
    "scale": 2852.094247793979
   },
   {
    "level": 7,
    "resolution": 0.37730905614919075,
    "scale": 1426.0471238969894
   }
  ]
 },
 "storageInfo": {
  "storageFormat": "esriMapCacheStorageModeCompactV2",
  "packetSize": 16
 },
 "cacheType": "Raster",
 "allowRasterFunction": true,
 "rasterFunctionInfos": [
  {
   "name": "None",
   "description": "",
   "help": ""
  }
 ],
 "rasterTypeInfos": [
  {
   "name": "Raster Dataset",
   "description": "Supports all ArcGIS Raster Datasets",
   "help": ""
  }
 ],
 "mensurationCapabilities": "Basic",
 "hasHistograms": true,
 "hasColormap": false,
 "hasRasterAttributeTable": false,
 "minScale": 0,
 "maxScale": 0,
 "exportTilesAllowed": false,
 "supportsStatistics": false,
 "supportsAdvancedQueries": false,
 "editFieldsInfo": null,
 "ownershipBasedAccessControlForRasters": null,
 "allowComputeTiePoints": false,
 "useStandardizedQueries": true,
 "advancedQueryCapabilities": {
  "useStandardizedQueries": true,
  "supportsStatistics": false,
  "supportsOrderBy": false,
  "supportsDistinct": false,
  "supportsPagination": false
 },
 "spatialReference": {
  "wkid": 102100,
  "latestWkid": 3857
 }
}
